Workbook

Sheet 871.00
M2: Форма 871.00
B4: РЕЕСТР ДОГОВОРОВ АРЕНДЫ (ПОЛЬЗОВАНИЯ)
B6: Раздел. Общая информация о налогоплательщике
A8: 1 | B8: БИН | C8: 111111111111
A10: 2 | B10: Налоговый период, за который предоставляется налоговая отчетность: год | K10: 2023
A12: 3 | B12: Ф.И.О. или наименование налогоплательщика
A14: 4 | B14: Вид реестра: | D14: первоначальный | H14: очередной | K14: дополнительный
C16: дополнительный по уведомлению | H16: ликвидационный
A18: 5 | B18: Номер и дата уведомления: | E18: А номер | K18: В дата
A20: 6 | B20: Код валюты | D20: KZT
A22: 7 | B22: Количество представленных приложений
A24: Раздел. Сведения о торговых объектах, в том числе о торговых рынках
A27: 871.00.001 | C27: Количество торговых объектов, всего
C28: в том числе:
B29: A | C29: открытые торговые рынки
B31: B | C31: крытые торговые рынки
A33: 871.00.002 | C33: Количество арендаторов, всего
C34: в том числе: | I34: из них
C35: на торговых объектах | I35: на открытых торговых рынках
B36: A | C36: физических лиц | I36: D | J36: физических лиц
B37: B | C37: индивидуальных предпринимателей | I37: E | J37: индивидуальных предпринимателей
B38: C | C38: юридических лиц | I38: F | J38: юридических лиц
I39: на крытых торговых рынках
I40: G | J40: физических лиц
I41: H | J41: индивидуальных предпринимателей
I42: I | J42: юридических лиц
A44: 871.00.003 | C44: Сумма арендной платы в соответствии с договорами аренды (пользования) | L44: ='871.01'!S24 -> 0
A46: 871.00.004 | C46: Фактически уплаченная сумма арендной платы | L46: ='871.01'!U24 -> 0
A48: 871.00.005 | C48: Сумма возмещаемых расходов, подлежащих к уплате в соответствии с договором аренды | L48: ='871.01'!W24 -> 0
A50: 871.00.006 | C50: Фактически уплаченная сумма возмещаемых расходов | L50: ='871.01'!Y24 -> 0
B53: Раздел. Ответственность налогоплательщика
A56: Я несу ответственность в соответствии с законами Республики Казахстан за достоверность и полноту сведений, приведенных в данной декларации.
A58: Не выходить за ограничительную рамку
A60: Фамилия,имя, отчество (при его наличии) налогоплательщика (руководителя) | H60: Подпись
K61: Место печати (за исключением юридич.лиц, относящихся к субъектам частного предпринимательства
A62: Дата подачи декларации
A64: Цифрами: день, месяц, год
A66: Код органа государственных доходов по месту нахождения | E66: Код органа государственных доходов по месту жительства
A71: Не выходить за ограничительную рамку | I71: Дата приема декларации
L72: Цифрами: день, месяц, год
...

Sheet 871.01
M1: Форма 871.01
D2: РЕЕСТР ДОГОВОРОВ АРЕНДЫ (ПОЛЬЗОВАНИЯ) | N2: Укажите номер текущей страницы
H3: (приложение)
C4: Раздел. Общая информация о налогоплательщике и торговом объекте, в том числе о торговом рынке
B5: 1 | D5: БИН | E5: ='871.00'!C8 -> 111111111111 | I5: 2 | J5: Налоговый период, за который предоставляется налоговая отчетность: год | Q5: ='871.00'!K10 -> 2023
B7: 3 | D7: Наименование торговой сети
B9: 4 | D9: Наименование торгового объекта
C11: A | D11: Тип торгового объекта (укажите Х, если торговый объект является торговым рынком):
B13: 5 | D13: Категория торгового объекта (укажите Х в соответствующей ячейке): | K13: стационарный | N13: нестационарный
B15: 6 | D15: Общая площадь, кв.м. | I15: 7 | J15: Торговая площадь, кв.м.
B17: 8 | D17: Количество торговых мест
B19: 9 | D19: Адрес места нахождения торгового объекта
C21: Раздел. Сведения по арендаторам
A23: A | B23: № | C23: B | D23: БИН / ИИН арендатора | E23: C | F23: Статус арендатора | G23: D | H23: Номер (при его наличии) договора аренды (пользования) | I23: E | J23: Дата заключения договора аренды (пользования) | K23: F | L23: Назначение торовго места, торгового объекта | M23: G | N23: Место нахождения торгового места в торговом объекте | O23: H | P23: Фактический период аренды (пользования) торгового объекта или места | S23: I | T23: Сумма арендной платы по договору аренды | U23: J | V23: Фактически уплаченная сумма арендной платы | W23: K | X23: Сумма возмещаемых расходов по договору аренды | Y23: L | Z23: Фактически уплаченная сумма возмещаемых расходов
A24: 1 | C24: ИТОГО (строка заполняется только по итогу формы) | S24: =SUM(S25:T43) -> 0 | U24: =SUM(U25:V43) -> 0 | W24: =SUM(W25:X43) -> 0 | Y24: =SUM(Y25:Z43) -> 0
A25: 2 | O25: c | Q25: по
A26: =A25+1 -> 3 | O26: c | Q26: по
A27: =A26+1 -> 4 | O27: c | Q27: по
A28: =A27+1 -> 5 | O28: c | Q28: по
A29: =A28+1 -> 6 | O29: c | Q29: по
A30: =A29+1 -> 7 | O30: c | Q30: по
A31: =A30+1 -> 8 | O31: c | Q31: по
A32: =A31+1 -> 9 | O32: c | Q32: по
A33: =A32+1 -> 10 | O33: c | Q33: по
A34: =A33+1 -> 11 | O34: c | Q34: по
A35: =A34+1 -> 12 | O35: c | Q35: по
A36: =A35+1 -> 13 | O36: c | Q36: по
A37: =A36+1 -> 14 | O37: c | Q37: по
... A43: =A42+1 -> 20 | O43: c | Q43: по
A45: В графе С указывается один из следующих статусов арендатора:
A46: 1 - физическое лицо, незарегистрированное в качестве индивидуального предпринимателя
A47: 2 - индивидуальный предприниматель
A48: 3 - юридическое лицо
A50: В графе F указывается назначение торгового места, торгового объекта (например, ресторан, кафе, промышленные товары и далее)
A52: В графе G указывается место нахождения торгового места в торговом объекте (например, ряд, сектор и номер расположения торгового объекта или места)
