{"text_format":"2","workbook":"xlsx","n_sheets":21,"sheets":["ВВЕД"," 300",".001",".002",".028","300.01",".003",".022","300.06",".004",".005.017 ","300.02",".010.020",".011.029","300.04",".013","300.05",".015",".016","300.03","300.09"],"not_rendered":{"charts":0,"images":0,"macros":0,"external_links":1,"defined_names":0,"comments":19,"pivot_tables":0},"unopened":[],"bounds":{"document_bytes":16777216,"sheet_cells":100000,"run_cost":"one","rows_first":2000,"rows_last":500,"rows_between":2000,"halvings":0,"cell_chars":16384,"cell_head_chars":4096},"cells_cut":0,"cells_raw":0,"read":"whole","date_system":"1900"}

{"sheet":"ВВЕД","index":0,"n_rows":26,"n_cols":3,"rows_kept":26,"cut":false,"hidden":false,"merged":[]}
[]
[null,"Инструкция по электронной форме декларации по НДС (форма 300.00)"]
[]
[null,"     • По форме 300.00 разносится только наименование плательщика НДС, его ИИН/БИН, налоговый период.  Далее в налоговых регистрах регистрационные данные о налогоплательщике будут заполнены автоматически"]
[null,"     • Заполнение электронной формы осуществляется с заполнения налоговых регистров к строкам, итоговые данные по которым будут автоматически переноситься в строки основной 300.00 формы"]
[null,"     • Если в  каких-либо графах налогового регистра стоит \"0\", следовательно, графа  содержит формулу, и эту ячейку заполнять не следует – она заполняется автоматически."]
[null,"     • По основной форме 300.00 расчет разрешенного зачета по НДС  определяется автоматически по раздельному методу отнесения НДС в зачет"," "]
[null,"     • Итоговый расчет с бюджетом по НДС  определяется автоматически по раздельному методу отнесения НДС в зачет"]
[null,"     • В самих формах таблиц в формате XLS установлена защита листа для предотвращения случайного нарушения формата ячеек с формулами, для снятия защиты листа: вкладка Рецензирование/Снять защиту листа."]
{"$rows_empty":16}
[null,"       "]

{"sheet":" 300","index":1,"n_rows":144,"n_cols":24,"rows_kept":144,"cut":false,"hidden":false,"merged":[[124,3,124,16],[124,19,124,22],[27,1,27,21],[121,3,121,16],[121,19,121,22],[122,3,122,16],[122,19,122,22],[123,3,123,16],[123,19,123,22],[102,2,102,16],[30,18,30,22],[32,3,32,5],[31,0,31,22],[32,6,32,22],[99,0,101,0],[95,0,97,0],[88,19,88,22],[100,2,100,16],[12,18,12,21],[13,0,13,22],[30,12,30,17],[25,0,25,22],[42,17,42,20],[41,0,41,22],[22,1,22,22],[24,9,24,21],[26,9,26,21],[36,9,36,12],[14,1,14,9],[12,0,12,2],[12,9,12,11],[12,4,12,6],[15,0,15,22],[86,2,86,10],[70,19,71,22],[63,11,63,17],[68,2,69,17],[12,13,12,16],[110,0,110,1],[110,2,110,16],[114,2,114,16],[115,2,115,16],[104,0,106,0],[104,19,104,22],[105,2,105,16],[108,2,108,16],[109,2,109,16],[109,19,109,22],[96,2,96,16],[97,2,97,16],[98,2,98,16],[99,2,99,16],[108,19,108,22],[99,19,99,22],[102,19,102,22],[100,19,100,22],[87,11,87,17],[95,2,95,16],[64,21,65,22],[81,11,81,17],[81,19,81,22],[84,2,84,22],[92,2,92,16],[93,2,93,16],[85,2,85,10],[66,2,67,17],[64,2,65,17],[79,11,79,17],[79,19,79,22],[70,2,71,16],[72,19,73,22],[78,19,78,22],[72,2,73,16],[74,2,75,16],[61,2,62,10],[57,2,58,10],[59,2,60,10],[63,2,63,10],[59,11,60,17],[61,11,62,17],[64,23,65,23],[5,0,5,22],[14,12,14,15],[14,21,14,22],[14,19,14,20],[28,1,28,22],[30,1,30,2],[30,3,30,5],[9,0,9,22],[14,17,14,18],[11,0,11,22],[10,1,10,22],[50,0,52,0],[50,11,50,17],[50,19,50,22],[16,1,16,22],[17,0,17,22],[18,1,18,21],[19,0,19,22],[46,0,46,1],[57,0,58,1],[68,0,69,1],[52,19,52,22],[52,11,52,17],[55,0,56,1],[55,2,56,10],[66,21,67,22],[68,21,69,22],[64,0,65,1],[53,0,54,1],[53,2,54,10],[47,0,48,1],[82,2,82,10],[84,0,84,1],[85,0,86,0],[66,0,67,1],[79,0,81,0],[76,0,77,22],[70,0,71,1],[85,11,85,17],[120,2,120,16],[141,11,141,14],[134,7,135,10],[134,11,135,14],[134,15,135,15],[118,0,119,22],[120,19,120,22],[125,19,125,22],[125,12,125,17],[136,0,136,22],[91,0,91,1],[91,2,91,10],[92,0,92,1],[93,0,93,1],[94,0,94,1],[91,11,91,17],[103,0,103,1],[103,2,103,16],[98,0,98,1],[46,2,46,10],[47,2,48,10],[61,0,62,1],[55,11,56,17],[57,11,58,17],[59,0,60,1],[78,11,78,17],[0,0,0,22],[1,0,1,22],[2,0,2,22],[3,0,3,22],[4,1,4,2],[4,3,4,9],[4,10,4,22],[33,0,33,22],[40,11,40,15],[40,17,40,20],[20,1,20,21],[21,0,21,22],[32,1,32,2],[30,8,30,11],[29,0,29,22],[23,0,23,22],[39,0,39,22],[6,1,6,5],[6,6,6,22],[8,12,8,16],[8,17,8,19],[8,20,8,22],[8,6,8,10],[7,0,7,22],[8,1,8,5],[34,1,34,10],[34,11,34,15],[43,0,43,22],[34,17,34,20],[36,6,36,7],[36,14,36,20],[38,1,38,12],[36,1,36,5],[42,1,42,10],[42,11,42,15],[55,19,56,22],[37,0,37,22],[44,0,45,22],[35,0,35,22],[40,1,40,10],[46,20,46,22],[46,12,46,17],[47,11,48,17],[47,19,48,22],[53,11,54,17],[72,0,73,1],[78,2,78,10],[74,0,75,1],[74,19,75,22],[83,2,83,10],[78,0,78,1],[90,2,90,10],[85,19,85,22],[86,11,86,17],[86,19,86,22],[83,0,83,1],[82,11,82,17],[82,19,82,22],[83,11,83,17],[82,0,82,1],[89,2,89,10],[94,2,94,16],[89,19,89,22],[90,11,90,17],[90,19,90,22],[89,0,89,1],[87,0,87,1],[87,2,87,10],[88,0,88,1],[88,2,88,10],[90,0,90,1],[92,19,92,22],[93,19,93,22],[94,19,94,22],[95,19,95,22],[96,19,96,22],[97,19,97,22],[101,19,101,22],[111,11,111,17],[111,19,111,22],[115,19,115,22],[101,2,101,16],[110,19,110,22],[105,19,105,22],[106,2,106,16],[106,19,106,22],[104,2,104,16],[115,0,116,0],[117,0,117,1],[111,0,111,1],[111,2,111,10],[112,0,113,22],[117,2,117,16],[116,19,116,22],[117,19,117,22],[116,2,116,16],[114,0,114,1],[143,0,145,10],[143,11,145,16],[143,17,145,22],[141,17,141,22],[107,0,107,1],[107,2,107,16],[126,0,127,22],[125,2,125,10],[121,0,125,0],[120,0,120,1],[128,0,129,22],[130,0,132,15],[132,16,132,20],[132,21,135,22],[134,0,135,2],[142,0,142,22],[140,0,140,22],[141,0,141,2],[141,3,141,4],[141,15,141,16],[134,3,135,6],[137,0,139,15],[137,16,138,18],[137,19,137,22],[138,19,138,22],[139,16,139,22]]}
["ДЕКЛАРАЦИЯ                                                                                                                                                                                                                                                ПО НАЛОГУ НА ДОБАВЛЕННУЮ СТОИМОСТЬ"]
[]
["Раздел. Общая информация о плательщике НДС"]
[]
[1,"ИИН/БИН",null,"600400123456"]
[]
[2,"ФИО или Наименование плательщика НДС"]
[]
[3,"Налоговый период ",{"$nulls":4},"квартал",{"$nulls":4},1,"год",{"$nulls":4},2023]
[]
[4,"Вид декларации (укажите Х в соответствующей ячейке)"]
[]
["Первоначальная",null,null,null,"Очередная",{"$nulls":4},"Дополнительная",null,null,null,"По уведомлению",{"$nulls":4},"Ликвидационная"]
[]
[5,"Номер и дата уведомления (заполняется в случае предоставления дополнительной  декларации по уведомлению)",{"$nulls":8},"А","Номер",{"$nulls":4},"В","Дата"]
[]
[6,"Отжедбные категории налогоплательщика (укажите Х )"]
[]
["А","доверительный управляющий в соответствии со статьей 40 Налогового кодекса"]
[]
["В","учредитель доверительного управления в соответствии со статьей 40 Налогового кодекса"]
[]
["С","налогоплательщик, применяющий положения статье 411 Налогового кодекса"]
[]
[{"$nulls":9},"по деятельности, предусмотренной пунктом 1 статьи 411 Налогового кодекса"]
[]
[{"$nulls":9},"по иной деятельности"]
["D","Участник МФЦА в соответствии с Конституционным законом РК \"О МФЦА\""]
[7,"Строка заполняется недропользователями, осуществляющими деятельность в рамках контракта на недропользование, предусмотренного п. 1 ст. 722 НК "]
[]
["А","№ контракта",{"$nulls":5},"В","дата заключения"]
[]
[8,"Код валюты",null,"KZT"]
[]
[9,"Метод отнесения  в зачет НДС (укажите  Х в соответствующей ячейке):",{"$nulls":9},"пропорциональный",{"$nulls":5},"через ведение раздельного учета",null,null,null,"Х"]
[]
[10,"Серия и номер Свидетельства по НДС",{"$nulls":12},"пропорциональный с правом ведения раздельного учета по отдельным оборотам"]
[]
[11,"Предоставленные приложения (укажите  Х в соответствующей ячейке):",{"$nulls":11},"01","02","03","04","05","06","07","08","09"]
[]
[12,"Способ выписки счетов-фактур (укажите  Х в соответствующей ячейке):",{"$nulls":9},"на бумажном носителе",{"$nulls":5},"в электронном виде"]
[]
[13,"Способ выписки счетов-фактур (укажите  Х в соответствующей ячейке):",{"$nulls":9},"на бумажном носителе",{"$nulls":5},"в электронном виде"]
[]
["                               Раздел. Начисление НДС"]
[]
["Код строки",null,"Наименование",{"$nulls":8},"А","Cумма оборотов по реализации без НДС",{"$nulls":6},"В","Сумма НДС"]
["300.00.001",null,"Оборот по реализации, облагаемый НДС, в т.ч.",{"$nulls":8},{"$f":"L51+L53","v":0},{"$nulls":7},{"$f":"T51+T53","v":0}]
[]
[]
[null,"I","с выпиской счетов-фактур",{"$nulls":8},{"$f":"'.001'!M86","v":0},{"$nulls":7},{"$f":"('.001'!O86)","v":0}]
[]
[null,"II","без выписки счетов-фактур",{"$nulls":8},{"$f":"('.001'!N86)","v":0},{"$nulls":7},{"$f":"('.001'!P86)","v":0}]
["300.00.002",null,"Оборот по реализации, облагаемый по нулевой ставке НДС (300.01.004+300.06.005 А)",{"$nulls":8},{"$f":"'300.01'!L36+'300.06'!J28","v":0}]
[]
["300.00.003",null,"Корректировка размера облагаемого оборота  (300.06. 004А, 300.06.004В)",{"$nulls":8},{"$f":"'300.06'!J26","v":0},{"$nulls":7},{"$f":"'.003'!O8","v":0}]
[]
["300.00.004",null,"Оборот по реализации товаров, работ, услуг, местом реализации которых не является РК",{"$nulls":8},{"$f":"'.004'!O8","v":0}]
[]
["300.00.005",null,"Оборот, освобожденный от НДС                                          (300.02.009+300.06.006А)",{"$nulls":8},{"$f":"'300.02'!L36+'300.06'!J33","v":0}]
[]
["300.00.006",null,"Общий оборот (300.00.001А+300.00.002А                               +300.00.003А+300.00.004+300.00.005)",{"$nulls":8},{"$f":"L48+L54+L56+L58+L60","v":0}]
[]
[null,"I","Сумма облагаемого оборота (300.00.001А+300.00.002А+300.00.003А)",{"$nulls":8},{"$f":"L48+L54+L56","v":0}]
["300.00.007",null,"Доля облагаемого оборота в общем обороте  ((300.00.001 А +  300.00.002А + 300.00.003 А) / (300.00.006 )х 100)",{"$nulls":20},"В случае отсутствия облагаемых и необлагаемых оборотов по реализации строка 300.00.007 не заполняется "]
[]
["300.00.008",null,"Доля  облагаемого оборота по нулевой ставке в общем облагаемом обороте (300.00.002А/(300.00.001 А + 300.00.002А + 300.00.003 А) х 100%)",{"$nulls":18},{"$f":"(L54/(L48+L54+L56)*100)","v":{"$error":"#DIV/0!"}}]
[]
["300.00.009",null,"Доля облагаемого оборота в общем обороте, расчитанная без учета оборотов, по которым применяется пропорциональный с правом ведения раздельного учета по отдельным оборотам"]
[]
["300.00.010",null,"НДС начисленный при импорте товаров методом зачета в соответствии с условиями контракта на недропользование",{"$nulls":16},{"$f":"'.010.020'!Q10","v":0}]
[]
["300.00.011",null,"НДС начисленный при импорте товаров методом зачета, за исключением строки 300.00.010 (300.04.001 В) ",{"$nulls":16},{"$f":"'.011.029'!Q113","v":0}]
[]
["300.00.012",null,"Всего начислено НДС (300.00.001 В + 300.00.003 В + 300.00.010 +300.00.011)",{"$nulls":16},{"$f":"(T48+T56+T71+T73)","v":0}]
[]
["Раздел. Сумма НДС, относимого в зачет"]
[]
["300.00.013",null,"Товары, работы, услуги, приобретенные с НДС в РК, в т.ч.",{"$nulls":8},{"$f":"L80+L82","v":0},{"$nulls":7},{"$f":"T80+T82","v":0}]
[null,"I","по счетам-фактурам",{"$nulls":8},{"$f":"'.013'!P53","v":0},{"$nulls":7},{"$f":"'.013'!R53","v":0}]
[]
[null,"II","по иным документам",{"$nulls":8},{"$f":"'.013'!Q53","v":0},{"$nulls":7},{"$f":"'.013'!S53","v":0}]
["300.00.014",null,"Работы, услуги, приобретенные от нерезидента (300.05.001, 300.05.007)",{"$nulls":8},{"$f":"'300.05'!N9","v":0},{"$nulls":7},{"$f":"'300.05'!T9","v":0}]
["300.00.015",null,"Товары, работы, услуги, приобретенные без НДС и по которым зачет не разрешен",{"$nulls":8},{"$f":"'.015'!O60","v":0}]
["300.00.016",null,"Импорт с уплатой НДС (на основании декларации на товары, на основании декларации ф. 320.00), в том числе:"]
[null,"I","Импорт из государств, не являющихся членами Евразийского экономического союза",{"$nulls":8},{"$f":"'.016'!H10","v":0},{"$nulls":7},{"$f":"'.016'!I10","v":0}]
[null,"II","Импорт из государств-членов Евразийского экономического союза",{"$nulls":8},{"$f":"'.016'!H18","v":0},{"$nulls":7},{"$f":"'.016'!I18","v":0}]
["300.00.017",null,"Освобожденный импорт товаров (300.02.014)",{"$nulls":8},{"$f":"'300.02'!L59","v":0}]
["300.00.018",null,"Импорт товаров, по которым изменен срок уплаты НДС (на основании декларации на товары)",{"$nulls":16},{"$f":"'300.03'!J10","v":0}]
["300.00.019",null,"Уплачено НДС на импорту товаров, по которым изменен срок уплаты НДС (суммы итоговых строк 0000001 и 0000002 графы Е формы 300.03) ",{"$nulls":16},{"$f":"'300.03'!L10+'300.03'!M10","v":0}]
["300.00.020",null,"Импорт товаров, по которым НДС уплачен методом зачета в соответствии с условиями контракта на недропользование",{"$nulls":8},{"$f":"'.010.020'!P10","v":0},{"$nulls":7},{"$f":"'.010.020'!Q10","v":0}]
["300.00.021",null,"Всего приобретено (300.00.013А + 300.00.014 А + 300.00.015А + 300.00.016I А + 300.00.016II А+300.00.017 +  300.00.020 А + 300.00.029A)",{"$nulls":8},{"$f":"(L79+L83+L84+L86+L87+L88+L89+L91+L112)","v":0}]
["300.00.022",null,"Корректировка суммы НДС, относимого в зачет (300.06.024 В)",{"$nulls":16},{"$f":"'.022'!R78","v":0}]
["300.00.023",null,"Общая сумма НДС, относимого в зачет (300.00.013 В + 300.00.014 В + 300.00.016 ВI+ 300.00.016ВII+300.00.019 В + 300.00.020 В + 300.00.022В)",{"$nulls":16},{"$f":"(T79+T83+T86+T87+T90+T91+T93)","v":0}]
["300.00.024",null,"Общая сумма НДС, относимого в зачет при применении пропорционального  метода с правом ведения раздельного учета по отдельным оборотам, в том числе:"]
[null,"I","по товарам, работам, услугам, по которым применяется пропорциональный метод отнесения в зачет"]
[null,"II","по товарам, работам, услугам, по которым применяется метод через ведение раздельного учета"]
[null,"III","по товарам, работам, услугам, используемым одновременно для целей облагаемого и необлагаемого оборотов"]
["300.00.025",null,"Сумма разрешенного к отнесению в зачет НДС:"]
[null,"I","при пропорциональном методе (300.00.023*300.00.007) или (300.00.023)"]
[null,"II","при раздельном методе (300.00.023)",{"$nulls":16},{"$f":"T94","v":0}]
[null,"III","при пропорциональном  методе с ведением раздельного учета по отдельным оборотам ((300.00.024Ix 300.00.009) + (300.00.024III x 300.00.007) + 300.00.024II)"]
[null,"IV","при применении положений статьи 411 Налогового кодекса (дополнительная сумма НДС относимого в зачет )(300.00.012 - 300.00.025 I - 300.00.027 I - 300.00.029 В) х 70% или (300.00.012 - 300.00.025 II - 300.00.027 I - 300.00.029 В) х 70% или (300.00.012 - 300.00.025 III - 300.00.027 I - 300.00.029 В) х 70%"]
["300.00.026",null,"Сумма не разрешенного к отнесению в зачет НДС:"]
[null,"I","при пропорциональном методе (300.00.023-300.00.025I)"]
[null,"II","через ведение  раздельного метода"]
[null,"III","при пропорциональном и раздельном методе (300.00.023 - 300.00.025III)"]
["300.00.027",null,"Сумма превышения НДС, относимого в зачет, над суммой начисленного налога"]
[null,"I","сложившееся на начало отчетного налогового периода нарастающим итогом по деятельности, предусмотренной статьей 411  Налогового кодекса"]
[null,"II","сложившееся по декларации нарастающим итогом на конец отчетного налогового периода"]
["300.00.028",null,"Сумма  НДС по товарам, работам, услугам, использованным для целей оборотов, облагаемых по нулевой ставке (300.01.008)",{"$nulls":16},{"$f":"'300.01'!L47","v":0}]
["300.00.029",null,"Импорт товаров, по которым НДС уплачен методом зачета (300.04.001 А, 300.04.001 В)",{"$nulls":8},{"$f":"'.011.029'!P113","v":0},{"$nulls":7},{"$f":"'.011.029'!Q113","v":0}]
["Раздел. Расчеты по НДС за налоговый период"]
[]
["300.00.030",null,"Исчисленная сумма НДС за налоговый период:"]
[null,"I","Сумма НДС, подлежащая уплате в бюджет (300.00.012 – 300.00.025I – 300.00.029 В - 300.00.025IV или 300.00.012 – 300.00.025II – 300.00.029 В - 300.00.025IV или 300.00.012 – 300.00.025III – 300.00.029 В - 300.00.025IV)",{"$nulls":16},{"$f":"IF(T75>(T101+T112),(T75-T101-T112-T103),0)","v":0}]
[null,"II","Превышение суммы НДС, относимого в зачет, над суммой начисленного налога 300.00.025I+300.00.029 В – 300.00.012 или 300.00.025II+300.00.029 В – 300.00.012 или 300.00.025III+300.00.029 В – 300.00.012)",{"$nulls":16},{"$f":"IF((T101+T112)>T75,(T101+T112-T75),0)","v":0}]
["300.00.031",null,"Уменьшение суммы превышения НДС, сложившегося после выполнения требований, указанных в подпункте 3) пункта 1 статьи 369 Налогового кодекса"]
["Раздел. Требование о возвратесуммы превышения НДС"]
[]
["300.00.032",null,"Требую осуществить возврат превышения НДС, относимого в зачет, над суммой начисленного налога",{"$nulls":16},{"$f":"'300.09'!L10","v":0}]
[null,"I",null,"В связи с применением пилотного проекта в соответствии со статьей 68 Налогового кодекса (укажите Х при согласии) ",{"$nulls":15},{"$f":"'300.09'!L72","v":0}]
[null,"II",null,"В связи с применением упрощенного порядка возврата налогоплательщиком, подлежащим налговому мониторингу в соответствии со статьей 434 Налогового кодекса (укажите Х при согласии)",{"$nulls":15},{"$f":"'300.09'!L92+'300.09'!L112","v":0}]
[null,"III",null,"В связи с применением упрощенного порядка возврата налогоплательщиком, включенным в Перечень производителей товаров собственного производства обрабатывающей промышленности, в соответствии со статьей 434 Налогового кодекса (укажите Х при согласии)",{"$nulls":15},{"$f":"'300.09'!L132","v":0}]
[null,"IV",null,"В связи с применением упрощенного порядка возврата налогоплательщиком, включенным в Перечень экспортеров сырья при конвертации валютной выручки, поступившей за налоговый период, в соответствии со статьей 434 Налогового кодекса (укажите Х при согласии)",{"$nulls":15},{"$f":"'300.09'!L152","v":0}]
[null,"V","Налоговый период, за который подается настоящее требование о возврате превышения суммы НДС",{"$nulls":8},"с",{"$nulls":6},"по"]
["Раздел. Ответственность налогоплательщика"]
[]
["                  Я несу ответственность в соответствии с законами Республики Казахстан за достоверность и полноту сведений, приведенных в данной декларации."]
[]
[" Ф.И.О. Руководителя                                                                                                      подпись"]
[]
[]
[]
["Дата подачи декларации:",{"$nulls":6},"Код  органа государственных доходов"]
[]
[]
["Ф.И.О . Должностного лица, принявшего декларацию                                                   подпись",{"$nulls":15},"Дата приема декларации:"]
[]
[]
[]
["Входящий номер документа",{"$nulls":10},"Дата почтового штемпеля",{"$nulls":5},"(заполняется в случае сдачи декларации по почте)"]
[]
[{"$nulls":11},"М.Ш."]

{"sheet":".001","index":2,"n_rows":95,"n_cols":18,"rows_kept":95,"cut":false,"hidden":false,"merged":[[50,1,50,11],[67,1,67,6],[52,1,52,6],[54,1,54,6],[47,1,47,6],[48,1,48,6],[51,1,51,6],[57,1,57,6],[58,1,58,6],[60,1,60,6],[55,1,55,6],[53,1,53,11],[56,1,56,11],[59,1,59,11],[31,1,31,11],[29,1,29,6],[30,1,30,6],[42,1,42,6],[44,1,44,6],[45,1,45,6],[27,1,27,6],[17,1,17,6],[65,1,65,11],[37,1,37,11],[40,1,40,11],[43,1,43,11],[46,1,46,11],[38,1,38,6],[39,1,39,6],[41,1,41,6],[80,1,80,6],[81,1,81,6],[82,1,82,6],[83,1,83,6],[84,1,84,6],[86,0,86,11],[74,1,74,6],[75,1,75,6],[76,1,76,6],[77,1,77,6],[78,1,78,6],[79,1,79,6],[69,1,69,6],[70,1,70,6],[71,1,71,6],[72,1,72,6],[73,1,73,6],[61,1,61,6],[63,1,63,6],[64,1,64,6],[62,1,62,11],[68,1,68,11],[33,1,33,6],[35,1,35,6],[36,1,36,6],[34,1,34,11],[20,1,20,6],[21,1,21,6],[23,1,23,6],[24,1,24,6],[26,1,26,6],[22,1,22,11],[10,1,10,6],[11,1,11,6],[12,1,12,6],[13,1,13,6],[9,1,9,11],[32,1,32,6],[16,1,16,11],[19,1,19,11],[25,1,25,11],[28,1,28,11],[0,1,0,14],[3,0,3,3],[3,4,3,13],[4,0,4,3],[4,4,4,5],[4,6,4,12],[2,4,2,17],[6,16,6,17],[49,1,49,6],[86,16,86,17],[85,1,85,6],[86,12,86,13],[86,14,86,15],[66,1,66,6],[8,1,8,6],[14,1,14,6],[15,1,15,6],[18,1,18,6],[6,12,6,13],[6,14,6,15],[6,0,7,0],[6,1,7,6],[6,9,7,9],[6,10,7,10],[6,11,7,11],[6,7,7,7],[6,8,7,8]]}
[null,"Налоговый регистр к строке 300.00.001 Оборот по реализации, облагаемый НДС"]
[]
["Наименование плательщика НДС ",null,null,null,{"$f":"T(' 300'!G7:W7)","v":""}]
["ИИН/БИН",null,null,null,{"$f":"' 300'!D5","v":"600400123456"}]
["Налоговый период ",null,null,null,{"$f":"' 300'!L9","v":1},null,{"$f":"' 300'!R9","v":2023}]
[]
["№ ","Наименование показателей / наименование контрагента",{"$nulls":5},"номенклатура ","Дата оборота реализации","Основание","Дата счет-фактуры","Номер счет-фактуры","Сумма без НДС",null,"Сумма НДС",null,"Общая сумма с НДС"]
[{"$nulls":12},"по счетам-фактурам","по документам (п. 13 ст. 412 НК)","по счетам-фактурам","по документам (п. 13 ст. 412 НК)","по счетам-фактурам","по документам (п. 13 ст. 412 НК)"]
["А","Доход от реализации товаров, облагаемых НДС, в том числе:",{"$nulls":10},{"$f":"(M10+M17+M20+M23+M26+M29+M32+M35+M38+M41+M44+M47)","v":0},0,0,0,0,0]
[1,"Реализация товаров",{"$nulls":10},{"$f":"SUM(M11:M16)","v":0},0,0,0,0,0]
[]
[]
[]
[]
[]
[]
[2,"Продажа предприятия в целом как имущественного комплекса",{"$nulls":10},{"$f":"SUM(M18:M19)","v":0},0,0,0,0,0]
[]
[]
[3,"Безвозмездная передача товара (в рекламных целях)",{"$nulls":10},{"$f":"SUM(M21:M22)","v":0},0,0,0,0,0]
[]
[]
[4,"Обмен товара на другие товары, работы, услуги",{"$nulls":10},{"$f":"SUM(M24:M25)","v":0},0,0,0,0,0]
[]
[]
[5,"Передача товара работодателем работнику в счет заработной платы",{"$nulls":10},{"$f":"SUM(M27:M28)","v":0},0,0,0,0,0]
[]
[]
[6,"Передачу заложенного имущества (товара) залогодателем в случае невыплаты долга",{"$nulls":10},{"$f":"SUM(M30:M31)","v":0},0,0,0,0,0]
[]
[]
[7,"Отгрузка товара на условиях рассрочки платежа",{"$nulls":10},{"$f":"SUM(M33:M34)","v":0},0,0,0,0,0]
[]
[]
[8,"Передача имущества в финансовый лизинг (оборудования)",{"$nulls":10},{"$f":"SUM(M36:M37)","v":0},0,0,0,0,0]
[]
[]
[9,"Реализация товара по договору комиссии, поручения",{"$nulls":10},{"$f":"SUM(M39:M40)","v":0},0,0,0,0,0]
[]
[]
[10,"Возврат товара в таможенной процедуре реимпорта, вывезенного ранее в таможенной процедуре экспорта",{"$nulls":10},{"$f":"SUM(M42:M43)","v":0},0,0,0,0,0]
[]
[]
[11,"Остатки ТМЗ, в том числе ОС, НМА, БА, инвестиций в недвижимость при снятии с учета по НДС",{"$nulls":10},{"$f":"SUM(M45:M46)","v":0},0,0,0,0,0]
[]
[]
[12,"Прочие обороты по реализации товаров",{"$nulls":10},{"$f":"SUM(M48:M49)","v":0},0,0,0,0,0]
[]
[]
["В","Реализация работ, услуг, в том числе:",{"$nulls":10},{"$f":"(M51+M54+M57+M60+M63+M66+M69)","v":0},0,0,0,0,0]
[1,"Предоставление имущества во временное владение и пользование по договорам имущественного найма",{"$nulls":10},{"$f":"SUM(M52:M53)","v":0},0,0,0,0,0]
[]
[]
[2,"Предоставление прав на объекты интеллектуальной собственности",{"$nulls":10},{"$f":"SUM(M55:M56)","v":0},0,0,0,0,0]
[]
[]
[3,"Выполнение работ, оказание услуг работодателем работнику в счет заработной платы",{"$nulls":10},{"$f":"SUM(M58:M59)","v":0},0,0,0,0,0]
[]
[]
[4,"Уступка прав требования, связанных с реализацией товаров, работ, услуг, за исключением авансов и штрафных санкций",{"$nulls":10},{"$f":"SUM(M61:M62)","v":0},0,0,0,0,0]
[]
[]
[5,"Согласие ограничить или прекратить предпринимательскую деятельность",{"$nulls":10},{"$f":"SUM(M64:M65)","v":0},0,0,0,0,0]
[]
[]
[6,"Предоставление кредита (займа, микрокредита)",{"$nulls":10},{"$f":"SUM(M67:M68)","v":0},0,0,0,0,0]
[]
[]
[7,"Прочие работы, услуги (наименование)",{"$nulls":10},{"$f":"SUM(M70:M85)","v":0},0,0,0,0,0]
{"$rows_empty":16}
["Итого ","(А+В)",{"$nulls":10},{"$f":"(M9+M50)","v":0},0,0,0,0,0]
["Итого ",{"$nulls":11},{"$f":"(M86+N86)","v":0},null,{"$f":"(O86+P86)","v":0},null,{"$f":"(Q86+R86)","v":0}]
[]
[]
["_______________________________________________________________________________________"]
["(Ф.И.О., подпись лица, ответственного за составление налогового регистра)"]
["_______________________________________________________________________________________"]
["(Ф.И.О., подпись главного бухгалтера)"]
["__________________________________"]
["(Дата составления налогового регистра) "]

{"sheet":".002","index":3,"n_rows":122,"n_cols":17,"rows_kept":122,"cut":false,"hidden":false,"merged":[[87,1,87,9],[81,1,81,9],[82,1,82,9],[83,1,83,9],[84,1,84,9],[85,1,85,9],[86,1,86,9],[75,1,75,9],[76,1,76,9],[77,1,77,9],[78,1,78,9],[79,1,79,9],[80,1,80,9],[69,1,69,9],[70,1,70,9],[71,1,71,9],[72,1,72,9],[73,1,73,9],[74,1,74,9],[0,1,0,15],[1,0,1,16],[3,7,3,18],[4,7,4,11],[4,0,4,6],[5,0,5,6],[5,7,5,8],[5,9,5,11],[114,1,114,9],[60,1,60,9],[8,1,8,9],[9,1,9,9],[10,1,10,9],[17,1,17,9],[89,1,89,9],[90,1,90,9],[24,1,24,9],[11,1,11,9],[45,1,45,9],[53,1,53,9],[52,1,52,9],[39,1,39,9],[40,1,40,9],[42,1,42,9],[43,1,43,9],[44,1,44,9],[46,1,46,9],[47,1,47,9],[12,1,12,9],[13,1,13,9],[14,1,14,9],[15,1,15,9],[16,1,16,9],[18,1,18,9],[19,1,19,9],[20,1,20,9],[21,1,21,9],[22,1,22,9],[23,1,23,9],[25,1,25,9],[38,1,38,9],[26,1,26,9],[27,1,27,9],[28,1,28,9],[29,1,29,9],[30,1,30,9],[32,1,32,9],[31,1,31,9],[50,1,50,9],[51,1,51,9],[54,1,54,9],[55,1,55,9],[33,1,33,9],[34,1,34,9],[35,1,35,9],[36,1,36,9],[37,1,37,9],[41,1,41,9],[7,0,7,15],[91,1,91,9],[56,1,56,9],[57,1,57,9],[58,1,58,9],[59,1,59,9],[61,1,61,9],[62,1,62,9],[48,1,48,9],[49,1,49,9],[92,1,92,9],[93,1,93,9],[95,1,95,9],[94,1,94,9],[63,1,63,9],[64,1,64,9],[65,1,65,9],[66,1,66,9],[67,1,67,9],[68,1,68,9],[110,1,110,9],[100,1,100,9],[101,1,101,9],[103,1,103,9],[102,1,102,9],[96,1,96,9],[97,1,97,9],[99,1,99,9],[98,1,98,9],[112,1,112,9],[113,1,113,9],[88,0,88,15],[108,1,108,9],[109,1,109,9],[111,1,111,9],[104,1,104,9],[105,1,105,9],[107,1,107,9],[106,1,106,9]]}
[null,"Налоговый регистр к строке 300.00.002 Оборот по реализации, облагаемый по нулевой ставке НДС"]
["к строке 300.00.028 Сумма НДС по товарам, работам, услугам, использованным для целей оборотов по нулевой ставке"]
[]
["Наименование плательщика НДС ",{"$nulls":6},{"$f":"T(' 300'!G7:W7)","v":""}]
["ИИН/БИН",{"$nulls":6},{"$f":"' 300'!D5","v":"600400123456"}]
["Налоговый период ",{"$nulls":6},{"$f":"' 300'!L9","v":1},null,{"$f":"' 300'!R9","v":2023},{"$nulls":6},"тенге"]
[]
["Раздел. Оборот по реализации, облагаемый по нулевой ставке"]
["№","Наименование показателей/ Контрагент",{"$nulls":8},"Положение НК","Основание (№ договора дата заключения контракта)","Дата счет-фактуры","Номер счет-фактуры","ГТД","Сумма","Сумма НДС, отнесенного в зачет для целей оборотов по нулевой ставке"]
["А","Экспорт товаров, в том числе:",{"$nulls":13},{"$f":"(P11+P18+P25+P32+P39)","v":0},{"$f":"'.028'!O9","v":0}]
[1," в государства, не являющиеся членами таможенного союза",{"$nulls":13},{"$f":"SUM(P12:P17)","v":0}]
[]
[]
[]
[]
[]
[]
[2,"в Российскую Федерацию",{"$nulls":13},{"$f":"SUM(P19:P24)","v":0}]
[]
[]
[]
[]
[]
[]
[3,"в Республику Беларусь",{"$nulls":13},{"$f":"SUM(P26:P31)","v":0}]
[]
[]
[]
[]
[]
[]
[4,"в Республику Армению",{"$nulls":13},{"$f":"SUM(P33:P38)","v":0}]
[]
[]
[]
[]
[]
[]
[5,"в Кыргызскую Республику ",{"$nulls":13},{"$f":"SUM(P40:P45)","v":0}]
[]
[]
[]
[]
[]
[]
["В","Международные перевозки",{"$nulls":13},{"$f":"SUM(P47:P52)","v":0},{"$f":"'.028'!O33","v":0}]
[]
[]
[]
[]
[]
[]
["С","Прочая реализация, облагаемая по нулевой ставке ",{"$nulls":13},{"$f":"P54+P61+P68+P75+P82","v":0},{"$f":"'.028'!O40","v":0}]
["I","Реализация ГСМ, осуществляемая аэропортами при заправке воздушных судов иностранных авиакомпаний, выполняющие международные полеты, международные воздушные перевозки",{"$nulls":8},388,{"$nulls":4},{"$f":"SUM(P55:P60)","v":0}]
[]
[]
[]
[]
[]
[]
["II","Налогообложение товаров, реализуемых на территорию СЭЗ",{"$nulls":8},"389,390,391",{"$nulls":4},{"$f":"SUM(P62:P67)","v":0}]
[]
[]
[]
[]
[]
[]
["III","Реализация аффинированного золота",{"$nulls":8},392,{"$nulls":4},{"$f":"SUM(P69:P74)","v":0}]
[]
[]
[]
[]
[]
[]
["IV",{"$nulls":9},"393.1",{"$nulls":4},{"$f":"SUM(P76:P81)","v":0}]
[]
[]
[]
[]
[]
[]
["V",{"$nulls":9},"393.2, 393.3",{"$nulls":4},{"$f":"SUM(P83:P88)","v":0}]
[]
[]
[]
[]
[]
[]
["Раздел. Корректировка оборота по реализации, облагаемого по нулевой ставке"]
["D","Корректировка размера оборота, облагаемого по нулевой ставке НДС",{"$nulls":13},{"$f":"(P91+P95+P99+P103+P107+P111)","v":0}]
[1,"Полный или частичный возврат товара",{"$nulls":13},{"$f":"SUM(P92:P94)","v":0}]
[]
[]
[]
[2,"Изменение условий сделки",{"$nulls":13},{"$f":"SUM(P96:P98)","v":0}]
[]
[]
[]
[3,"Изменение цены, компенсации за реализованные товары, работы, услуги",{"$nulls":13},{"$f":"SUM(P100:P102)","v":0}]
[]
[]
[]
[4,"Скидка с цены, скидка с продаж",{"$nulls":13},{"$f":"SUM(P104:P106)","v":0}]
[]
[]
[]
[5,"Получение разницы в стоимости за реализованные товары, работы, услуги при их оплате в тенге",{"$nulls":13},{"$f":"SUM(P108:P110)","v":0}]
[]
[]
[]
[6,"Возврат тары",{"$nulls":13},{"$f":"SUM(P112:P114)","v":0}]
[]
[]
[]
["Итого","(А+В+С+D+Е+G)",{"$nulls":13},{"$f":"(P10+P46+P53+P54+P61+P90)","v":0},{"$f":"(Q10+Q46+Q53)","v":0}]
[]
["_______________________________________________________________________________________"]
["(Ф.И.О., подпись лица, ответственного за составление налогового регистра)"]
["_______________________________________________________________________________________"]
["(Ф.И.О., подпись главного бухгалтера)"]
["__________________________________"]
["(Дата составления налогового регистра) "]

{"sheet":".028","index":4,"n_rows":60,"n_cols":15,"rows_kept":60,"cut":false,"hidden":false,"merged":[[52,1,52,9],[6,0,6,14],[46,1,46,9],[47,1,47,9],[48,1,48,9],[49,1,49,9],[50,1,50,9],[51,1,51,9],[41,1,41,9],[42,1,42,9],[43,1,43,9],[44,1,44,9],[45,1,45,9],[36,1,36,9],[37,1,37,9],[38,1,38,9],[39,1,39,9],[40,1,40,9],[26,1,26,9],[31,1,31,9],[32,1,32,9],[33,1,33,9],[34,1,34,9],[35,1,35,9],[27,1,27,9],[28,1,28,9],[29,1,29,9],[30,1,30,9],[15,1,15,9],[21,1,21,9],[22,1,22,9],[23,1,23,9],[24,1,24,9],[25,1,25,9],[4,7,4,8],[16,1,16,9],[17,1,17,9],[18,1,18,9],[19,1,19,9],[20,1,20,9],[11,1,11,9],[12,1,12,9],[13,1,13,9],[14,1,14,9],[4,9,4,10],[7,1,7,9],[8,1,8,9],[9,1,9,9],[10,1,10,9],[0,0,0,14],[2,7,2,16],[3,0,3,6],[3,7,3,10],[4,0,4,6]]}
["Налоговый регистр к строке 300.00.028 Сумма НДС по товарам, работам, услугам, использованным для целей оборотов по нулевой ставке"]
[]
["Наименование плательщика НДС ",{"$nulls":6},{"$f":"T(' 300'!G7:W7)","v":""}]
["ИИН/БИН",{"$nulls":6},{"$f":"' 300'!D5","v":"600400123456"}]
["Налоговый период ",{"$nulls":6},{"$f":"' 300'!L9","v":1},null,{"$f":"' 300'!R9","v":2023},{"$nulls":4},"тенге"]
[]
["Раздел. Сумма НДС по товарам, работам, услугам, использованным для целей оборотов, облагаемых по нулевой ставке"]
["№","Наименование показателей/ Контрагент",{"$nulls":8},"Основание (№ договора дата заключения контракта)","Дата счет-фактуры","Номер счет-фактуры","ГТД","Сумма НДС, отнесенного в зачет для целей оборотов по нулевой ставке"]
["А","По экспортированным товарам",{"$nulls":12},{"$f":"SUM(O10:O32)","v":0}]
{"$rows_empty":23}
["В","По международным перевозкам",{"$nulls":12},{"$f":"SUM(O34:O39)","v":0}]
[]
[]
[]
[]
[]
[]
["С","По прочей реализации, облагаемой по нулевой ставке",{"$nulls":12},{"$f":"SUM(O41:O52)","v":0}]
{"$rows_empty":12}
[null,"Итого сумма НДС, относимого в зачет и использованного для целей оборота облагаемого по нулевой ставке",{"$nulls":12},{"$f":"(O9+O33+O40)","v":0}]
[]
["_______________________________________________________________________________________"]
["(Ф.И.О., подпись лица, ответственного за составление налогового регистра)"]
["_______________________________________________________________________________________"]
["(Ф.И.О., подпись главного бухгалтера)"]
["__________________________________"]
["(Дата составления налогового регистра) "]

{"sheet":"300.01","index":5,"n_rows":50,"n_cols":12,"rows_kept":50,"cut":false,"hidden":false,"merged":[[25,2,25,9],[27,2,27,9],[29,2,29,9],[31,2,31,9],[33,2,33,9],[25,11,25,13],[27,11,27,13],[29,11,29,13],[31,11,31,13],[1,2,1,13],[2,2,2,13],[3,0,3,13],[4,3,4,5],[5,6,5,7],[5,10,5,11],[6,0,6,13],[7,2,7,10],[7,11,7,13],[9,2,9,10],[9,11,9,13],[21,2,21,10],[21,11,21,13],[11,2,11,10],[11,11,11,13],[13,2,13,10],[23,2,23,10],[23,11,23,13],[37,0,37,13],[38,2,38,10],[38,11,38,13],[40,2,40,10],[40,11,40,13],[35,2,35,10],[35,11,35,13],[33,11,33,13],[42,2,42,10],[42,11,42,13],[44,2,44,10],[44,11,44,13],[46,2,46,10],[46,11,46,13],[13,11,13,13],[15,2,15,10],[15,11,15,13],[17,2,17,10],[17,11,17,13],[19,2,19,10],[19,11,19,13]]}
[]
[null,null,"ОБОРОТ ПО РЕАЛИЗАЦИИ, ОБЛАГАЕМЫЙ ПО НУЛЕВОЙ СТАВКЕ"]
[null,null," (Приложение 1 к Декларации)"]
["Раздел. Общая информация о плательщике НДС"]
["ИИН/БИН",null,null,{"$f":"' 300'!D5","v":"600400123456"}]
["Налоговый период :",{"$nulls":5},"квартал",null,{"$f":"' 300'!L9","v":1},"год",{"$f":"' 300'!R9","v":2023}]
["Раздел. Оборот по реализации, облагаемый по нулевой ставке"]
["код строки ",null,"Наименование",{"$nulls":8},"Сумма"]
[]
["300.01.001",null,"Экспорт товара, в том числе:",{"$nulls":8},{"$f":"L12+L14+L16+L18+L20","v":0}]
[]
["I",null,"в государства, не являющиеся членами Евразийского экономического союза",{"$nulls":8},{"$f":"'.002'!P11","v":0}]
[]
["II",null,"в Российскую Федерацию",{"$nulls":8},{"$f":"'.002'!P18","v":0}]
[]
["III",null,"в Республику Беларусь",{"$nulls":8},{"$f":"'.002'!P25","v":0}]
[]
["IV",null,"в Республику Армения",{"$nulls":8},{"$f":"'.002'!P32","v":0}]
[]
["V",null,"в Кыргызскую Республику",{"$nulls":8},{"$f":"'.002'!P39","v":0}]
[]
["300.01.002",null,"Международные перевозки",{"$nulls":8},{"$f":"'.002'!P46","v":0}]
[]
["300.01.003",null,"Прочая реализация, облагаемая по нулевой ставке",{"$nulls":8},{"$f":"L26+L28+L30+L32+L34","v":0}]
[]
["I",null,{"$f":"'.002'!K54","v":388},{"$nulls":8},{"$f":"'.002'!P54","v":0}]
[]
["II",null,{"$f":"'.002'!K61","v":"389,390,391"},{"$nulls":8},{"$f":"'.002'!P61","v":0}]
[]
["III",null,{"$f":"'.002'!K68","v":392},{"$nulls":8},{"$f":"'.002'!P68","v":0}]
[]
["IV",null,{"$f":"'.002'!K75","v":"393.1"},{"$nulls":8},{"$f":"'.002'!P75","v":0}]
[]
["V",null,{"$f":"'.002'!K82","v":"393.2, 393.3"},{"$nulls":8},{"$f":"'.002'!P82","v":0}]
[]
["300.01.004",null,"Итого оборот по реализации, облагаемой по нулевой ставке",{"$nulls":8},{"$f":"L10+L22+L24","v":0}]
[]
["Раздел. Сумма НДС, относимого в зачет и использованного для целей оборота облагаемого по нулевой ставке"]
["код строки ",null,"Наименование",{"$nulls":8},"Сумма"]
[]
["300.01.005",null,"По экспортированным товарам",{"$nulls":8},{"$f":"'.028'!O9","v":0}]
[]
["300.01.006",null,"По международным перевозкам",{"$nulls":8},{"$f":"'.028'!O33","v":0}]
[]
["300.01.007",null,"По прочей реализации, облагаемой по нулевой ставке",{"$nulls":8},{"$f":"'.028'!O40","v":0}]
[]
["300.01.008",null,"Итого сумма НДС, относимого в зачет и использованного для целей оборота облагаемого по нулевой ставке",{"$nulls":8},{"$f":"L41+L43+L45","v":0}]
[]
[null,null,"Сумма строки 300.01.004 переносится в строку 300.00.002"]
[null,null,"Сумма строки 300.01.008 переносится в строку 300.00.028"]

{"sheet":".003","index":6,"n_rows":51,"n_cols":15,"rows_kept":51,"cut":false,"hidden":false,"merged":[[35,1,35,6],[17,1,17,6],[37,1,37,6],[39,1,39,6],[40,1,40,6],[41,1,41,6],[38,1,38,6],[42,1,42,6],[30,1,30,6],[31,1,31,6],[32,1,32,6],[34,1,34,6],[0,1,0,11],[2,5,2,14],[3,5,3,8],[3,0,3,4],[4,0,4,4],[5,7,6,7],[5,14,6,14],[5,10,6,10],[5,12,6,12],[5,11,6,11],[4,5,4,6],[5,13,6,13],[5,1,6,6],[8,1,8,6],[13,1,13,6],[7,1,7,6],[36,1,36,6],[27,1,27,6],[20,1,20,6],[21,1,21,6],[22,1,22,6],[33,1,33,6],[23,1,23,6],[5,0,6,0],[28,1,28,6],[5,8,5,9],[19,1,19,6],[11,1,11,6],[24,1,24,6],[25,1,25,6],[14,1,14,6],[15,1,15,6],[18,1,18,6],[9,1,9,6],[10,1,10,6],[29,1,29,6],[26,1,26,6],[12,1,12,6],[16,1,16,6]]}
[null,"Налоговый регистр к строке 300.00.003 Корректировка размера облагаемого оборота"]
[]
["Наименование плательщика НДС ",{"$nulls":4},{"$f":"T(' 300'!G7:W7)","v":""}]
["ИИН/БИН",{"$nulls":4},{"$f":"' 300'!D5","v":"600400123456"}]
["Налоговый период ",{"$nulls":4},{"$f":"' 300'!L9","v":1},null,null,{"$f":"' 300'!R9","v":2023},{"$nulls":5},"тенге"]
["№","Наименование показателей",{"$nulls":5},"Положение НК","Контрагент",null,"Основание","Дата дополнительной счет-фактуры","Номер дополнительной счет-фактуры","Сумма оборота без НДС","Сумма НДС"]
[{"$nulls":8},"Наименование","БИН"]
["А","Корректировка размера облагаемого оборота по реализации, в том числе:",{"$nulls":11},{"$f":"(N9+N14+N19+N24+N29+N34+N39)","v":0},{"$f":"(O9+O14+O19+O24+O29+O34+O39)","v":0}]
[1,"Полный или частичный возврат товара",{"$nulls":5},"383.2.1",{"$nulls":5},{"$f":"+SUM(N10:N13)","v":0},{"$f":"+SUM(O10:O13)","v":0}]
[]
[]
[]
[]
[2,"Изменение условий сделки",{"$nulls":5},"383.2.2",{"$nulls":5},{"$f":"+SUM(N15:N18)","v":0},{"$f":"+SUM(O15:O18)","v":0}]
[]
[]
[]
[]
[3,"Изменение цены, компенсации за реализованные товары, работы, услуги",{"$nulls":5},"383.2.3",{"$nulls":5},{"$f":"+SUM(N20:N23)","v":0},{"$f":"+SUM(O20:O23)","v":0}]
[]
[]
[]
[]
[4,"Скидка с цены, скидка с продаж",{"$nulls":5},"383.2.4",{"$nulls":5},{"$f":"+SUM(N25:N28)","v":0},{"$f":"+SUM(O25:O28)","v":0}]
[]
[]
[]
[]
[5,"Возврат тары",{"$nulls":5},"383.2.5",{"$nulls":5},{"$f":"+SUM(N30:N33)","v":0},{"$f":"+SUM(O30:O33)","v":0}]
[]
[]
[]
[]
[6,"Признание сомнительных требований",{"$nulls":5},"384.1",{"$nulls":5},{"$f":"+SUM(N35:N38)","v":0},{"$f":"+SUM(O35:O38)","v":0}]
[]
[]
[]
[]
[7,"Оплата по сомнительным требованиям",{"$nulls":5},"384.3",{"$nulls":5},{"$f":"SUM(N40:N43)","v":0},{"$f":"+SUM(O40:O43)","v":0}]
[]
[]
[]
[]
[]
[]
["_______________________________________________________________________________________"]
["(Ф.И.О., подпись лица, ответственного за составление налогового регистра)"]
["_______________________________________________________________________________________"]
["(Ф.И.О., подпись главного бухгалтера)"]
["__________________________________"]
["(Дата составления налогового регистра) "]

{"sheet":".022","index":7,"n_rows":86,"n_cols":19,"rows_kept":86,"cut":false,"hidden":false,"merged":[[75,1,75,9],[76,1,76,9],[9,1,9,15],[60,1,60,15],[71,1,71,15],[7,10,8,10],[67,1,67,9],[68,1,68,9],[69,1,69,9],[70,1,70,9],[73,1,73,9],[74,1,74,9],[58,1,58,9],[59,1,59,9],[62,1,62,9],[63,1,63,9],[64,1,64,9],[65,1,65,9],[51,1,51,9],[52,1,52,9],[53,1,53,9],[54,1,54,9],[56,1,56,9],[57,1,57,9],[38,1,38,9],[39,1,39,9],[41,1,41,9],[42,1,42,9],[43,1,43,9],[44,1,44,9],[40,1,40,9],[31,1,31,9],[32,1,32,9],[33,1,33,9],[34,1,34,9],[36,1,36,9],[37,1,37,9],[23,1,23,9],[24,1,24,9],[26,1,26,9],[27,1,27,9],[28,1,28,9],[29,1,29,9],[16,1,16,9],[17,1,17,9],[18,1,18,9],[19,1,19,9],[21,1,21,9],[22,1,22,9],[20,1,20,9],[3,11,3,18],[4,11,4,12],[3,0,3,9],[4,0,4,9],[7,13,8,13],[6,1,6,7],[7,18,8,18],[7,17,8,17],[7,0,8,0],[7,1,8,9],[1,1,1,16],[25,1,25,9],[30,1,30,9],[35,1,35,9],[77,1,77,9],[66,1,66,9],[5,0,5,9],[7,16,8,16],[7,14,8,14],[7,15,8,15],[10,1,10,9],[15,1,15,9],[7,11,7,12],[11,1,11,9],[12,1,12,9],[13,1,13,9],[14,1,14,9],[80,0,80,1],[45,1,45,9],[50,1,50,9],[55,1,55,9],[61,1,61,9],[72,1,72,9],[46,1,46,9],[47,1,47,9],[48,1,48,9],[49,1,49,9]]}
[]
[null,"Налоговый регистр к строке 300.00.022 Корректировка суммы НДС, относимого в зачет, к разделу Корректировка суммы НДС, отнесенного в зачет Приложения 300.06"]
[]
["Наименование плательщика НДС ",{"$nulls":10},{"$f":"T(' 300'!G7:W7)","v":""}]
["ИИН/БИН",{"$nulls":10},{"$f":"' 300'!D5","v":"600400123456"}]
["Налоговый период ",{"$nulls":10},{"$f":"' 300'!L9","v":1},2021]
[{"$nulls":18},"тенге"]
["№","Наименование показателей",{"$nulls":8},"Положение НК","Поставщик",null,"Основание","Дата дополнительной счет-фактуры","Номер дополнительной счет-фактуры","Сумма корректировки оборота","Сумма корректировки НДС","Общая сумма корректировки"]
[{"$nulls":11},"Наименование","БИН"]
["А","Корректировка суммы НДС, относимого в зачет, в соответствии статьи 404 Налогового кодекса, в том числе:",{"$nulls":14},{"$f":"Q11+Q16+Q21+Q26+Q31+Q36+Q41+Q46+Q51+Q56","v":0},{"$f":"R11+R16+R21+R26+R31+R36+R41+R46+R51+R56","v":0},{"$f":"S11+S16+S21+S26+S31+S36+S41+S46+S51+S56","v":0}]
[1,"По товарам, работам, услугам, использованным не в целях облагаемого оборота",{"$nulls":8},"404.2.1",{"$nulls":5},{"$f":"SUM(Q12:Q15)","v":0},{"$f":"SUM(R12:R15)","v":0},{"$f":"SUM(S12:S15)","v":0}]
[{"$nulls":18},{"$f":"Q12+R12","v":0}]
[{"$nulls":18},{"$f":"Q13+R13","v":0}]
[{"$nulls":18},{"$f":"Q14+R14","v":0}]
[{"$nulls":18},{"$f":"Q15+R15","v":0}]
[2,"По товарам в случае их порчи или утраты",{"$nulls":8},"404.2.2",{"$nulls":5},{"$f":"SUM(Q17:Q20)","v":0},{"$f":"SUM(R17:R20)","v":0},{"$f":"SUM(S17:S20)","v":0}]
[{"$nulls":18},{"$f":"Q17+R17","v":0}]
[{"$nulls":18},{"$f":"Q18+R18","v":0}]
[{"$nulls":18},{"$f":"Q19+R19","v":0}]
[{"$nulls":18},{"$f":"Q20+R20","v":0}]
[3,"По сверхнормативным потерям, понесенным субъектом естественной монополии",{"$nulls":8},"404.2.3",{"$nulls":5},{"$f":"SUM(Q22:Q25)","v":0},{"$f":"SUM(R22:R25)","v":0},{"$f":"SUM(S22:S25)","v":0}]
[{"$nulls":18},{"$f":"Q22+R22","v":0}]
[{"$nulls":18},{"$f":"Q23+R23","v":0}]
[{"$nulls":18},{"$f":"Q24+R24","v":0}]
[{"$nulls":18},{"$f":"Q25+R25","v":0}]
[4,"По имуществу, переданному в качестве взноса в уставный капитал",{"$nulls":8},"404.2.4",{"$nulls":5},{"$f":"SUM(Q27:Q30)","v":0},{"$f":"SUM(R27:R30)","v":0},{"$f":"SUM(S27:S30)","v":0}]
[{"$nulls":18},{"$f":"Q27+R27","v":0}]
[{"$nulls":18},{"$f":"Q28+R28","v":0}]
[{"$nulls":18},{"$f":"Q29+R29","v":0}]
[{"$nulls":18},{"$f":"Q30+R30","v":0}]
[5,"По товарам, частично или полностью возвращенным поставщику",{"$nulls":8},"404.2.6",{"$nulls":5},{"$f":"SUM(Q32:Q35)","v":0},{"$f":"SUM(R32:R35)","v":0},{"$f":"SUM(S32:S35)","v":0}]
[{"$nulls":18},{"$f":"Q32+R32","v":0}]
[{"$nulls":18},{"$f":"Q33+R33","v":0}]
[{"$nulls":18},{"$f":"Q34+R34","v":0}]
[{"$nulls":18},{"$f":"Q35+R35","v":0}]
[6,"Изменения условий сделки",{"$nulls":8},"404.2.6",{"$nulls":5},{"$f":"SUM(Q37:Q40)","v":0},{"$f":"SUM(R37:R40)","v":0},{"$f":"SUM(S37:S40)","v":0}]
[{"$nulls":18},{"$f":"Q37+R37","v":0}]
[{"$nulls":18},{"$f":"Q38+R38","v":0}]
[{"$nulls":18},{"$f":"Q39+R39","v":0}]
[{"$nulls":18},{"$f":"Q40+R40","v":0}]
[7,"В связи с изменением цены, компенсации за приобретенные товары, работы, услуги",{"$nulls":8},"404.2.6",{"$nulls":5},{"$f":"SUM(Q42:Q45)","v":0},{"$f":"SUM(R42:R45)","v":0},{"$f":"SUM(S42:S45)","v":0}]
[{"$nulls":18},{"$f":"Q42+R42","v":0}]
[{"$nulls":18},{"$f":"Q43+R43","v":0}]
[{"$nulls":18},{"$f":"Q44+R44","v":0}]
[{"$nulls":18},{"$f":"Q45+R45","v":0}]
[8,"В связи со скидкой с цены, скидкой с продаж",{"$nulls":8},"404.2.6",{"$nulls":5},{"$f":"SUM(Q47:Q50)","v":0},{"$f":"SUM(R47:R50)","v":0},{"$f":"SUM(S47:S50)","v":0}]
[{"$nulls":18},{"$f":"Q47+R47","v":0}]
[{"$nulls":18},{"$f":"Q48+R48","v":0}]
[{"$nulls":18},{"$f":"Q49+R49","v":0}]
[{"$nulls":18},{"$f":"Q50+R50","v":0}]
[9,"В связи с получением разницы в стоимости приобретенных  товаров, работ, услуг при их оплате в тенге",{"$nulls":8},"404.2.6",{"$nulls":5},{"$f":"SUM(Q52:Q55)","v":0},{"$f":"SUM(R52:R55)","v":0},{"$f":"SUM(S52:S55)","v":0}]
[{"$nulls":18},{"$f":"Q52+R52","v":0}]
[{"$nulls":18},{"$f":"Q53+R53","v":0}]
[{"$nulls":18},{"$f":"Q54+R54","v":0}]
[{"$nulls":18},{"$f":"Q55+R55","v":0}]
[10,"Возврат тары",{"$nulls":8},"404.2.6",{"$nulls":5},{"$f":"SUM(Q57:Q60)","v":0},{"$f":"SUM(R57:R60)","v":0},{"$f":"SUM(S57:S60)","v":0}]
[{"$nulls":18},{"$f":"Q57+R57","v":0}]
[{"$nulls":18},{"$f":"Q58+R58","v":0}]
[{"$nulls":18},{"$f":"Q59+R59","v":0}]
[{"$nulls":18},{"$f":"Q60+R60","v":0}]
["В","Корректировка сумм НДС, отнесенного в зачет по сомнительным обязательствам, при списании обязательств, в соответствии статьи 405 Налогового кодекса, в том числе:",{"$nulls":14},{"$f":"Q62+Q67","v":0},{"$f":"R62+R67","v":0},{"$f":"S62+S67","v":0}]
[11,"По сомнительным обязательствам",{"$nulls":14},{"$f":"SUM(Q63:Q66)","v":0},{"$f":"SUM(R63:R66)","v":0},{"$f":"SUM(S63:S66)","v":0}]
[{"$nulls":18},{"$f":"Q63+R63","v":0}]
[{"$nulls":18},{"$f":"Q64+R64","v":0}]
[{"$nulls":18},{"$f":"Q65+R65","v":0}]
[{"$nulls":18},{"$f":"Q66+R66","v":0}]
[12,"При списании обязательств",{"$nulls":14},{"$f":"SUM(Q68:Q71)","v":0},{"$f":"SUM(R68:R71)","v":0},{"$f":"SUM(S68:S71)","v":0}]
[{"$nulls":18},{"$f":"Q68+R68","v":0}]
[{"$nulls":18},{"$f":"Q69+R69","v":0}]
[{"$nulls":18},{"$f":"Q70+R70","v":0}]
[{"$nulls":18},{"$f":"Q71+R71","v":0}]
["С","Увеличение суммы НДС, отнесенного в зачет в связи с оплатой по сомнительному обязательству :",{"$nulls":14},{"$f":"Q73","v":0},{"$f":"R73","v":0},{"$f":"S73","v":0}]
[13,"При осуществлении оплаты по списанным сомнительным обязательствам",{"$nulls":14},{"$f":"SUM(Q74:Q77)","v":0},{"$f":"SUM(R74:R77)","v":0},{"$f":"SUM(S74:S77)","v":0}]
[{"$nulls":18},{"$f":"Q74+R74","v":0}]
[{"$nulls":18},{"$f":"Q75+R75","v":0}]
[{"$nulls":18},{"$f":"Q76+R76","v":0}]
[{"$nulls":18},{"$f":"Q77+R77","v":0}]
["Итого",{"$nulls":15},{"$f":"Q10+Q61+Q72","v":0},{"$f":"(R11+R16+R21+R26+R31+R36+R41+R46+R51+R56+R62+R67+R73)","v":0},{"$f":"(S11+S16+S21+S26+S31+S36+S41+S46+S51+S56+S62+S67+S73)","v":0}]
[]
[]
[]
["(Ф.И.О., подпись лица, ответственного за составление налогового регистра)"]
["_______________________________________________________________________________________"]
["(Ф.И.О., подпись главного бухгалтера)"]
["__________________________________"]
["(Дата составления налогового регистра) "]

{"sheet":"300.06","index":8,"n_rows":69,"n_cols":14,"rows_kept":69,"cut":false,"hidden":false,"merged":[[52,11,52,13],[44,0,44,12],[38,2,38,7],[38,11,38,13],[54,2,54,7],[54,11,54,13],[52,2,52,7],[32,2,32,7],[29,0,29,13],[32,11,32,13],[40,2,40,7],[40,11,40,13],[42,2,42,7],[42,11,42,13],[1,2,1,13],[2,2,2,13],[3,0,3,13],[4,4,4,6],[5,6,5,7],[5,10,5,11],[6,0,6,13],[7,11,7,13],[9,11,9,13],[11,11,11,13],[50,2,50,7],[50,11,50,13],[34,2,34,7],[36,2,36,7],[13,11,13,13],[46,2,46,7],[21,11,21,13],[23,11,23,13],[25,11,25,13],[15,2,15,7],[15,11,15,13],[17,2,17,7],[17,11,17,13],[19,2,19,7],[19,11,19,13],[7,2,7,7],[34,11,34,13],[36,11,36,13],[11,2,11,7],[13,2,13,7],[23,2,23,7],[21,2,21,7],[27,11,27,13],[27,2,27,7],[9,2,9,7],[58,2,58,7],[58,11,58,13],[60,2,60,7],[60,11,60,13],[62,11,62,13],[46,11,46,13],[48,2,48,7],[48,11,48,13],[56,2,56,7],[56,11,56,13]]}
[]
[null,null,"КОРРЕКТИРОВКА РАЗМЕР ОБЛАГАЕМОГО И ОСВОБОЖДЕННОГО ОБОРОТОВ, А ТАКЖЕ СУММЫ НДС, ОТНЕСЕННОГО В ЗАЧЕТ"]
[null,null," (Приложение 6 к Декларации)"]
["Раздел. Общая информация о плательщике НДС"]
["ИИН/БИН",null,null,null,{"$f":"' 300'!D5","v":"600400123456"}]
["Налоговый период :",{"$nulls":5},"квартал",null,{"$f":"' 300'!L9","v":1},"год",{"$f":"' 300'!R9","v":2023}]
["Раздел. Корректировка размере облагаемого оборота"]
["код строки ",null,"Наименование",{"$nulls":6},"Сумма корректировки облагаемого оборота, без НДС",null,"Сумма корректировки НДС"]
[]
["300.06.001",null,"Корректировка размере облагаемого оборота(за исключением облагаемого по нулевой ставке)",{"$nulls":6},{"$f":"J12+J14+J16+J18+J20","v":0},null,{"$f":"L12+L14+L16+L18+L20","v":0},{"$f":"M12+M14+M16+M18+M20","v":0},{"$f":"N12+N14+N16+N18+N20","v":0}]
[]
["I",null,{"$f":"'.003'!H9","v":"383.2.1"},{"$nulls":6},{"$f":"'.003'!N9","v":0},null,{"$f":"'.003'!O9","v":0}]
[]
["II",null,{"$f":"'.003'!H14","v":"383.2.2"},{"$nulls":6},{"$f":"'.003'!N14","v":0},null,{"$f":"'.003'!O14","v":0}]
[]
["III",null,{"$f":"'.003'!H19","v":"383.2.3"},{"$nulls":6},{"$f":"'.003'!N19","v":0},null,{"$f":"'.003'!O19","v":0}]
[]
["IV",null,{"$f":"'.003'!H24","v":"383.2.4"},{"$nulls":6},{"$f":"'.003'!N24","v":0},null,{"$f":"'.003'!O24","v":0}]
[]
["V",null,{"$f":"'.003'!H29","v":"383.2.5"},{"$nulls":6},{"$f":"'.003'!N29","v":0},null,{"$f":"'.003'!O29","v":0}]
[]
["300.06.002",null,"Корректировка размере облагаемого оборота по сомнительным требованиям",{"$nulls":6},{"$f":"'.003'!N34","v":0},null,{"$f":"'.003'!O34","v":0}]
[]
["300.06.003",null,"Увеличение размере облагаемого оборота на стоимость оплаты по сомнительным требованиям",{"$nulls":6},{"$f":"'.003'!N39","v":0},null,{"$f":"'.003'!O39","v":0}]
[]
["300.06.004",null,"Итого сумма корректировки",{"$nulls":6},{"$f":"J10+J22+J24","v":0},null,{"$f":"L10+L22+L24","v":0}]
[]
["300.06.005",null,"Итого сумма корректировки размера, облагаемого оборота по нулевой ставке",{"$nulls":6},{"$f":"'.002'!P90","v":0}]
[]
["Раздел. Корректировка размере освобожденного оборота"]
["код строки ",null,"Наименование",{"$nulls":6},"Сумма корректировки освобожденного оборота, без НДС"]
[]
["300.06.006",null,"Корректировка размере освобожденного оборота, в т.ч.",{"$nulls":6},{"$f":"J37+J35+J39+J41+J43","v":0}]
[]
["I",null,{"$f":"'.005.017 '!K90","v":394},{"$nulls":6},{"$f":"'.005.017 '!Q90","v":0}]
[]
["II",null,{"$f":"'.005.017 '!K93","v":395},{"$nulls":6},{"$f":"'.005.017 '!Q93","v":0}]
[]
["III",null,{"$f":"'.005.017 '!K96","v":396},{"$nulls":6},{"$f":"'.005.017 '!Q96","v":0}]
[]
["IV",null,{"$f":"'.005.017 '!K99","v":398},{"$nulls":6},{"$f":"'.005.017 '!Q99","v":0}]
[]
["V",null,{"$f":"'.005.017 '!K102","v":399},{"$nulls":6},{"$f":"'.005.017 '!Q102+'.005.017 '!Q105","v":0}]
[]
["Раздел. Корректировка суммы НДС, отнесенного в зачет"]
[]
["300.06.007",null,"Корректировка сумм НДС, отнесенного в зачет, в т.ч.",{"$nulls":6},{"$f":"J51+J49","v":0},null,{"$f":"L51+L49","v":0}]
[]
["I",null,{"$f":"'.022'!K11","v":"404.2.1"},{"$nulls":6},{"$f":"'.022'!Q11","v":0},null,{"$f":"'.022'!R11","v":0}]
[]
["II",null,{"$f":"'.022'!K16","v":"404.2.2"},{"$nulls":6},{"$f":"'.022'!Q16","v":0},null,{"$f":"'.022'!R16","v":0}]
[]
["III",null,{"$f":"'.022'!K21","v":"404.2.3"},{"$nulls":6},{"$f":"'.022'!Q21","v":0},null,{"$f":"'.022'!R21","v":0}]
[]
["IV",null,{"$f":"'.022'!K26","v":"404.2.4"},{"$nulls":6},{"$f":"'.022'!Q26","v":0},null,{"$f":"'.022'!R26","v":0}]
[]
["V",null,{"$f":"'.022'!K31","v":"404.2.6"},{"$nulls":6},{"$f":"'.022'!Q31+'.022'!Q36+'.022'!Q41+'.022'!Q46+'.022'!Q51+'.022'!Q56","v":0},null,{"$f":"'.022'!R31+'.022'!R36+'.022'!R41+'.022'!R46+'.022'!R51+'.022'!R56","v":0}]
[]
["300.01.008",null,"Корректировка сумм НДС, отнесенного в зачет по сомнительным обязательствам, при списании обязательств",{"$nulls":6},{"$f":"'.022'!Q61","v":0},null,{"$f":"'.022'!R61","v":0}]
[]
["300.01.009",null,"Увеличение суммы НДС, отнесенного в зачет в связи с оплатой по сомнительным требованиям",{"$nulls":6},{"$f":"'.022'!Q72","v":0},null,{"$f":"'.022'!R72","v":0}]
[]
["300.01.010",null,"Итого сумма корректировки",{"$nulls":6},{"$f":"J47+J59+J61","v":0},null,{"$f":"L47+L59+L61","v":0}]
[]
[null,null,"Сумма строки 300.06.005А переносится в строку 300.00.002А"]
[null,null,"Сумма строки 300.06.004 А переносится в строку 300.00.003А"]
[null,null,"Сумма строки 300.06.004 В переносится в строку 300.00.003В"]
[null,null,"Сумма строки 300.06.006 А переносится в строку 300.00.005А"]
[null,null,"Сумма строки 300.06.010 В переносится в строку 300.00.022"]

{"sheet":".004","index":9,"n_rows":97,"n_cols":15,"rows_kept":97,"cut":false,"hidden":false,"merged":[[18,1,18,7],[19,1,19,7],[16,1,16,8],[25,1,25,8],[29,1,29,8],[21,1,21,7],[22,1,22,7],[23,1,23,7],[26,1,26,7],[27,1,27,7],[28,1,28,7],[0,0,0,14],[6,1,6,9],[7,1,7,9],[8,1,8,9],[20,1,20,8],[24,1,24,8],[13,1,13,7],[14,1,14,7],[15,1,15,7],[17,1,17,7],[12,1,12,9],[2,5,2,14],[3,5,3,10],[3,0,3,4],[4,0,4,4],[4,5,4,6],[4,7,4,10],[9,1,9,7],[10,1,10,7],[11,1,11,7],[70,1,70,7],[74,1,74,8],[78,1,78,8],[63,1,63,7],[38,1,38,7],[39,1,39,7],[40,1,40,7],[42,1,42,7],[49,1,49,8],[30,1,30,7],[31,1,31,7],[32,1,32,7],[34,1,34,7],[35,1,35,7],[36,1,36,7],[33,1,33,8],[43,1,43,7],[44,1,44,7],[46,1,46,7],[47,1,47,7],[48,1,48,7],[37,1,37,8],[41,1,41,8],[45,1,45,8],[50,1,50,7],[51,1,51,7],[52,1,52,7],[54,1,54,7],[55,1,55,7],[56,1,56,7],[66,1,66,8],[68,1,68,7],[69,1,69,7],[58,1,58,7],[53,1,53,8],[57,1,57,8],[59,1,59,7],[60,1,60,7],[62,1,62,7],[61,1,61,8],[86,1,86,8],[85,1,85,7],[82,1,82,8],[64,1,64,7],[67,1,67,7],[71,1,71,7],[72,1,72,7],[73,1,73,7],[75,1,75,7],[65,1,65,8],[76,1,76,7],[77,1,77,7],[87,1,87,7],[88,1,88,7],[89,1,89,7],[79,1,79,7],[80,1,80,7],[81,1,81,7],[83,1,83,7],[84,1,84,7]]}
["Налоговый регистр к строке 300.00.004 Оборот по реализации товаров, работ, услуг, местом реализации которых не является РК"]
[]
["Наименование плательщика НДС ",{"$nulls":4},{"$f":"T(' 300'!G7:W7)","v":""}]
["ИИН/БИН",{"$nulls":4},{"$f":"' 300'!D5","v":"600400123456"}]
["Налоговый период ",{"$nulls":4},{"$f":"' 300'!L9","v":1},null,{"$f":"' 300'!R9","v":2023}]
[{"$nulls":14},"тенге"]
["№","Наименование показателей",{"$nulls":8},"Контрагент","Основание","Дата счет-фактуры","Номер счет-фактуры","Сумма без НДС"]
["Итого","Оборот по реализации товаров, работ, услуг, местом реализации которых не является РК, в том числе:",{"$nulls":12},{"$f":"(O9+O13+O17+O21+O25+O66)","v":0}]
["А","Отгрузка товаров, местом реализации которых не является РК",{"$nulls":12},{"$f":"SUM(O10:O12)","v":0}]
[]
[]
[]
["В","Реализация работ, услуг нерезиденту, связанных с недвижимым имуществом, находящегося за пределами РК",{"$nulls":12},{"$f":"SUM(O14:O16)","v":0}]
[]
[]
[]
["С","Реализация работ, услуг нерезиденту, связанных с движимым имуществом, находящегося за пределами РК",{"$nulls":12},{"$f":"SUM(O18:O20)","v":0}]
[]
[]
[]
["D","Оказание услуг нерезиденту за пределами РК в сфере культуры, развлечений, науки, искусства, образования, физической культуры или спорта ",{"$nulls":12},{"$f":"SUM(O22:O24)","v":0}]
[]
[]
[]
["E","Реализация следующих работ, услуг, получателем которых является нерезидент РК из стран, не являющихся членами Евразийского экономического союза",{"$nulls":12},{"$f":"(O26+O30+O34+O38+O42+O46+O50+O54+O58+O62)","v":0}]
[1,"Передача прав на использование объектов интеллектуальной собственности",{"$nulls":12},{"$f":"SUM(O27:O29)","v":0}]
[]
[]
[]
[2,"Консультационные, аудиторские, инжиниринговые, дизайнерские, маркетинговые, юридические, бухгалтерские, адвокатские, рекламные услуги, а также услуги по предоставлению и (или) обработке информации, кроме распространения продукции средства массовой информации, а также предоставления доступа к массовой информации, размещенной на интернет-ресурсе",{"$nulls":12},{"$f":"SUM(O31:O33)","v":0}]
[]
[]
[]
[3,"Предоставление персонала",{"$nulls":12},{"$f":"SUM(O35:O37)","v":0}]
[]
[]
[]
[4,"Сдача в аренду движимого имущества (кроме транспортных средств)",{"$nulls":12},{"$f":"SUM(O39:O41)","v":0}]
[]
[]
[]
[5,"Услуги агента по приобретению товаров, работ, услуг, а также привлечению от имени основного участника договора (контракта) лиц для осуществления услуг, предусмотренных настоящим подпунктом",{"$nulls":12},{"$f":"SUM(O43:O45)","v":0}]
[]
[]
[]
[6,"Услуги связи",{"$nulls":12},{"$f":"SUM(O47:O49)","v":0}]
[]
[]
[]
[7,"Согласие ограничить или прекратить предпринимательскую деятельность за вознаграждение",{"$nulls":12},{"$f":"SUM(O51:O53)","v":0}]
[]
[]
[]
[8,"Услуги радио и телевизионные услуги",{"$nulls":12},{"$f":"SUM(O55:O57)","v":0}]
[]
[]
[]
[9,"Услуги по организации туризма",{"$nulls":12},{"$f":"SUM(O59:O61)","v":0}]
[]
[]
[]
[10,"Услуги по предоставлению в аренду и (или) пользование грузовых вагонов и контейнеров",{"$nulls":12},{"$f":"SUM(O63:O65)","v":0}]
[]
[]
[]
["F","Реализация работ, услуг, получателем которых является нерезидент РК из стран-членов Евразийского экономического союза  ",{"$nulls":12},{"$f":"(O67+O71+O75+O79+O83+O87)","v":0}]
[1,"консультационные, юридические, бухгалтерские, аудиторские, инжиниринговые, рекламные, дизайнерские, маркетинговые услуги, услуги по обработке информации, а также научно-исследовательские, опытно-конструкторские и опытно-технологические (технологические) работы",{"$nulls":12},{"$f":"SUM(O68:O70)","v":0}]
[]
[]
[]
[2,"работы, услуги по разработке программ для ЭВМ и баз данных (программных средств и информационных продуктов вычислительной техники), их адаптации и модификации, сопровождению таких программ и баз данных",{"$nulls":12},{"$f":"SUM(O72:O74)","v":0}]
[]
[]
[]
[3,"услуги по предоставлению персонала в случае, если персонал работает в месте деятельности покупателя",{"$nulls":12},{"$f":"SUM(O76:O78)","v":0}]
[]
[]
[]
[4,"при передаче, предоставлении, уступке патентов, лицензий, иных документов, удостоверяющих права на охраняемые государством объекты промышленной собственности, торговых марок, товарных знаков, фирменных наименований, знаков обслуживания, авторских, смежных прав или иных аналогичных прав",{"$nulls":12},{"$f":"SUM(O80:O82)","v":0}]
[]
[]
[]
[5,"аренда, лизинга и предоставление в пользование на иных основаниях движимого имущества (за исключением аренды, лизинга и предоставления в пользование на иных основаниях транспортных средств)",{"$nulls":12},{"$f":"SUM(O84:O86)","v":0}]
[]
[]
[]
[6,"оказание услуг лицом, привлекающим от имени основного участника договора (контракта) другое лицо для выполнения работ, услуг, предусмотренных  п.п.4) п. 2 ст. 276-5 НК",{"$nulls":12},{"$f":"SUM(O88:O90)","v":0}]
[]
[]
[]
[]
[]
["(Ф.И.О., подпись лица, ответственного за составление налогового регистра)"]
["_______________________________________________________________________________________"]
["(Ф.И.О., подпись главного бухгалтера)"]
["__________________________________"]
["(Дата составления налогового регистра) "]

{"sheet":".005.017 ","index":10,"n_rows":115,"n_cols":17,"rows_kept":115,"cut":false,"hidden":false,"merged":[[75,1,75,9],[76,1,76,9],[69,1,69,9],[70,1,70,9],[71,1,71,9],[72,1,72,9],[73,1,73,9],[74,1,74,9],[23,1,23,9],[24,1,24,9],[25,1,25,9],[26,1,26,9],[27,1,27,9],[28,1,28,9],[51,1,51,9],[52,1,52,9],[53,1,53,9],[54,1,54,9],[63,1,63,9],[17,1,17,9],[18,1,18,9],[19,1,19,9],[20,1,20,9],[21,1,21,9],[78,1,78,9],[79,1,79,9],[80,1,80,9],[87,1,87,9],[81,1,81,9],[82,1,82,9],[83,1,83,9],[84,1,84,9],[85,1,85,9],[57,1,57,9],[58,1,58,9],[59,1,59,9],[60,1,60,9],[64,1,64,9],[77,1,77,9],[65,1,65,9],[66,1,66,9],[67,1,67,9],[68,1,68,9],[103,1,103,9],[105,1,105,9],[106,1,106,9],[107,0,107,9],[10,1,10,9],[11,1,11,9],[12,1,12,9],[14,1,14,9],[15,1,15,9],[16,1,16,9],[96,1,96,9],[97,1,97,9],[95,1,95,9],[99,1,99,9],[100,1,100,9],[102,1,102,9],[49,1,49,9],[50,1,50,9],[90,1,90,9],[91,1,91,9],[93,1,93,9],[94,1,94,9],[86,1,86,9],[61,1,61,9],[55,1,55,9],[56,1,56,9],[3,7,3,11],[4,9,4,11],[34,1,34,9],[4,7,4,8],[4,0,4,6],[3,0,3,6],[9,1,9,9],[30,1,30,9],[32,1,32,9],[29,1,29,9],[88,1,88,9],[89,1,89,9],[92,1,92,9],[8,1,8,9],[6,1,6,9],[7,1,7,9],[44,1,44,9],[45,1,45,9],[46,1,46,9],[48,1,48,9],[33,1,33,9],[5,11,5,12],[13,1,13,9],[43,1,43,9],[35,1,35,9],[37,1,37,9],[38,1,38,9],[39,1,39,9],[31,1,31,9],[22,1,22,9],[1,1,1,16],[98,1,98,9],[101,1,101,9],[104,1,104,9],[36,1,36,9],[40,1,40,9],[47,1,47,9],[41,1,41,9],[42,1,42,9],[62,1,62,9]]}
[]
[null,"Налоговый регистр к строке 300.00.005 Оборот, освобожденный от НДС,   к строке 300.00.017 Освобожденный импорт товаров и к Приложению 300.02"]
[]
["ИИН/БИН",{"$nulls":6},{"$f":"' 300'!D5","v":"600400123456"}]
["Налоговый период ",{"$nulls":6},{"$f":"' 300'!L9","v":1},null,{"$f":"' 300'!R9","v":2023}]
[{"$nulls":11},"Контрагент",{"$nulls":4},"тенге"]
["№","Наименование показателей",{"$nulls":8},"Положение НК","Наименование","БИН","Основание","дата счет-фактуры","номер счет-фактуры","Сумма без НДС"]
["А","Оборот по реализации товаров, освобожденный от НДС, в том числе:",{"$nulls":14},{"$f":"(Q9+Q14+Q30+Q34+Q37+Q41+Q44+Q48)","v":0}]
[1,"Обороты по реализации товаров, работ, услуг, освобожденные от НДС, в том числе:",{"$nulls":8},394,{"$nulls":5},{"$f":"Q10+Q14+Q18+Q22+Q26","v":0}]
["I"," ",{"$nulls":8},1,{"$nulls":5},{"$f":"SUM(Q11:Q13)","v":0}]
[]
[]
[]
["II"," ",{"$nulls":8},2,{"$nulls":5},{"$f":"SUM(Q15:Q17)","v":0}]
[]
[]
[]
["III"," ",{"$nulls":14},{"$f":"SUM(Q19:Q21)","v":0}]
[]
[]
[]
["IV"," ",{"$nulls":14},{"$f":"SUM(Q23:Q25)","v":0}]
[]
[]
[]
["V"," ",{"$nulls":14},{"$f":"SUM(Q27:Q29)","v":0}]
[]
[]
[]
[2,"Обороты по реализации товаров, работ, услуг, освобожденные от НДС в соответствии с международными договорами",{"$nulls":14},{"$f":"SUM(Q31:Q33)","v":0}]
[]
[]
[]
[3," Обороты, связанные с международными перевозками",{"$nulls":14},{"$f":"SUM(Q35:Q36)","v":0}]
[]
[]
[4,"Обороты по реализации, связанные с землей и жилыми зданиями",{"$nulls":14},{"$f":"SUM(Q38:Q40)","v":0}]
[]
[]
[]
[5,"Обороты по реализации финансовых операций, освобожденные от НДС",{"$nulls":14},{"$f":"SUM(Q42:Q43)","v":0}]
[]
[]
[6,"Передача имущества в финансовый лизинг",{"$nulls":14},{"$f":"SUM(Q45:Q47)","v":0}]
[]
[]
[]
[7,"Обороты по реализации услуг по ремонту товаров, ввезенного на территорию РК с территории государств - членов Евразийского экономического союза, в  соответствии с подпунктом 2) пункта 1 статьи 451 Налогового кодекса",{"$nulls":14},{"$f":"SUM(Q49:Q51)","v":0}]
[]
[]
[]
[8,"Обороты по вознаграждению, выплачиваемому лизингополучателем-налогоплательщиком РК лизингодателю другого государства - члена Евразийского экономического союза по договору лизинга",{"$nulls":14},{"$f":"SUM(Q53:Q55)","v":0}]
[]
[]
[]
["В","Импорт, освобожденный от НДС",{"$nulls":14},{"$f":"(Q57+Q62+Q78+Q82+Q85)","v":0}]
[1,"Импорт, освобожденный от НДС, в том числе:",{"$nulls":14},{"$f":"Q58+Q62+Q66+Q70+Q74","v":0}]
["I"," ",{"$nulls":8},"399.1.10",{"$nulls":5},{"$f":"SUM(Q59:Q61)","v":0}]
[]
[]
[]
["II"," ",{"$nulls":14},{"$f":"SUM(Q63:Q65)","v":0}]
[]
[]
[]
["III"," ",{"$nulls":14},{"$f":"SUM(Q67:Q69)","v":0}]
[]
[]
[]
["IV"," ",{"$nulls":14},{"$f":"SUM(Q71:Q73)","v":0}]
[]
[]
[]
["V"," ",{"$nulls":14},{"$f":"SUM(Q75:Q77)","v":0}]
[]
[]
[]
[2,"Импорт, освобожденный от НДС в соответствии с международными договорами",{"$nulls":14},{"$f":"SUM(Q79:Q81)","v":0}]
[]
[]
[]
[3,"Ввоз товаров, импортируемых в рамках гарантийного обслуживания, предусмотренного договором (контрактом) согласно подпункту 2) пункта 2 статьи 451 Налогового кодекса",{"$nulls":14},{"$f":"SUM(Q83:Q84)","v":0}]
[]
[]
[4,"Импорт товаров в рамках соглашения (контракта) на недропользование, по которому предусмотрена стабильность налогового режима согласно пункту 1 статьи 722 Налогового кодекса",{"$nulls":14},{"$f":"SUM(Q86:Q88)","v":0}]
[]
[]
[]
["В","Корректировка освобожденного оборота по реализации, в том числе:",{"$nulls":14},{"$f":"(Q90+Q93+Q96+Q99+Q102+Q105)","v":0}]
[1,"обороты по реализации товаров, работ, услуг, освобожденные от НДС",{"$nulls":8},394,{"$nulls":5},{"$f":"SUM(Q91:Q92)","v":0}]
[]
[]
[2,"обороты, связанные с международными перевозками",{"$nulls":8},395,{"$nulls":5},{"$f":"SUM(Q94:Q95)","v":0}]
[]
[]
[3,"обороты по реализации, связанные с землей и жилыми зданиями",{"$nulls":8},396,{"$nulls":5},{"$f":"SUM(Q97:Q98)","v":0}]
[]
[]
[4,"Передача имуществ а в финансовый лизинг",{"$nulls":8},398,{"$nulls":5},{"$f":"SUM(Q100:Q101)","v":0}]
[]
[]
[5,"Импорт, освобожденный от НДС",{"$nulls":8},399,{"$nulls":5},{"$f":"SUM(Q103:Q104)","v":0}]
[]
[]
[6,"Прочие обороты, освобожденные от НДС",{"$nulls":14},{"$f":"SUM(Q106:Q107)","v":0}]
[]
[]
["Итого (А+В)",{"$nulls":15},{"$f":"(Q8+Q89)","v":0}]
[]
[]
["(Ф.И.О., подпись лица, ответственного за составление налогового регистра)"]
["_______________________________________________________________________________________"]
["(Ф.И.О., подпись главного бухгалтера)"]
["__________________________________"]
["(Дата составления налогового регистра) "]

{"sheet":"300.02","index":11,"n_rows":62,"n_cols":12,"rows_kept":62,"cut":false,"hidden":false,"merged":[[44,2,44,9],[46,2,46,9],[48,2,48,9],[50,2,50,9],[46,11,46,13],[48,11,48,13],[50,11,50,13],[44,11,44,13],[15,4,15,9],[17,4,17,9],[19,4,19,9],[15,11,15,13],[17,11,17,13],[19,11,19,13],[29,2,29,10],[29,11,29,13],[31,2,31,10],[31,11,31,13],[33,2,33,10],[33,11,33,13],[38,2,38,10],[40,2,40,9],[42,2,42,9],[1,2,1,13],[2,2,2,13],[3,0,3,13],[4,2,4,4],[5,6,5,7],[5,10,5,11],[6,0,6,13],[7,2,7,10],[7,11,7,13],[9,2,9,10],[9,11,9,13],[11,11,11,13],[13,11,13,13],[11,4,11,9],[13,4,13,9],[25,2,25,10],[25,11,25,13],[21,2,21,10],[21,11,21,13],[23,2,23,10],[23,11,23,13],[40,11,40,13],[54,2,54,10],[54,11,54,13],[27,2,27,10],[27,11,27,13],[35,2,35,10],[35,11,35,13],[37,0,37,13],[38,11,38,13],[42,11,42,13],[56,2,56,10],[56,11,56,13],[58,2,58,10],[58,11,58,13],[52,2,52,10],[52,11,52,13]]}
[]
[null,null,"ОБОРОТЫ ПО РЕАЛИЗАЦИИ ТОВАРОВ, РАБОТ, УСЛУГ И ИМПОРТ, ОСВОБОЖДЕННЫЕ ОТ НДС"]
[null,null," (Приложение 2 к Декларации)"]
["Раздел. Общая информация о плательщике НДС"]
["ИИН/БИН",null,{"$f":"' 300'!D5","v":"600400123456"}]
["Налоговый период :",{"$nulls":5},"квартал",null,{"$f":"' 300'!L9","v":1},"год",{"$f":"' 300'!R9","v":2023}]
["Раздел. Обороты по реализации, освобожденные от НДС"]
["код строки ",null,"Наименование",{"$nulls":8},"Сумма"]
[]
["300.02.001",null,"Обороты по реализации товаров, работ, услуг, освобожденные от НДС, в том числе:",{"$nulls":8},{"$f":"L12+L14","v":0}]
[]
["I",null,{"$f":"'.005.017 '!K9","v":394},".",{"$f":"'.005.017 '!K10","v":1},{"$nulls":6},{"$f":"'.005.017 '!Q10","v":0}]
[]
["II",null,{"$f":"'.005.017 '!K9","v":394},".",{"$f":"'.005.017 '!K14","v":2},{"$nulls":6},{"$f":"'.005.017 '!Q14","v":0}]
[]
["III",null,{"$f":"'.005.017 '!K9","v":394},".",{"$f":"'.005.017 '!K18","v":0},{"$nulls":6},{"$f":"'.005.017 '!Q18","v":0}]
[]
["IV",null,{"$f":"'.005.017 '!K9","v":394},".",{"$f":"'.005.017 '!K22","v":0},{"$nulls":6},{"$f":"'.005.017 '!Q22","v":0}]
[]
["V",null,{"$f":"'.005.017 '!K9","v":394},".",{"$f":"'.005.017 '!K26","v":0},{"$nulls":6},{"$f":"'.005.017 '!Q26","v":0}]
[]
["300.02.002",null,"Обороты по реализации товаров, работ, услуг, освобожденные от НДС в соответствии с международными договорами",{"$nulls":8},{"$f":"'.005.017 '!Q30","v":0}]
[]
["300.02.003",null,"Обороты связанные с международными перевозками",{"$nulls":8},{"$f":"'.005.017 '!Q34","v":0}]
[]
["300.02.004",null,"Обороты по реализации, связанные с землей и жилыми зданиями",{"$nulls":8},{"$f":"'.005.017 '!Q37","v":0}]
[]
["300.02.005",null,"Обороты по реализации финансовых операций, освобождаемые от НДС",{"$nulls":8},{"$f":"'.005.017 '!Q41","v":0}]
[]
["300.02.006",null,"Передача имущества в финансовый лизинг",{"$nulls":8},{"$f":"'.005.017 '!Q44","v":0}]
[]
["300.02.007",null,"Обороты по реализации услуг по ремонту товаров, ввезенного на территорию РК с территории государств - членов Евразийского экономического союза, в  соответствии с подпунктом 2) пункта 1 статьи 451 Налогового кодекса",{"$nulls":8},{"$f":"'.005.017 '!Q48","v":0}]
[]
["300.02.008",null,"Обороты по вознаграждению, выплачиваемому лизингополучателем-налогоплательщиком РК лизингодателю другого государства - члена Евразийского экономического союза по договору лизинга",{"$nulls":8},{"$f":"'.005.017 '!Q52","v":0}]
[]
["300.02.009",null,"Итоговая сумма оборотов по реализации товаров, работ, услуг, освобожденных от НДС",{"$nulls":8},{"$f":"L10+L22+L24+L26+L28+L30+L32+L34","v":0}]
[]
["Раздел. Импорт, освобожденный от НДС"]
["код строки ",null,"Наименование",{"$nulls":8},"Сумма"]
[]
["300.02.010",null,"Импорт, освобожденный от НДС, в том числе:",{"$nulls":8},{"$f":"L43+L45","v":0}]
[]
["I",null,{"$f":"'.005.017 '!K58","v":"399.1.10"},{"$nulls":8},{"$f":"'.005.017 '!Q58","v":0}]
[]
["II",null,{"$f":"'.005.017 '!K62","v":0},{"$nulls":8},{"$f":"'.005.017 '!Q62","v":0}]
[]
["III",null,{"$f":"'.005.017 '!K66","v":0},{"$nulls":8},{"$f":"'.005.017 '!Q66","v":0}]
[]
["IV",null,{"$f":"'.005.017 '!K70","v":0},{"$nulls":8},{"$f":"'.005.017 '!Q70","v":0}]
[]
["V",null,{"$f":"'.005.017 '!K74","v":0},{"$nulls":8},{"$f":"'.005.017 '!Q74","v":0}]
[]
["300.01.011",null,"Импорт, освобожденный от НДС в соответствии с международными договорами",{"$nulls":8},{"$f":"'.005.017 '!Q78","v":0}]
[]
["300.01.012",null,"Ввоз товаров, импортируемых в рамках гарантийного обслуживания, предусмотренного договором (контрактом) согласно подпункту 2) пункта 2 статьи 451 Налогового кодекса",{"$nulls":8},{"$f":"'.005.017 '!Q82","v":0}]
[]
["300.01.013",null,"Импорт товаров в рамках соглашения (контракта) на недропользование, по которому предусмотрена стабильность налогового режима согласно пункту 1 статьи 722 Налогового кодекса",{"$nulls":8},{"$f":"'.005.017 '!Q85","v":0}]
[]
["300.01.014",null,"Итого импорта, освобожденный от НДС",{"$nulls":8},{"$f":"L41+L53+L55+L57","v":0}]
[]
[null,null,"Сумма строки 300.02.009 переносится в строку 300.00.005"]
[null,null,"Сумма строки 300.02.014 переносится в строку 300.00.017"]

{"sheet":".010.020","index":12,"n_rows":68,"n_cols":17,"rows_kept":68,"cut":false,"hidden":false,"merged":[[1,1,1,16],[4,7,4,16],[5,0,5,6],[5,7,5,10],[6,0,6,6],[6,7,6,8],[6,9,6,10],[2,1,2,16],[8,1,8,9],[9,1,9,9],[10,1,10,9],[11,1,11,9],[12,1,12,9],[13,1,13,9],[14,1,14,9],[15,1,15,9],[16,1,16,9],[17,1,17,9],[18,1,18,9],[19,1,19,9],[20,1,20,9],[21,1,21,9],[22,1,22,9],[23,1,23,9],[24,1,24,9],[25,1,25,9],[26,1,26,9],[27,1,27,9],[28,1,28,9],[29,1,29,9],[30,1,30,9],[31,1,31,9],[32,1,32,9],[33,1,33,9],[34,1,34,9],[35,1,35,9],[36,1,36,9],[37,1,37,9],[38,1,38,9],[39,1,39,9],[40,1,40,9],[41,1,41,9],[42,1,42,9],[43,1,43,9],[44,1,44,9],[45,1,45,9],[46,1,46,9],[47,1,47,9],[48,1,48,9],[49,1,49,9],[56,1,56,9],[57,1,57,9],[58,1,58,9],[59,1,59,9],[50,1,50,9],[51,1,51,9],[52,1,52,9],[53,1,53,9],[54,1,54,9],[55,1,55,9]]}
[]
[null,"Налоговый регистр к строке 300.00.010 НДС начисленный при импорте товаров методом зачета в соответствии с условиями контракта на недропользование"]
[null,"к строке 300.00.020 Импорт товаров, по которым НДС уплачен методом зачета в соответствии с условиями контракта на недропользование"]
[]
["Наименование плательщика НДС ",{"$nulls":6},{"$f":"T(' 300'!G7:W7)","v":""}]
["ИИН/БИН",{"$nulls":6},{"$f":"' 300'!D5","v":"600400123456"}]
["Налоговый период ",{"$nulls":6},{"$f":"' 300'!L9","v":1},null,{"$f":"' 300'!R9","v":2023}]
[{"$nulls":16},"тенге"]
["№","Наименование показателей/ наименование номенклатуры",{"$nulls":8},"Контрагент","Основание (№ договора дата заключения контракта)","Код ТН ВЭД","Код страны импорта","ГТД, ФНО 328.00, 320.01","Сумма облагаемого импорта","Сумма НДС, уплачиваемого методом зачета"]
["А","Импорт товаров ",{"$nulls":13},{"$f":"(P11+P16+P21+P26+P31+P36+P41+P46+P51+P56)","v":0},{"$f":"(Q11+Q16+Q21+Q26+Q31+Q36+Q41+Q46+Q51+Q56)","v":0}]
[1,"Оборудование",{"$nulls":13},{"$f":"SUM(P12:P15)","v":0},{"$f":"SUM(Q12:Q15)","v":0}]
[]
[]
[]
[]
[2,"Сельскохозяйственная техника",{"$nulls":13},{"$f":"SUM(P17:P20)","v":0},{"$f":"SUM(Q17:Q20)","v":0}]
[]
[]
[]
[]
[3,"Грузовой подвижной состав автомобильного транспорта",{"$nulls":13},{"$f":"SUM(P22:P25)","v":0},{"$f":"SUM(Q22:Q25)","v":0}]
[]
[]
[]
[]
[4,"Самолеты и вертолеты",{"$nulls":13},{"$f":"SUM(P27:P30)","v":0},{"$f":"SUM(Q27:Q30)","v":0}]
[]
[]
[]
[]
[5,"Локомотивы железнодорожных и вагонов",{"$nulls":13},{"$f":"SUM(P32:P35)","v":0},{"$f":"SUM(Q32:Q35)","v":0}]
[]
[]
[]
[]
[6,"Морские суда",{"$nulls":13},{"$f":"SUM(P37:P40)","v":0},{"$f":"SUM(Q37:Q40)","v":0}]
[]
[]
[]
[]
[7,"Запасные части",{"$nulls":13},{"$f":"SUM(P42:P45)","v":0},{"$f":"SUM(Q42:Q45)","v":0}]
[]
[]
[]
[]
[8,"Пестициды (ядохимикаты)",{"$nulls":13},{"$f":"SUM(P47:P50)","v":0},{"$f":"SUM(Q47:Q50)","v":0}]
[]
[]
[]
[]
[9,"Племенные животные всех видов и оборудование для искусственного осеменения",{"$nulls":13},{"$f":"SUM(P52:P55)","v":0},{"$f":"SUM(Q52:Q55)","v":0}]
[]
[]
[]
[]
[10,"Крупный рогатый скот живой",{"$nulls":13},{"$f":"SUM(P57:P60)","v":0},{"$f":"SUM(Q57:Q60)","v":0}]
{"$rows_empty":7}
["(Ф.И.О., подпись лица, ответственного за составление налогового регистра)"]
["_______________________________________________________________________________________"]
["(Ф.И.О., подпись главного бухгалтера)"]
["__________________________________"]
["(Дата составления налогового регистра) "]

{"sheet":".011.029","index":13,"n_rows":121,"n_cols":17,"rows_kept":121,"cut":false,"hidden":false,"merged":[[1,1,1,16],[105,1,105,9],[106,1,106,9],[108,1,108,9],[109,1,109,9],[110,1,110,9],[90,1,90,9],[91,1,91,9],[93,1,93,9],[94,1,94,9],[111,1,111,9],[98,1,98,9],[99,1,99,9],[100,1,100,9],[101,1,101,9],[103,1,103,9],[104,1,104,9],[107,1,107,9],[96,1,96,9],[83,1,83,9],[84,1,84,9],[85,1,85,9],[86,1,86,9],[88,1,88,9],[89,1,89,9],[78,1,78,9],[79,1,79,9],[80,1,80,9],[81,1,81,9],[77,1,77,9],[95,1,95,9],[82,1,82,9],[71,1,71,9],[73,1,73,9],[74,1,74,9],[72,1,72,9],[75,1,75,9],[76,1,76,9],[58,1,58,9],[59,1,59,9],[63,1,63,9],[64,1,64,9],[65,1,65,9],[66,1,66,9],[60,1,60,9],[61,1,61,9],[51,1,51,9],[52,1,52,9],[53,1,53,9],[54,1,54,9],[56,1,56,9],[57,1,57,9],[55,1,55,9],[43,1,43,9],[44,1,44,9],[46,1,46,9],[47,1,47,9],[48,1,48,9],[49,1,49,9],[45,1,45,9],[36,1,36,9],[37,1,37,9],[38,1,38,9],[39,1,39,9],[41,1,41,9],[42,1,42,9],[28,1,28,9],[29,1,29,9],[31,1,31,9],[32,1,32,9],[33,1,33,9],[34,1,34,9],[30,1,30,9],[21,1,21,9],[22,1,22,9],[23,1,23,9],[24,1,24,9],[26,1,26,9],[27,1,27,9],[25,1,25,9],[12,1,12,9],[13,1,13,9],[14,1,14,9],[16,1,16,9],[17,1,17,9],[15,1,15,9],[112,1,112,9],[92,1,92,9],[97,1,97,9],[102,1,102,9],[62,1,62,9],[87,1,87,9],[67,1,67,9],[68,1,68,9],[69,1,69,9],[70,1,70,9],[8,1,8,9],[9,1,9,9],[10,1,10,9],[50,1,50,9],[35,1,35,9],[40,1,40,9],[20,1,20,9],[18,1,18,9],[19,1,19,9],[11,1,11,9],[2,1,2,15],[4,7,4,16],[5,7,5,10],[5,0,5,6],[6,0,6,6],[6,7,6,8],[6,9,6,10]]}
[]
[null,"Налоговый регистр к строке 300.00.011 НДС начисленный по импортируемым товарам в течение налогового периода и уплаченного методом зачета"]
[null,"к строке 300.00.029 Импорт товаров, по которым НДС уплачен методом зачета"]
[]
["Наименование плательщика НДС ",{"$nulls":6},{"$f":"T(' 300'!G7:W7)","v":""}]
["ИИН/БИН",{"$nulls":6},{"$f":"' 300'!D5","v":"600400123456"}]
["Налоговый период ",{"$nulls":6},{"$f":"' 300'!L9","v":1},null,{"$f":"' 300'!R9","v":2023}]
[{"$nulls":16},"тенге"]
["№","Наименование показателей/ наименование номенклатуры",{"$nulls":8},"Контрагент","Основание (№ договора дата заключения контракта)","Код ТН ВЭД","Код страны импорта","ГТД","Сумма облагаемого импорта","Сумма НДС, уплачиваемого методом зачета"]
["А","Импорт товаров из стран, не являющихся членами Евразийского экономического союза",{"$nulls":13},{"$f":"(P11+P16+P21+P26+P31+P36+P41+P46+P51+P56)","v":0},{"$f":"(Q11+Q16+Q21+Q26+Q31+Q36+Q41+Q46+Q51+Q56)","v":0}]
[1,"Оборудование",{"$nulls":13},{"$f":"SUM(P12:P15)","v":0},{"$f":"SUM(Q12:Q15)","v":0}]
[]
[]
[]
[]
[2,"Сельскохозяйственная техника",{"$nulls":13},{"$f":"SUM(P17:P20)","v":0},{"$f":"SUM(Q17:Q20)","v":0}]
[]
[]
[]
[]
[3,"Грузовой подвижной состав автомобильного транспорта",{"$nulls":13},{"$f":"SUM(P22:P25)","v":0},{"$f":"SUM(Q22:Q25)","v":0}]
[]
[]
[]
[]
[4,"Самолеты и вертолеты",{"$nulls":13},{"$f":"SUM(P27:P30)","v":0},{"$f":"SUM(Q27:Q30)","v":0}]
[]
[]
[]
[]
[5,"Локомотивы железнодорожных и вагонов",{"$nulls":13},{"$f":"SUM(P32:P35)","v":0},{"$f":"SUM(Q32:Q35)","v":0}]
[]
[]
[]
[]
[6,"Морские суда",{"$nulls":13},{"$f":"SUM(P37:P40)","v":0},{"$f":"SUM(Q37:Q40)","v":0}]
[]
[]
[]
[]
[7,"Запасные части",{"$nulls":13},{"$f":"SUM(P42:P45)","v":0},{"$f":"SUM(Q42:Q45)","v":0}]
[]
[]
[]
[]
[8,"Пестициды (ядохимикаты)",{"$nulls":13},{"$f":"SUM(P47:P50)","v":0},{"$f":"SUM(Q47:Q50)","v":0}]
[]
[]
[]
[]
[9,"Племенные животные всех видов и оборудование для искусственного осеменения",{"$nulls":13},{"$f":"SUM(P52:P55)","v":0},{"$f":"SUM(Q52:Q55)","v":0}]
[]
[]
[]
[]
[10,"Крупный рогатый скот живой",{"$nulls":13},{"$f":"SUM(P57:P60)","v":0},{"$f":"SUM(Q57:Q60)","v":0}]
[]
[]
[]
[]
["№","Наименование показателей/ наименование номенклатуры",{"$nulls":8},"Контрагент","Основание (№ договора дата заключения контракта)","Код ТН ВЭД","Код страны импорта","ФНО 328.00, 320.01","Сумма облагаемого импорта","Сумма НДС, уплачиваемого методом зачета"]
["В","Импорт товаров из стран Евразийского экономического союза",{"$nulls":13},{"$f":"(P63+P68+P73+P78+P83+P88+P93+P98+P103+P108)","v":0},{"$f":"(Q63+Q68+Q73+Q78+Q83+Q88+Q93+Q98+Q103+Q108)","v":0}]
[1,"Оборудование",{"$nulls":13},{"$f":"SUM(P64:P67)","v":0},{"$f":"SUM(Q64:Q67)","v":0}]
[]
[]
[]
[]
[2,"Сельскохозяйственная техника",{"$nulls":13},{"$f":"SUM(P69:P72)","v":0},{"$f":"SUM(Q69:Q72)","v":0}]
[]
[]
[]
[]
[3,"Грузовой подвижной состав автомобильного транспорта",{"$nulls":13},{"$f":"SUM(P74:P77)","v":0},{"$f":"SUM(Q74:Q77)","v":0}]
[]
[]
[]
[]
[4,"Самолеты и вертолеты",{"$nulls":13},{"$f":"SUM(P79:P82)","v":0},{"$f":"SUM(Q79:Q82)","v":0}]
[]
[]
[]
[]
[5,"Локомотивы железнодорожных и вагонов",{"$nulls":13},{"$f":"SUM(P84:P87)","v":0},{"$f":"SUM(Q84:Q87)","v":0}]
[]
[]
[]
[]
[6,"Морские суда",{"$nulls":13},{"$f":"SUM(P89:P92)","v":0},{"$f":"SUM(Q89:Q92)","v":0}]
[]
[]
[]
[]
[7,"Запасные части",{"$nulls":13},{"$f":"SUM(P94:P97)","v":0},{"$f":"SUM(Q94:Q97)","v":0}]
[]
[]
[]
[]
[8,"Пестициды (ядохимикаты)",{"$nulls":13},{"$f":"SUM(P99:P102)","v":0},{"$f":"SUM(Q99:Q102)","v":0}]
[]
[]
[]
[]
[9,"Племенные животные всех видов и оборудование для искусственного осеменения",{"$nulls":13},{"$f":"SUM(P104:P107)","v":0},{"$f":"SUM(Q104:Q107)","v":0}]
[]
[]
[]
[]
[10,"Крупный рогатый скот живой",{"$nulls":13},{"$f":"SUM(P109:P112)","v":0},{"$f":"SUM(Q109:Q112)","v":0}]
[]
[]
[]
[]
["Итого","(А+В)",{"$nulls":13},{"$f":"(P10+P62)","v":0},{"$f":"(Q10+Q62)","v":0}]
[]
[]
[]
["(Ф.И.О., подпись лица, ответственного за составление налогового регистра)"]
["_______________________________________________________________________________________"]
["(Ф.И.О., подпись главного бухгалтера)"]
["__________________________________"]
["(Дата составления налогового регистра) "]

{"sheet":"300.04","index":14,"n_rows":33,"n_cols":12,"rows_kept":33,"cut":false,"hidden":false,"merged":[[27,2,27,7],[27,11,27,13],[22,11,22,13],[24,11,24,13],[26,11,26,13],[14,11,14,13],[15,11,15,13],[23,11,23,13],[20,11,20,13],[18,11,18,13],[25,11,25,13],[13,2,13,7],[21,11,21,13],[17,11,17,13],[15,2,15,7],[13,11,13,13],[21,2,21,7],[29,2,29,7],[29,11,29,13],[28,11,28,13],[19,2,19,7],[19,11,19,13],[7,11,7,13],[16,11,16,13],[23,2,23,7],[7,2,7,7],[25,2,25,7],[10,11,10,13],[12,11,12,13],[11,11,11,13],[11,2,11,7],[5,10,5,11],[17,2,17,7],[1,2,1,13],[2,2,2,13],[3,0,3,13],[4,4,4,6],[5,6,5,7],[9,2,9,7],[9,11,9,13],[6,0,6,13]]}
[]
[null,null,"ИМПОРТ ТОВАРОВ, НДС ПО КОТОРЫМ УПЛАЧИВАЕТСЯ МЕТОДОМ ЗАЧЕТА"]
[null,null," (Приложение 4 к Декларации)"]
["Раздел. Общая информация о плательщике НДС"]
["ИИН/БИН",null,null,null,{"$f":"' 300'!D5","v":"600400123456"}]
["Налоговый период :",{"$nulls":5},"квартал",null,{"$f":"' 300'!L9","v":1},"год",{"$f":"' 300'!R9","v":2023}]
["Раздел. Начисление НДС по импорту товаров, уплачиваемого методом зачета"]
["код строки ",null,"Описание импорта товаров",{"$nulls":6},"Облагаемый импорт",null,"Сумма НДС"]
[]
["300.04.001",null,"Итого импорт товаров методом зачета, в том числе:",{"$nulls":6},{"$f":"J12+J14+J16+J18+J20+J22+J24+J26+J28+J30","v":0},null,0]
[]
["I",null,"Оборудование",{"$nulls":6},{"$f":"'.011.029'!P11+'.011.029'!P63","v":0},null,{"$f":"'.011.029'!Q11+'.011.029'!Q63","v":0}]
[]
["II",null,"Сельскохозяйственная техника",{"$nulls":6},{"$f":"'.011.029'!P16+'.011.029'!P68","v":0},null,{"$f":"'.011.029'!Q16+'.011.029'!Q68","v":0}]
[]
["III",null,"Грузовой подвижной состав автомобильного транспорта",{"$nulls":6},{"$f":"'.011.029'!P21+'.011.029'!P73","v":0},null,{"$f":"'.011.029'!Q21+'.011.029'!Q73","v":0}]
[]
["IV",null,"Вертолеты и самолеты",{"$nulls":6},{"$f":"'.011.029'!P26+'.011.029'!P78","v":0},null,{"$f":"'.011.029'!Q26+'.011.029'!Q78","v":0}]
[]
["V",null,"Локомотивы железнодорожные и вагоны",{"$nulls":6},{"$f":"'.011.029'!P31+'.011.029'!P83","v":0},null,{"$f":"'.011.029'!Q31+'.011.029'!Q83","v":0}]
[]
["VI",null,"Морские суда",{"$nulls":6},{"$f":"'.011.029'!P36+'.011.029'!P88","v":0},null,{"$f":"'.011.029'!Q36+'.011.029'!Q88","v":0}]
[]
["VII",null,"Запасные части",{"$nulls":6},{"$f":"'.011.029'!P41+'.011.029'!P93","v":0},null,{"$f":"'.011.029'!Q41+'.011.029'!Q93","v":0}]
[]
["VIII",null,"Пестициды (ядохимикаты)",{"$nulls":6},{"$f":"'.011.029'!P46+'.011.029'!P98","v":0},null,{"$f":"'.011.029'!Q46+'.011.029'!Q98","v":0}]
[]
["IX",null,"Племенные животные всех видов и оборудование для искусственного осеменения",{"$nulls":6},{"$f":"'.011.029'!P51+'.011.029'!P103","v":0},null,{"$f":"'.011.029'!Q51+'.011.029'!Q103","v":0}]
[]
["X",null,"Крупный рогатый скот живой",{"$nulls":6},{"$f":"'.011.029'!P56+'.011.029'!P108","v":0},null,{"$f":"'.011.029'!Q56+'.011.029'!Q108","v":0}]
[]
[null,null,"Сумма строки 300.04.001 А переносится в строку 300.00.029А"]
[null,null,"Сумма строки 300.04.001 В переносится в строку 300.00.021 и 300.00.029 В"]

{"sheet":".013","index":15,"n_rows":61,"n_cols":21,"rows_kept":61,"cut":false,"hidden":false,"merged":[[7,17,7,18],[5,0,5,6],[4,0,4,6],[5,7,5,8],[53,17,53,18],[5,9,5,15],[7,0,8,0],[7,13,8,13],[7,14,8,14],[46,10,46,14],[53,19,53,20],[7,1,8,9],[29,1,29,9],[46,1,46,9],[16,1,16,9],[28,1,28,9],[53,1,53,9],[7,19,7,20],[30,1,30,9],[7,12,8,12],[55,0,55,1],[55,2,55,8],[52,1,52,9],[34,1,34,9],[40,1,40,9],[53,15,53,16],[35,1,35,9],[36,1,36,9],[37,1,37,9],[38,1,38,9],[1,1,1,19],[22,1,22,9],[10,1,10,9],[9,1,9,9],[7,15,7,16],[3,7,3,20],[4,7,4,20],[5,16,5,20],[7,10,8,10],[7,11,8,11],[11,1,11,9],[12,1,12,9],[13,1,13,9],[14,1,14,9],[15,1,15,9],[17,1,17,9],[18,1,18,9],[19,1,19,9],[20,1,20,9],[21,1,21,9],[23,1,23,9],[24,1,24,9],[25,1,25,9],[26,1,26,9],[27,1,27,9],[31,1,31,9],[32,1,32,9],[33,1,33,9],[39,1,39,9],[41,1,41,9],[42,1,42,9],[43,1,43,9],[44,1,44,9],[45,1,45,9],[47,1,47,9],[48,1,48,9],[49,1,49,9],[50,1,50,9],[51,1,51,9],[9,10,9,14],[22,10,22,14],[28,10,28,14],[34,10,34,14],[40,10,40,14]]}
[]
[null,"Налоговый регистр к строке 300.00.013 НДС Товары, работы, услуги, приобретенные с НДС в РК, используемые для облагаемого оборота (раздельный метод)"]
[]
["Наименование плательщика НДС ",{"$nulls":6},{"$f":"T(' 300'!G7:W7)","v":""}]
["ИИН/БИН",{"$nulls":6},{"$f":"' 300'!D5","v":"600400123456"}]
["Налоговый период ",{"$nulls":6},{"$f":"' 300'!L9","v":1},null,{"$f":"' 300'!R9","v":2023}]
[{"$nulls":20},"тенге"]
["№","Наименование показателей/ наименование поставщика",{"$nulls":8},"номенклатура ","Дата оборота реализации","Основание","Дата счет-фактуры, дата другого документа","Номер счет-фактуры, номер другого документа","Сумма без НДС",null," Сумма НДС",null,"Общая сумма с НДС"]
[{"$nulls":15},"по счетам-фактурам","по иным документам (п.п.7)-11) п. 2 ст. 256 НК)","по счетам-фактурам","по иным документам (п.п.7)-11) п. 2 ст. 256 НК)","по счетам-фактурам","по иным документам (п.п.7)-11) п. 2 ст. 256 НК)"]
["А","Общая сумма оборотов по товарам, работам, услугам, приобретенным с НДС в Республике Казахстан, в том числе:",{"$nulls":13},{"$f":"(P11+P17)","v":0},0,0,0,0,0]
[1,"Приобретено товарно-материальных запасов",{"$nulls":13},{"$f":"SUM(P12:P16)","v":0},0,0,0,0,0]
[]
[]
[]
[]
[]
[2,"Приобретено основных средств, НМА и биологических активов",{"$nulls":13},{"$f":"SUM(P18:P22)","v":0},0,0,0,0,0]
[]
[]
[]
[]
[]
["В","Приобретено работ, услуг (наименование работ, услуг)",{"$nulls":13},{"$f":"SUM(P24:P28)","v":0},0,0,0,0,0]
[]
[]
[]
[]
[]
["С","Приобретено услуг по железнодорожной и воздушной перевозке на основании проездных билетов (электронного билета)",{"$nulls":13},{"$f":"SUM(P30:P34)","v":0},0,0,0,0,0]
[]
[]
[]
[]
[]
["D","Приобретено коммунальных услуг на основании платежных документов поставщиков услуг",{"$nulls":13},{"$f":"SUM(P36:P40)","v":0},0,0,0,0,0]
[]
[]
[]
[]
[]
["Е","Остатки ТМЗ, в том числе основных средств на дату постановки на регистрационный учет  по НДС",{"$nulls":13},{"$f":"SUM(P42:P46)","v":0},0,0,0,0,0]
[]
[]
[]
[]
[]
["F","Выпуск товаров из государственного материального резерва",{"$nulls":13},{"$f":"SUM(P48:P52)","v":0},0,0,0,0,0]
[]
[]
[]
[]
[]
["Итого","(А+С+D+Е+F)",{"$nulls":13},{"$f":"(P10+P23+P29+P35+P41+P47)","v":0},0,0,0,0,0]
["Итого",{"$nulls":14},{"$f":"(P53+Q53)","v":0},null,{"$f":"(R53+S53)","v":0},null,{"$f":"(T53+U53)","v":0}]
[]
[]
["(Ф.И.О., подпись лица, ответственного за составление налогового регистра)"]
["_______________________________________________________________________________________"]
["(Ф.И.О., подпись главного бухгалтера)"]
["__________________________________"]
["(Дата составления налогового регистра) "]

{"sheet":"300.05","index":16,"n_rows":24,"n_cols":20,"rows_kept":24,"cut":false,"hidden":false,"merged":[[22,0,22,10],[23,0,23,10],[15,1,15,7],[16,1,16,7],[17,1,17,7],[18,1,18,7],[19,1,19,7],[20,1,20,7],[6,1,6,7],[7,1,7,7],[8,1,8,12],[9,1,9,7],[10,1,10,7],[11,1,11,7],[12,1,12,7],[13,1,13,7],[14,1,14,7],[0,1,0,12],[2,0,2,12],[3,0,3,6],[3,7,3,9],[4,5,4,6],[4,9,4,10],[1,1,1,12]]}
[null,"Работы, услуги, приобретенные от нерезидента"]
[null," (Приложение 5 к Декларации)"]
["Раздел. Общая информация о плательщике НДС"]
["ИИН/БИН"]
["Налоговый период ",{"$nulls":4},"квартал",null,{"$f":"' 300'!L9","v":1},"год",{"$f":"' 300'!R9","v":2023}]
[]
["№ ","Ф.И.О. или наименование нерезидента",{"$nulls":6},"Код страны резидентства","Номер налоговой регистрации в стране резидентсва нерезидента ","Номер  контракта (договора), ","Дата (день, месяц, год) цифрами","Код вида облагаемого оборота ","Облагаемый оборот за отчетный период","Сумма НДС, подлежащего уплате за отчетный период"," Сумма НДС, уплаченного  в бюджет за отчетный период","Облагаемый оборот за предыдущие налоговые периоды","Сумма НДС, подлежащего уплате за предыдущие периоды"," Сумма НДС, уплаченного  в бюджет за предыдущие периоды","Итого уплачено в бюджет (I+L)"]
["A","B",{"$nulls":6},"C","D","E","E","F","G","H","I","J","K","L","M"]
[1,"ИТОГО",{"$nulls":11},{"$f":"SUM(N10:N21)","v":0},0,0,0,0,0,0]
[2,{"$nulls":13},{"$f":"N10*0.12","v":0},null,null,{"$f":"Q10*0.12","v":0},null,{"$f":"P10+S10","v":0}]
[3,{"$nulls":13},{"$f":"N11*0.12","v":0},null,null,{"$f":"Q11*0.12","v":0},null,{"$f":"P11+S11","v":0}]
[4,{"$nulls":13},0,null,null,0,null,0]
[5,{"$nulls":13},0,null,null,0,null,0]
[6,{"$nulls":13},0,null,null,0,null,0]
[7,{"$nulls":13},0,null,null,0,null,0]
[8,{"$nulls":13},0,null,null,0,null,0]
[9,{"$nulls":13},0,null,null,0,null,0]
[10,{"$nulls":13},0,null,null,0,null,0]
[11,{"$nulls":13},0,null,null,0,null,0]
[12,{"$nulls":13},0,null,null,0,null,0]
[{"$nulls":14},0,null,null,0,null,0]
[]
["Сумма строки 300.05.G000001 переносится в строку 300.00.014 А."]
["Сумма строки 300.05.M000001 переносится в строку 300.00.014 В."]

{"sheet":".015","index":17,"n_rows":67,"n_cols":18,"rows_kept":67,"cut":false,"hidden":false,"merged":[[8,1,8,9],[3,10,3,18],[4,10,4,12],[4,0,4,9],[3,0,3,9],[5,0,5,9],[5,11,5,12],[14,1,14,9],[19,1,19,9],[24,1,24,9],[39,1,39,9],[59,1,59,9],[54,1,54,9],[44,1,44,9],[15,1,15,9],[16,1,16,9],[17,1,17,9],[1,0,1,17],[9,1,9,9],[10,1,10,9],[11,1,11,9],[49,1,49,9],[12,1,12,9],[13,1,13,9],[29,1,29,9],[7,1,7,9],[34,1,34,9],[18,1,18,9],[20,1,20,9],[21,1,21,9],[22,1,22,9],[23,1,23,9],[25,1,25,9],[26,1,26,9],[27,1,27,9],[28,1,28,9],[30,1,30,9],[31,1,31,9],[32,1,32,9],[33,1,33,9],[35,1,35,9],[36,1,36,9],[37,1,37,9],[38,1,38,9],[40,1,40,9],[41,1,41,9],[42,1,42,9],[43,1,43,9],[45,1,45,9],[46,1,46,9],[47,1,47,9],[56,1,56,9],[57,1,57,9],[58,1,58,9],[48,1,48,9],[50,1,50,9],[51,1,51,9],[52,1,52,9],[53,1,53,9],[55,1,55,9]]}
[]
["Налоговый регистр к строке 300.00.015 Товары, работы, услуги, приобретенные без НДС или приобретенных с НДС, по которым зачет не разрешен"]
[]
["Наименование плательщика НДС ",{"$nulls":9},{"$f":"T(' 300'!G7:W7)","v":""}]
["ИИН/БИН",{"$nulls":9},{"$f":"' 300'!D5","v":"600400123456"}]
["Налоговый период ",{"$nulls":9},{"$f":"' 300'!L9","v":1},{"$f":"' 300'!R9","v":2023}]
[{"$nulls":17},"тенге"]
["№","Наименование показателей",{"$nulls":8},"Поставщик","ИИН/БИН поставщика","Дата счет-фактуры","Номер счет-фактуры","Сумма без НДС","Сумма НДС по счет-фактуре","Сумма НДС, относимого в зачет","Комментарии"]
["А","Оборот по товарам, работам, услугам, приобретенным без НДС (наименование)",{"$nulls":12},{"$f":"(O10+O11+O12+O13)","v":0},{"$f":"(P10+P11+P12+P13)","v":0},{"$f":"(Q10+Q11+Q12+Q13)","v":0}]
[]
[]
[]
[]
["В","Оборот по товарам, работам, услугам, приобретенным с НДС,  по которым  НДС не подлежит отнесению в зачет в соответствии со статьей 402 НК",{"$nulls":12},{"$f":"(O15+O20+O25+O30+O35+O40+O45+O50+O55)","v":0},{"$f":"(P15+P20+P25+P30+P35+P40+P45+P50+P55)","v":0},{"$f":"(Q15+Q20+Q25+Q30+Q35+Q40+Q45+Q50+Q55)","v":0}]
[1,"Товаров, работ, услуг, используемых не в целях облагаемого оборота",{"$nulls":12},{"$f":"SUM(O16:O19)","v":0},{"$f":"SUM(P16:P19)","v":0},{"$f":"SUM(Q16:Q19)","v":0}]
[]
[]
[]
[]
[2,"Легковых автомобилей, учтенных (учитываемых) в качестве основных средств",{"$nulls":12},{"$f":"SUM(O21:O24)","v":0},{"$f":"SUM(P21:P24)","v":0},{"$f":"SUM(Q21:Q24)","v":0}]
[]
[]
[]
[]
[3,"Товаров, работ, услуг, по которым счета-фактуры выписаны с несоблюдением требований",{"$nulls":12},{"$f":"SUM(O26:O29)","v":0},{"$f":"SUM(P26:P29)","v":0},{"$f":"SUM(Q26:Q29)","v":0}]
[]
[]
[]
[]
[4,"Товаров, работ, услуг, указанных в счете-фактуре, оплата за наличный расчет которых с учетом НДС превышает 1000 МРП",{"$nulls":12},{"$f":"SUM(O31:O34)","v":0},{"$f":"SUM(P31:P34)","v":0},{"$f":"SUM(Q31:Q34)","v":0}]
[]
[]
[]
[]
[5,"Безвозмездно полученного имущества (товаров, работ, услуг) ",{"$nulls":12},{"$f":"SUM(O36:O39)","v":0},{"$f":"SUM(P36:P39)","v":0},{"$f":"SUM(Q36:Q39)","v":0}]
[]
[]
[]
[]
[6,"По товарам, работам, услугам, использованным на строительство нежилого помещения, являющегося частью жилого здания до реализации или аренды нежилых помещений; до приемки в эксплуатацию такого жилого здания",{"$nulls":12},{"$f":"SUM(O41:O44)","v":0},{"$f":"SUM(P41:P44)","v":0},{"$f":"SUM(Q41:Q44)","v":0}]
[]
[]
[]
[]
[7,"По операциям с налогоплательщиком, признанным лжепредприятием на основании вступившего в законную силу приговора или постановления суда",{"$nulls":12},{"$f":"SUM(O46:O49)","v":0},{"$f":"SUM(P46:P49)","v":0},{"$f":"SUM(Q46:Q49)","v":0}]
[]
[]
[]
[]
[8,"По сделке (сделкам), признанной (признанным) судом совершенной (совершенным) субъектом частного предпринимательства без намерения осуществлять предпринимательскую деятельность",{"$nulls":12},{"$f":"SUM(O51:O54)","v":0},{"$f":"SUM(P51:P54)","v":0},{"$f":"SUM(Q51:Q54)","v":0}]
[]
[]
[]
[]
[9,"По сделке, признанной недействительной на основании вступившего в законную силу решения суда",{"$nulls":12},{"$f":"SUM(O56:O59)","v":0},{"$f":"SUM(P56:P59)","v":0},{"$f":"SUM(Q56:Q59)","v":0}]
[]
[]
[]
[]
["Итого",{"$nulls":13},{"$f":"(O9+O14)","v":0},{"$f":"(P9+P14)","v":0},{"$f":"(Q9+Q14)","v":0}]
[]
[]
["(Ф.И.О., подпись лица, ответственного за составление налогового регистра)"]
["_______________________________________________________________________________________"]
["(Ф.И.О., подпись главного бухгалтера)"]
["__________________________________"]
["(Дата составления налогового регистра) "]

{"sheet":".016","index":18,"n_rows":31,"n_cols":9,"rows_kept":31,"cut":false,"hidden":false,"merged":[[4,2,4,8],[5,2,5,3],[25,0,25,1],[1,9,1,10],[2,9,2,10],[1,0,1,8]]}
[]
["Налоговый регистр к строке 300.00.016 Импорт с уплатой НДС"]
[]
[]
["Наименование плательщика НДС ",null,{"$f":"T(' 300'!G7:W7)","v":""}]
["ИИН/БИН",null,{"$f":"' 300'!D5","v":"600400123456"}]
["Налоговый период ",null,{"$f":"' 300'!L9","v":1},{"$f":"' 300'!R9","v":2023}]
[{"$nulls":8},"тенге"]
["№","Наименование показателя","Контрагент","Основание (Номер и дата контракта)","Код страны","Код ТН ВЭД","ГТД","Размер облагаемого импорта","Сумма уплаченного НДС на импорт, относимого в зачет"]
["А","Импорт из государств, не являющихся членами Евразийского экономического союза",{"$nulls":5},{"$f":"SUM(H11:H16)","v":0},{"$f":"(I11+I12+I13)","v":0}]
[]
[]
[]
[]
[]
[]
["№","Наименование показателя","Контрагент","Основание (Номер и дата контракта)","Код страны","Код ТН ВЭД","ФНО 328.00, 320.00","Размер облагаемого импорта","Сумма уплаченного НДС на импорт, относимого в зачет"]
["В","Импорт из государств-членов Евразийского экономического",{"$nulls":5},{"$f":"SUM(H19:H24)","v":0},{"$f":"SUM(I19:I24)","v":0}]
{"$rows_empty":8}
["(Ф.И.О., подпись лица, ответственного за составление налогового регистра)"]
["_______________________________________________________________________________________"]
["(Ф.И.О., подпись главного бухгалтера)"]
["__________________________________"]
["(Дата составления налогового регистра) "]

{"sheet":"300.03","index":19,"n_rows":34,"n_cols":14,"rows_kept":34,"cut":false,"hidden":false,"merged":[[21,1,21,8],[22,1,22,8],[23,1,23,8],[24,1,24,8],[26,1,26,8],[15,1,15,8],[16,1,16,8],[17,1,17,8],[18,1,18,8],[19,1,19,8],[20,1,20,8],[28,0,28,1],[0,1,0,13],[1,1,1,13],[2,0,2,13],[3,2,3,4],[4,2,4,3],[4,6,4,7],[7,1,7,8],[11,1,11,8],[12,1,12,8],[13,1,13,8],[14,1,14,8],[8,1,8,8],[6,0,6,13],[9,1,9,8],[10,1,10,8]]}
[null,"Импорт товаров, по которым изменен срок уплаты НДС"]
[null," (Приложение 3 к Декларации)"]
["Раздел. Общая информация о плательщике НДС"]
["ИИН/БИН"]
["Налоговый период ",null,"квартал",null,{"$f":"' 300'!L9","v":1},"год",{"$f":"' 300'!R9","v":2023}]
[]
["Раздел. Импорт товаров, по которым изменен срок уплаты НДС"]
["№","Справочно номер декларации на товары",{"$nulls":7},"Сумма НДС согласно декларации на товары","Срок платежа","Уплачено НДС в отчетном налоговом периоде","Уплачено НДС в предыдущие налоговые периоды","Задолженность по НДС"]
["А","В",{"$nulls":7},"C","D","E","F","G"]
[1,{"$nulls":8},{"$f":"SUM(J11:J27)","v":0},null,{"$f":"SUM(L11:L27)","v":0},{"$f":"SUM(M11:M27)","v":0},{"$f":"SUM(N11:N27)","v":0}]
[2,{"$nulls":12},{"$f":"J11-L11-M11","v":0}]
[3,{"$nulls":12},{"$f":"J12-L12-M12","v":0}]
[4,{"$nulls":12},0]
[5,{"$nulls":12},0]
[6,{"$nulls":12},0]
[7,{"$nulls":12},0]
[8,{"$nulls":12},0]
[9,{"$nulls":12},0]
[10,{"$nulls":12},0]
[11,{"$nulls":12},0]
[12,{"$nulls":12},0]
[13,{"$nulls":12},0]
[14,{"$nulls":12},0]
[15,{"$nulls":12},0]
[16,{"$nulls":12},0]
[17,{"$nulls":12},0]
[18,{"$nulls":12},0]
[]
[]
["(Ф.И.О., подпись лица, ответственного за составление налогового регистра)"]
["_______________________________________________________________________________________"]
["(Ф.И.О., подпись главного бухгалтера)"]
["__________________________________"]
["(Дата составления налогового регистра) "]

{"sheet":"300.09","index":20,"n_rows":192,"n_cols":14,"rows_kept":192,"cut":false,"hidden":false,"merged":[[189,6,189,9],[189,11,189,13],[186,6,186,9],[186,11,186,13],[187,6,187,9],[187,11,187,13],[188,6,188,9],[188,11,188,13],[182,6,182,9],[182,11,182,13],[183,11,183,13],[184,6,184,9],[184,11,184,13],[185,6,185,9],[185,11,185,13],[178,6,178,9],[178,11,178,13],[179,6,179,9],[179,11,179,13],[180,6,180,9],[180,11,180,13],[174,11,174,13],[175,6,175,9],[175,11,175,13],[176,6,176,9],[176,11,176,13],[177,6,177,9],[177,11,177,13],[169,6,169,9],[169,11,169,13],[171,2,171,9],[171,11,171,13],[172,11,172,13],[173,6,173,9],[173,11,173,13],[166,6,166,9],[166,11,166,13],[167,6,167,9],[167,11,167,13],[168,6,168,9],[168,11,168,13],[162,6,162,9],[162,11,162,13],[163,11,163,13],[164,6,164,9],[164,11,164,13],[165,6,165,9],[165,11,165,13],[158,6,158,9],[158,11,158,13],[159,6,159,9],[159,11,159,13],[160,6,160,9],[160,11,160,13],[154,11,154,13],[155,6,155,9],[155,11,155,13],[156,6,156,9],[156,11,156,13],[157,6,157,9],[157,11,157,13],[149,6,149,9],[149,11,149,13],[151,2,151,9],[151,11,151,13],[152,11,152,13],[153,6,153,9],[153,11,153,13],[146,6,146,9],[146,11,146,13],[147,6,147,9],[147,11,147,13],[148,6,148,9],[148,11,148,13],[142,6,142,9],[142,11,142,13],[143,11,143,13],[144,6,144,9],[144,11,144,13],[145,6,145,9],[145,11,145,13],[138,6,138,9],[138,11,138,13],[139,6,139,9],[139,11,139,13],[140,6,140,9],[140,11,140,13],[134,11,134,13],[135,6,135,9],[135,11,135,13],[136,6,136,9],[136,11,136,13],[137,6,137,9],[137,11,137,13],[129,6,129,9],[129,11,129,13],[131,2,131,9],[131,11,131,13],[132,11,132,13],[133,6,133,9],[133,11,133,13],[126,6,126,9],[126,11,126,13],[127,6,127,9],[127,11,127,13],[128,6,128,9],[128,11,128,13],[122,6,122,9],[122,11,122,13],[123,11,123,13],[124,6,124,9],[124,11,124,13],[125,6,125,9],[125,11,125,13],[118,6,118,9],[118,11,118,13],[119,6,119,9],[119,11,119,13],[120,6,120,9],[120,11,120,13],[114,11,114,13],[115,6,115,9],[115,11,115,13],[116,6,116,9],[116,11,116,13],[117,6,117,9],[117,11,117,13],[109,6,109,9],[109,11,109,13],[111,2,111,9],[111,11,111,13],[112,11,112,13],[113,6,113,9],[113,11,113,13],[106,6,106,9],[106,11,106,13],[107,6,107,9],[107,11,107,13],[108,6,108,9],[108,11,108,13],[102,6,102,9],[102,11,102,13],[103,11,103,13],[104,6,104,9],[104,11,104,13],[105,6,105,9],[105,11,105,13],[98,6,98,9],[98,11,98,13],[99,6,99,9],[99,11,99,13],[100,6,100,9],[100,11,100,13],[94,11,94,13],[95,6,95,9],[95,11,95,13],[96,6,96,9],[96,11,96,13],[97,6,97,9],[97,11,97,13],[89,6,89,9],[89,11,89,13],[91,2,91,9],[91,11,91,13],[92,11,92,13],[93,6,93,9],[93,11,93,13],[86,6,86,9],[86,11,86,13],[87,6,87,9],[87,11,87,13],[88,6,88,9],[88,11,88,13],[82,6,82,9],[82,11,82,13],[83,11,83,13],[84,6,84,9],[84,11,84,13],[85,6,85,9],[85,11,85,13],[78,6,78,9],[78,11,78,13],[79,6,79,9],[79,11,79,13],[80,6,80,9],[80,11,80,13],[74,11,74,13],[75,6,75,9],[75,11,75,13],[76,6,76,9],[76,11,76,13],[77,6,77,9],[77,11,77,13],[69,6,69,9],[69,11,69,13],[71,2,71,9],[71,11,71,13],[72,11,72,13],[73,6,73,9],[73,11,73,13],[66,6,66,9],[66,11,66,13],[67,6,67,9],[67,11,67,13],[68,6,68,9],[68,11,68,13],[62,6,62,9],[62,11,62,13],[63,11,63,13],[64,6,64,9],[64,11,64,13],[65,6,65,9],[65,11,65,13],[58,6,58,9],[58,11,58,13],[59,6,59,9],[59,11,59,13],[60,6,60,9],[60,11,60,13],[54,11,54,13],[55,6,55,9],[55,11,55,13],[56,6,56,9],[56,11,56,13],[57,6,57,9],[57,11,57,13],[49,6,49,9],[49,11,49,13],[51,2,51,9],[51,11,51,13],[52,11,52,13],[53,6,53,9],[53,11,53,13],[46,6,46,9],[46,11,46,13],[47,6,47,9],[47,11,47,13],[48,6,48,9],[48,11,48,13],[42,6,42,9],[42,11,42,13],[43,11,43,13],[44,6,44,9],[44,11,44,13],[45,6,45,9],[45,11,45,13],[38,6,38,9],[38,11,38,13],[39,6,39,9],[39,11,39,13],[40,6,40,9],[40,11,40,13],[35,6,35,9],[35,11,35,13],[36,6,36,9],[36,11,36,13],[37,6,37,9],[37,11,37,13],[31,2,31,9],[31,11,31,13],[32,11,32,13],[33,6,33,9],[33,11,33,13],[34,11,34,13],[27,6,27,9],[27,11,27,13],[28,6,28,9],[28,11,28,13],[29,6,29,9],[29,11,29,13],[23,11,23,13],[24,6,24,9],[24,11,24,13],[25,6,25,9],[25,11,25,13],[26,6,26,9],[26,11,26,13],[19,6,19,9],[19,11,19,13],[20,6,20,9],[20,11,20,13],[22,6,22,9],[22,11,22,13],[16,6,16,9],[16,11,16,13],[17,6,17,9],[17,11,17,13],[18,6,18,9],[18,11,18,13],[12,11,12,13],[13,6,13,9],[13,11,13,13],[14,11,14,13],[15,6,15,9],[15,11,15,13],[6,0,6,13],[7,11,7,13],[9,2,9,9],[9,11,9,13],[10,11,10,13],[11,2,11,9],[11,11,11,13],[1,2,1,13],[2,2,2,13],[3,0,3,13],[4,4,4,6],[5,6,5,7],[5,10,5,11]]}
[{"$nulls":11},"Приложение",null,"300.09"]
[null,null,"СВЕДЕНИЯ ПО СУММАМ НДС, ПРЕДЪЯВЛЕННЫМ К ВОЗВРАТУ"]
[null,null," (Приложение 9 к Декларации)"]
["Раздел. Общая информация о плательщике НДС"]
["ИИН/БИН",null,null,null,{"$f":"'[1] 300.00 '!D5","v":"600400120390"}]
["Налоговый период :",{"$nulls":5},"квартал",null,{"$f":"' 300'!L9","v":1},"год",{"$f":"' 300'!R9","v":2023}]
["Раздел. Сумма НДС, предъявленная к возврату"]
["код строки ",null,"Наименование"]
[]
["300.09.001",null,"Предъявлено к возврату, в том числе: (300.09.001 I + 300.09.001 II + 300.09.001 III + 300.09.001 IV + 300.09.001 V-I + 300.09.001 V-II + 300.09.001 V-III + 300.09.001 V-IV + 300.09.001 VI)",{"$nulls":8},{"$f":"L12+L32+L52+L72+L92+L112+L132+L152+L172","v":0}]
[]
["I",null,"Превышение суммы НДС, относимого в зачет по товарам (работам, услугам) использованным для целей оборота по реализации, облагаемого по нулевой ставке, в том числе по налоговым периодам",{"$nulls":8},{"$f":"SUM(G16:J21)+SUM(L16:N21)+SUM(G25:J30)+SUM(L25:N30)","v":0}]
[]
[null,null,"Период",null,null,null,"I квартал",{"$nulls":4},"II квартал"]
[null,null,"год"]
{"$rows_empty":7}
[null,null,"Период",null,null,null,"III квартал",{"$nulls":4},"IV квартал"]
[null,null,"год"]
{"$rows_empty":7}
["II",null,"в связи с применением статьи 432 Налогового кодекса, в том числе по налоговым периодам",{"$nulls":8},{"$f":"SUM(G36:J41)+SUM(L36:N41)+SUM(G45:J50)+SUM(L45:N50)","v":0}]
[]
[null,null,"Период",null,null,null,"I квартал",{"$nulls":4},"II квартал"]
[null,null,"год"]
{"$rows_empty":7}
[null,null,"Период",null,null,null,"III квартал",{"$nulls":4},"IV квартал"]
[null,null,"год"]
{"$rows_empty":7}
["III",null,"в связи с уплатой НДС за нерезидента, в том числе по налоговым периодам",{"$nulls":8},{"$f":"SUM(G56:J61)+SUM(L56:N61)+SUM(G65:J70)+SUM(L65:N70)","v":0}]
[]
[null,null,"Период",null,null,null,"I квартал",{"$nulls":4},"II квартал"]
[null,null,"год"]
{"$rows_empty":7}
[null,null,"Период",null,null,null,"III квартал",{"$nulls":4},"IV квартал"]
[null,null,"год"]
{"$rows_empty":7}
["IV",null,"в связи с применением пилотного проекта в соответствии со статьей 68 Налогового кодекса, в том числе по налоговым периодам",{"$nulls":8},{"$f":"SUM(G76:J81)+SUM(L76:N81)+SUM(G85:J90)+SUM(L85:N90)","v":0}]
[]
[null,null,"Период",null,null,null,"I квартал",{"$nulls":4},"II квартал"]
[null,null,"год"]
{"$rows_empty":7}
[null,null,"Период",null,null,null,"III квартал",{"$nulls":4},"IV квартал"]
[null,null,"год"]
{"$rows_empty":7}
["V",null,"в связи с применением упрощенного порядка возврата налогоплательщиком, подлежащим мониторингу крупных налогоплательщиков, в соответствии со статьей 434 Налогового кодекса, в том числе по налоговым периодам",{"$nulls":8},{"$f":"SUM(G96:J101)+SUM(L96:N101)+SUM(G105:J110)+SUM(L105:N110)","v":0}]
[]
[null,null,"Период",null,null,null,"I квартал",{"$nulls":4},"II квартал"]
[null,null,"год"]
{"$rows_empty":7}
[null,null,"Период",null,null,null,"III квартал",{"$nulls":4},"IV квартал"]
[null,null,"год"]
{"$rows_empty":7}
["V-I",null,"в связи с применением упрощенного порядка возврата налогоплательщиком, состоящим на горизонтальном мониторинге в соответствии со статьей 434 Налогового кодекса, в том числе по налоговым периодам",{"$nulls":8},{"$f":"SUM(G116:J121)+SUM(L116:N121)+SUM(G125:J130)+SUM(L125:N130)","v":0}]
[]
[null,null,"Период",null,null,null,"I квартал",{"$nulls":4},"II квартал"]
[null,null,"год"]
{"$rows_empty":7}
[null,null,"Период",null,null,null,"III квартал",{"$nulls":4},"IV квартал"]
[null,null,"год"]
{"$rows_empty":7}
["V-II",null,"в связи с применением упрощенного порядка возврата налогоплательщиком, включенным в Перечень производителей товаров собственного производства обрабатывающей промышленности, в соответствии со статьей 434 Налогового кодекса, в том числе по налоговым периодам",{"$nulls":8},{"$f":"SUM(G136:J141)+SUM(L136:N141)+SUM(G145:J150)+SUM(L145:N150)","v":0}]
[]
[null,null,"Период",null,null,null,"I квартал",{"$nulls":4},"II квартал"]
[null,null,"год"]
{"$rows_empty":7}
[null,null,"Период",null,null,null,"III квартал",{"$nulls":4},"IV квартал"]
[null,null,"год"]
{"$rows_empty":7}
["V-III",null,"в связи с применением упрощенного порядка возврата возврат налогоплательщиком, включенным в Перечень экспортеров сырья при конвертации валютной выручки, поступившей за налоговый период, в соответствии со статьей 434 Налогового кодекса, в том числе по налоговым периодам",{"$nulls":8},{"$f":"SUM(G156:J161)+SUM(L156:N161)+SUM(G165:J170)+SUM(L165:N170)","v":0}]
[]
[null,null,"Период",null,null,null,"I квартал",{"$nulls":4},"II квартал"]
[null,null,"год"]
{"$rows_empty":7}
[null,null,"Период",null,null,null,"III квартал",{"$nulls":4},"IV квартал"]
[null,null,"год"]
{"$rows_empty":7}
["VI",null,"в связи с применением пункта 5 статьи 429 Налогового кодекса, в том числе по налоговым периодам",{"$nulls":8},{"$f":"SUM(G176:J181)+SUM(L176:N181)+SUM(G185:J190)+SUM(L185:N190)","v":0}]
[]
[null,null,"Период",null,null,null,"I квартал",{"$nulls":4},"II квартал"]
[null,null,"год"]
{"$rows_empty":7}
[null,null,"Период",null,null,null,"III квартал",{"$nulls":4},"IV квартал"]
[null,null,"год"]
{"$rows_empty":7}
["Сумма строки 300.09.001 переносится в строку 300.00.032"]