Workbook
Name _SUB100: введение!$A$3
Name sub1002163307: введение!$A$4

Sheet введение
B3: Уважаемые, пользователи ИС §«Бухгалтер»!
B6: Данная форма призвана оказать Вам помощь при заполнении упрощенной декларации для субъектов малого бизнеса ТОО по форме 910.00 за 2 полугодие 2017 года. В форме №910 Декларация ничего заполнять вручную нельзя, все данные заполняются автомотически из приложений №1, №2, №4. В приложениях нужно заполнять только те строки, которые выделены желтым цветом, все остальное считается автоматически.
B10: Справочник
B11: МЗП = | C11: 24459 | E11: тенге
B12: Доход для ОПВ max = | C12: =75*C11 -> 1834425 | E12: тенге
B13: ОПВ max = | C13: =C12*0.1 -> 183442.5 | E13: тенге
B14: Доход для СО max = | C14: =10*C11 -> 244590 | E14: тенге
B15: СО max = | C15: =C14*0.05 -> 12229.5 | E15: тенге
B16: Доход для ОСМС max = | C16: =C11*15 -> 366885
B17: ставка для ООСМС= | C17: 0.01
B18: ООСМС max = | C18: =C16*C17 -> 3668.85
B19: Месячный расчетный показатель = | C19: 2269 | E19: тенге

Sheet № 910 Декларация 
M2: Форма 910.00
B4: УПРОЩЕННАЯ ДЕКЛАРАЦИЯ ДЛЯ СУБЪЕКТОВ МАЛОГО БИЗНЕСА (910.00) за 2017 год для ТОО
B6: Раздел. Общая информация о налогоплательщике
A8: 1 | B8: ИИН (БИН)
A10: 2 | B10: Ф.И.О. или наименование налогоплательщика
A12: 3 | B12: Налоговый период, за который представляется налоговая отчетность: | I12: полугодие | K12: 2 | M12: год | N12: 2017
A14: 4 | B14: Категория налогоплательщика | E14: (укажите | F14: Х | H14: в соответствующей ячейке)
C16: А | D16: является доверительным управляющим | L16: С | M16: ведет бухгалтерский учет
C18: В | D18: является учредителем доверительного управления | L18: D | M18: не ведет бухгалтерский учет
A20: 5 | B20: Вид декларации (укажите | E20: Х | G20: в соответствующей ячейке)
B22: первоначальная | E22: очередная | I22: дополнительная по уведомлению | M22: ликвидационная
A24: 6 | B24: Номер и дата уведомления (заполняется в случае представления дополнительной декларации по уведомлению)
C26: А | D26: номер | L26: В | M26: Дата
A29: 7 | B29: Код валюты
A31: 8 | B31: Признак резидентства: | E31: А | G31: резидент РК | M31: В | N31: нерезидент РК
A33: Раздел. Исчисление налогов
A35: Код строки | C35: Наименование | L35: Сумма
A36: 910.00.001 | C36: Доход (С21 №1) | L36: ='№ 1доход '!C21 -> 0
A38: 910.00.002 | C38: в том числе доход от корректировки в соответствии с Законом о трансферном ценообразовании
A40: 910.00.003 | C40: Среднемесячная численность работников | L40: =ROUND(('№ 2.1 Начис. доходы работ'!T26+'№ 2.2 Начис. доходы работ'!T26+'№ 2.3 Начис. доходы работ'!T26+'№ 2.4 Начис. доходы работ'!T26+'№ 2.5 Начис. доходы работ. '!T26+'№ 2.6 Начис. доходы работ. '!T26)/6,0) -> 0
C42: А | D42: пенсионеры | L42: =ROUND(('№ 2.1 Начис. доходы работ'!L26+'№ 2.2 Начис. доходы работ'!K25+'№ 2.3 Начис. доходы работ'!J25+'№ 2.4 Начис. доходы работ'!J25+'№ 2.5 Начис. доходы работ. '!J25+'№ 2.6 Начис. доходы работ. '!J25)/6,0) -> 0 | P42: указывается среднесписочная численность работников-пенсионеров
C44: В | D44: инвалиды | P44: указывается среднесписочная численность работников-инвалидов
A46: 910.00.004 | C46: Среднемесячная заработная плата на одного работника (С26 2.1+2.2+2.3+2.4+2.5+2.6)/(R262.1+2.2+2.3+2.4+2.5+2.6) | L46: =('№ 2.1 Начис. доходы работ'!X26+'№ 2.2 Начис. доходы работ'!X26+'№ 2.3 Начис. доходы работ'!X26+'№ 2.4 Начис. доходы работ'!X26+'№ 2.5 Начис. доходы работ. '!X26+'№ 2.6 Начис. доходы работ. '!X26)/6 -> 0
A48: 910.00.005 | C48: Сумма исчисленных налогов (910.00.001*3%) | L48: =L36*3% -> 0
A50: 910.00.006 | C50: Корректировка суммы налогов в соответствии с пунктом 2 статьи 436 Налогового кодекса | L50: =IF(L46>=2.5*введение!C11,L48*(L40)*0.015,0) -> 0
A52: 910.00.007 | C52: Сумма налогов после корректировки (910.00.005-910.00.006) | L52: =L48-L50 -> 0
A54: 910.00.008 | C54: Сумма индивидуального (корпоративного) подоходного налога, подлежащего уплате в бюджет (910.00.007*0,5) | L54: =L52*0.5 -> 0
A56: 910.00.009 | C56: Сумма социального налога, подлежащего уплате в бюджет ((910.00.007*0,5)-910.00.011-910.00.018) | L56: =IF((L52*0.5-L69-L106)>0,L52*0.5-L69-L106,0) -> 0
A58: Раздел. Исчисление социальных отчислений и обязательных пенсионных взносов за индивидуального предпринимателя | P58: раздел заполняется ИП
A60: 910.00.010 | C60: Доход, для исчисления социальных отчислений
A61: 1 мес | C61: I | I61: 4 мес | K61: IV
A62: 2 мес | C62: II | I62: 5 мес | K62: V
A63: 3 мес | C63: III | I63: 6 мес | K63: VI
C64: ИТОГО за полугодие | L64: =D61+D62+D63+L61+L62+L63 -> 0
A65: 910.00.011 | C65: Сумма социальных отчислений, к уплате (I15 №3) | L65: =#REF! -> #REF!
A66: 1 мес | C66: I | I66: 4 мес | K66: IV
A67: 2 мес | C67: II | I67: 5 мес | K67: V
A68: 3 мес | C68: III | I68: 6 мес | K68: VI
C69: ИТОГО за полугодие | L69: =D66+D67+D68+L66+L67+L68 -> 0
A70: 910.00.012 | C70: Доход, для исчисления обязательных пенсионных взносов (J15 №3) | L70: =#REF! -> #REF!
...

Sheet № 1доход 
F2: Форма 910.00
B3: Реализация товаров, выполнение работ, оказание услуг
B5: Раздел. Общая информация о налогоплательщике
A7: 1 | B7: ИИН (БИН) | E7: ='№ 910 Декларация '!D8 -> 0
A8: 2 | B8: Налоговый период, за который предоставляется налоговая отчетность: полугодие | F8: ='№ 910 Декларация '!K12 -> 2 | G8: год | H8: ='№ 910 Декларация '!N12 -> 2017
B12: период | C12: реализация товаров | D12: выполнение работ, оказание услуг | E12: прочий доход
B13: 1 | C13: 2 | D13: 3 | E13: 4
A14: 1 | B14: 1 месяц полугодия
A15: 2 | B15: 2 месяц полугодия
A16: 2 | B16: 3 месяц полугодия
A17: 4 | B17: 4 месяц полугодия
A18: 5 | B18: 5 месяц полугодия
A19: 6 | B19: 6 месяц полугодия
A20: 13 | B20: Итого | C20: =SUM(C14:C19) -> 0 | D20: =SUM(D14:D19) -> 0 | E20: =SUM(E14:E19) -> 0
A21: 14 | B21: Итого | C21: =C20+D20+E20 -> 0
B24: Ограничения по доходам ТОО согласно п. 2 ст.433 НК | E24: =IF(C21<2800*введение!C11,"Может применять текущий налоговый режим","НЕОБХОДИМО СМЕНИТЬ НАЛОГОВЫЙ РЕЖИМ!!!!") -> Может применять текущий налоговый режим
A30: (Ф.И.О., подпись руководителя (налогоплательщика), печать)
A33: (Ф.И.О., подпись главного бухгалтера )
A36: (Дата составления налогового регистра)
A39: Примечание. | C39: строка 14 переносится в № 910.00 по строке 910.00.003

Sheet № 2 Начис. доходы работ.  
O2: Форма 910.00
A5: Наименование налогоплательщика
A7: 1 | B7: РНН
A8: 2 | B8: ИИН (БИН) | D8: ='№ 910 Декларация '!D8 -> 0
A9: 3 | B9: Налоговый период: | D9: ='№ 910 Декларация '!K12 -> 2 | E9: полугодие | G9: ='№ 910 Декларация '!N12 -> 2017
D11: Налоговый регистр: "Начисленные доходы работникам для целей налогообложения"
A13: начисленный доход | B13: примененный вычет | C13: Доходы, не облагаемые ИПН | D13: Доходы, облагаемые ИПН | E13: Индивидуальный подоходный налог с доходов граждан РК | F13: Индивидуальный подоходный налог с доходов иностранцев и лиц без гражданства | G13: Доходы, не облагаемые ОПВ | H13: Доход для исчисления обязательных пенсионных взносов | I13: Обязательные пенсионные взносы | J13: Доходы не облагаемые СО | K13: Предварительный расчет объекта для исчисления СО | L13: Доход для исчисления социальных очтислений | M13: Обязательные социальные отчисления | N13: Доход для исчисления обязательных профессиональных пенсионных взносов | O13: Обязательные профессиональные пенсионные взносы | P13: Численность работников | Q13: Доходы не принимаемые для исчисления ОСМС | R13: Доходы принимаемые для исчисления ОСМС | S13: Сумма отчислений на обязательное социальное медицинское страхование, к уплате
A14: 1 | B14: 2 | C14: 3 | D14: 4 | E14: 5 | G14: 6 | H14: 7 | I14: 8 | J14: 9 | K14: 10 | L14: 11 | M14: 12 | N14: 13 | O14: 14 | P14: 15 | Q14: 16 | R14: 17 | S14: 18
A15: №2.1 D26+ №2.2 D26+ №2.3 D26+ №2.4 D26+ №2.5 D26+ №2.6 D26 | B15: №2.1 E26+ №2.2 E26+ №2.3 E26+ №2.4 E26+ №2.5 E26+ №2.6 E26 | C15: №2.1 F26+ №2.2 F26+ №2.3 F26+ №2.4 F26+ №2.5 F26+ №2.6 F26 | D15: стр.1-стр.2-стр.3-стр.8 | E15: №2.1 Н26+ №2.2 Н26+ №2.3 Н26+ №2.4 Н26+ №2.5 Н26+ №2.6 Н26 | F15: №2.1 I26+ №2.2 I26+ №2.3 I26+ №2.4 I26+ №2.5 I26+ №2.6 I26 | G15: №2.1 J26+ №2.2 J26+ №2.3 J26+ №2.4 J26+ №2.5 J26+ №2.6 J26 | H15: №2.1 K26+ №2.2 K26+ №2.3 K26+ №2.4 K26+ №2.5 K26+ №2.6 K27 | I15: стр7*10% | J15: №2.1 N26+ №2.2 N26+ №2.3 N26+ №2.4 N26+ №2.5 N26+ №2.6 N26 | K15: №2.1 O26+ №2.2 O26+ №2.3 O26+ №2.4 O26+ №2.5 O26+ №2.6 O26 | L15: №2.1 P26+ №2.2 P26+ №2.3 P26+ №2.4 P26+ №2.5 P26+ №2.6 P26 | M15: стр11*5% | N15: №2.1 R26+ №2.2 R26+ №2.3 R26+ №2.4 R26+ №2.5 R26+ №2.6 R26 | O15: №2.1 S26+ №2.2 S26+ №2.3 S26+ №2.4 S26+ №2.5 S26+ №2.6 S26 | P15: №2.1 T26+ №2.2 T26+ №2.3 T26+ №2.4 T26+ №2.5 T26+ №2.6 T26 | Q15: №2.1 U26+ №2.2 U26+ №2.3 U26+ №2.4 U26+ №2.5 U26+ №2.6 U26 | R15: №2.1 V26+ №2.2 V26+ №2.3 V26+ №2.4 V26+ №2.5 V26+ №2.6 V26 | S15: №2.1 W26+ №2.2 W26+ №2.3 W26+ №2.4 W26+ №2.5 W26+ №2.6 W26
A16: ='№ 2.1 Начис. доходы работ'!D26+'№ 2.2 Начис. доходы работ'!D26+'№ 2.3 Начис. доходы работ'!D26+'№ 2.4 Начис. доходы работ'!D26+'№ 2.5 Начис. доходы работ. '!D25+'№ 2.6 Начис. доходы работ. '!D25 -> 0 | B16: ='№ 2.1 Начис. доходы работ'!E26+'№ 2.2 Начис. доходы работ'!E26+'№ 2.3 Начис. доходы работ'!E26+'№ 2.4 Начис. доходы работ'!E26+'№ 2.5 Начис. доходы работ. '!E25+'№ 2.6 Начис. доходы работ. '!E25 -> 0 | C16: ='№ 2.1 Начис. доходы работ'!F26+'№ 2.2 Начис. доходы работ'!F26+'№ 2.3 Начис. доходы работ'!F26+'№ 2.4 Начис. доходы работ'!F26+'№ 2.5 Начис. доходы работ. '!F25+'№ 2.6 Начис. доходы работ. '!F25 -> 0 | D16: =A16-B16-I16-C16 -> 0 | E16: ='№ 2.1 Начис. доходы работ'!H26+'№ 2.2 Начис. доходы работ'!H26+'№ 2.3 Начис. доходы работ'!H26+'№ 2.4 Начис. доходы работ'!H26+'№ 2.5 Начис. доходы работ. '!H26+'№ 2.6 Начис. доходы работ. '!H26 -> 0 | F16: ='№ 2.1 Начис. доходы работ'!I26+'№ 2.2 Начис. доходы работ'!I26+'№ 2.3 Начис. доходы работ'!I26+'№ 2.4 Начис. доходы работ'!I26+'№ 2.5 Начис. доходы работ. '!I26+'№ 2.6 Начис. доходы работ. '!I26 -> 0 | G16: ='№ 2.1 Начис. доходы работ'!J26+'№ 2.2 Начис. доходы работ'!J26+'№ 2.3 Начис. доходы работ'!J26+'№ 2.4 Начис. доходы работ'!J26+'№ 2.5 Начис. доходы работ. '!J26+'№ 2.6 Начис. доходы работ. '!J26 -> 0 | H16: ='№ 2.1 Начис. доходы работ'!K26+'№ 2.2 Начис. доходы работ'!K26+'№ 2.3 Начис. доходы работ'!K26+'№ 2.4 Начис. доходы работ'!K26+'№ 2.5 Начис. доходы работ. '!K26+'№ 2.6 Начис. доходы работ. '!K26 -> 0 | I16: =H16*10% -> 0 | J16: ='№ 2.1 Начис. доходы работ'!N26+'№ 2.2 Начис. доходы работ'!N26+'№ 2.3 Начис. доходы работ'!N26+'№ 2.4 Начис. доходы работ'!N26+'№ 2.5 Начис. доходы работ. '!N26+'№ 2.6 Начис. доходы работ. '!N26 -> 0 | K16: ='№ 2.1 Начис. доходы работ'!O26+'№ 2.2 Начис. доходы работ'!O26+'№ 2.3 Начис. доходы работ'!O26+'№ 2.4 Начис. доходы работ'!O26+'№ 2.5 Начис. доходы работ. '!O26+'№ 2.6 Начис. доходы работ. '!O26 -> 0 | L16: ='№ 2.1 Начис. доходы работ'!P26+'№ 2.2 Начис. доходы работ'!P26+'№ 2.3 Начис. доходы работ'!P26+'№ 2.4 Начис. доходы работ'!P26+'№ 2.5 Начис. доходы работ. '!P26+'№ 2.6 Начис. доходы работ. '!P26 -> 0 | M16: =L16*5% -> 0 | N16: ='№ 2.1 Начис. доходы работ'!R26+'№ 2.2 Начис. доходы работ'!R26+'№ 2.3 Начис. доходы работ'!R26+'№ 2.4 Начис. доходы работ'!R26+'№ 2.5 Начис. доходы работ. '!R26+'№ 2.6 Начис. доходы работ. '!R26 -> 0 | O16: ='№ 2.1 Начис. доходы работ'!S26+'№ 2.2 Начис. доходы работ'!S26+'№ 2.3 Начис. доходы работ'!S26+'№ 2.4 Начис. доходы работ'!S26+'№ 2.5 Начис. доходы работ. '!S26+'№ 2.6 Начис. доходы работ. '!S26 -> 0 | P16: ='№ 2.1 Начис. доходы работ'!T26+'№ 2.2 Начис. доходы работ'!T26+'№ 2.3 Начис. доходы работ'!T26+'№ 2.4 Начис. доходы работ'!T26+'№ 2.5 Начис. доходы работ. '!T26+'№ 2.6 Начис. доходы работ. '!T26 -> 0 | Q16: ='№ 2.1 Начис. доходы работ'!U26+'№ 2.2 Начис. доходы работ'!U26+'№ 2.3 Начис. доходы работ'!U26+'№ 2.4 Начис. доходы работ'!U26+'№ 2.5 Начис. доходы работ. '!U26+'№ 2.6 Начис. доходы работ. '!U26 -> 0 | R16: ='№ 2.1 Начис. доходы работ'!V26+'№ 2.2 Начис. доходы работ'!V26+'№ 2.3 Начис. доходы работ'!V26+'№ 2.4 Начис. доходы работ'!V26+'№ 2.5 Начис. доходы работ. '!V26+'№ 2.6 Начис. доходы работ. '!V26 -> 0 | S16: ='№ 2.1 Начис. доходы работ'!W26+'№ 2.2 Начис. доходы работ'!W26+'№ 2.3 Начис. доходы работ'!W26+'№ 2.4 Начис. доходы работ'!W26+'№ 2.5 Начис. доходы работ. '!W26+'№ 2.6 Начис. доходы работ. '!W26 -> 0

Sheet № 2.1 Начис. доходы работ
T1: Форма 910.00
A4: Наименование налогоплательщика
A6: 1 | B6: РНН
A7: 2 | B7: ИИН (БИН) | E7: ='№ 910 Декларация '!D8 -> 0
A8: 3 | B8: Налоговый период: месяц Год | E8: =IF('№ 910 Декларация '!K12=1,"январь","июль") -> июль | F8: ='№ 910 Декларация '!N12 -> 2017
A10: Налоговый регистр: "Начисленные доходы работникам для целей налогообложения"
A13: № п/п | B13: Ф.И.О. работника | C13: Признак резиденства: гражданин РК - 1; иностранный гражданин резидент - 2; иностранный гражданин нерезидент - 3 | D13: начисленный доход | E13: примененный вычет | F13: Доходы, не облагаемые ИПН | G13: Доходы, облагаемые ИПН | H13: Индивидуальный подоходный налог с доходов граждан РК | I13: Индивидуальный подоходный налог с доходов иностранцев и лиц без гражданства | J13: Доходы, не облагаемые ОПВ | K13: Доход для исчисления обязательных пенсионных взносов | L13: Пенсионер (если да, то нужно поставить 1) | M13: Обязательные пенсионные взносы | N13: Доходы не облагаемые СО | O13: Предварительный расчет объекта для исчисления СО | P13: Доход для исчисления социальных очтислений | Q13: Обязательные социальные отчисления | R13: Доход для исчисления обязательных профессиональных пенсионных взносов | S13: Обязательные профессиональные пенсионные взносы | T13: Численность работников | U13: Доходы не принимаемые для исчисления ОСМС | V13: Доходы принимаемые для исчисления ОСМС | W13: Сумма отчислений на обязательное социальное медицинское страхование, к уплате | X13: Среднемесячная заработная плата на одного работника
A14: 1 | E14: =IF(C14=3,0,IF(D14>0,введение!C$11,0)) -> 0 | G14: =IF(C14=3,D14-F14,D14-F14-E14-M14) -> 0 | H14: =ROUND((IF(C14=1,G14*10%,0)),0) -> 0 | I14: =ROUND((IF(C14=1,0,G14*10%)),0) -> 0 | K14: =IF(C14=3,0,IF(L14=1,0,D14-J14)) -> 0 | M14: =K14*10% -> 0 | O14: =IF(C14=3,0,IF(L14=1,0,D14-M14-N14)) -> 0 | P14: =IF(OR(O14<=0,),0,MIN(MAX(введение!$C$11,O14),введение!$C$14)) -> 0 | Q14: =ROUND(P14*5%,0) -> 0 | S14: =ROUND(R14*0.05,0) -> 0 | T14: =IF(D14=0,0,1) -> 0 | V14: =IF(C14=3,0,IF(L14=1,0,D14-U14)) -> 0 | W14: =V14*1% -> 0
A15: 2 | E15: =IF(C15=3,0,IF(D15>0,введение!C$11,0)) -> 0 | G15: =IF(C15=3,D15-F15,D15-F15-E15-M15) -> 0 | H15: =ROUND((IF(C15=1,G15*10%,0)),0) -> 0 | I15: =ROUND((IF(C15=1,0,G15*10%)),0) -> 0 | K15: =IF(C15=3,0,IF(L15=1,0,D15-J15)) -> 0 | M15: =K15*10% -> 0 | O15: =IF(C15=3,0,IF(L15=1,0,D15-M15-N15)) -> 0 | P15: =IF(OR(O15<=0,),0,MIN(MAX(введение!$C$11,O15),введение!$C$14)) -> 0 | Q15: =ROUND(P15*5%,0) -> 0 | S15: =ROUND(R15*0.05,0) -> 0 | T15: =IF(D15=0,0,1) -> 0 | V15: =IF(C15=3,0,IF(L15=1,0,D15-U15)) -> 0 | W15: =V15*1% -> 0
A16: 3 | E16: =IF(C16=3,0,IF(D16>0,введение!C$11,0)) -> 0 | G16: =IF(C16=3,D16-F16,D16-F16-E16-M16) -> 0 | H16: =ROUND((IF(C16=1,G16*10%,0)),0) -> 0 | I16: =ROUND((IF(C16=1,0,G16*10%)),0) -> 0 | K16: =IF(C16=3,0,IF(L16=1,0,D16-J16)) -> 0 | M16: =K16*10% -> 0 | O16: =IF(C16=3,0,IF(L16=1,0,D16-M16-N16)) -> 0 | P16: =IF(OR(O16<=0,),0,MIN(MAX(введение!$C$11,O16),введение!$C$14)) -> 0 | Q16: =ROUND(P16*5%,0) -> 0 | S16: =ROUND(R16*0.05,0) -> 0 | T16: =IF(D16=0,0,1) -> 0 | V16: =IF(C16=3,0,IF(L16=1,0,D16-U16)) -> 0 | W16: =V16*1% -> 0
A17: 4 | E17: =IF(C17=3,0,IF(D17>0,введение!C$11,0)) -> 0 | G17: =IF(C17=3,D17-F17,D17-F17-E17-M17) -> 0 | H17: =ROUND((IF(C17=1,G17*10%,0)),0) -> 0 | I17: =ROUND((IF(C17=1,0,G17*10%)),0) -> 0 | K17: =IF(C17=3,0,IF(L17=1,0,D17-J17)) -> 0 | M17: =K17*10% -> 0 | O17: =IF(C17=3,0,IF(L17=1,0,D17-M17-N17)) -> 0 | P17: =IF(OR(O17<=0,),0,MIN(MAX(введение!$C$11,O17),введение!$C$14)) -> 0 | Q17: =ROUND(P17*5%,0) -> 0 | S17: =ROUND(R17*0.05,0) -> 0 | T17: =IF(D17=0,0,1) -> 0 | V17: =IF(C17=3,0,IF(L17=1,0,D17-U17)) -> 0 | W17: =V17*1% -> 0
A18: 5 | E18: =IF(C18=3,0,IF(D18>0,введение!C$11,0)) -> 0 | G18: =IF(C18=3,D18-F18,D18-F18-E18-M18) -> 0 | H18: =ROUND((IF(C18=1,G18*10%,0)),0) -> 0 | I18: =ROUND((IF(C18=1,0,G18*10%)),0) -> 0 | K18: =IF(C18=3,0,IF(L18=1,0,D18-J18)) -> 0 | M18: =K18*10% -> 0 | O18: =IF(C18=3,0,IF(L18=1,0,D18-M18-N18)) -> 0 | P18: =IF(OR(O18<=0,),0,MIN(MAX(введение!$C$11,O18),введение!$C$14)) -> 0 | Q18: =ROUND(P18*5%,0) -> 0 | S18: =ROUND(R18*0.05,0) -> 0 | T18: =IF(D18=0,0,1) -> 0 | V18: =IF(C18=3,0,IF(L18=1,0,D18-U18)) -> 0 | W18: =V18*1% -> 0
A19: 6 | E19: =IF(C19=3,0,IF(D19>0,введение!C$11,0)) -> 0 | G19: =IF(C19=3,D19-F19,D19-F19-E19-M19) -> 0 | H19: =ROUND((IF(C19=1,G19*10%,0)),0) -> 0 | I19: =ROUND((IF(C19=1,0,G19*10%)),0) -> 0 | K19: =IF(C19=3,0,IF(L19=1,0,D19-J19)) -> 0 | M19: =K19*10% -> 0 | O19: =IF(C19=3,0,IF(L19=1,0,D19-M19-N19)) -> 0 | P19: =IF(OR(O19<=0,),0,MIN(MAX(введение!$C$11,O19),введение!$C$14)) -> 0 | Q19: =ROUND(P19*5%,0) -> 0 | S19: =ROUND(R19*0.05,0) -> 0 | T19: =IF(D19=0,0,1) -> 0 | V19: =IF(C19=3,0,IF(L19=1,0,D19-U19)) -> 0 | W19: =V19*1% -> 0
A20: 7 | E20: =IF(C20=3,0,IF(D20>0,введение!C$11,0)) -> 0 | G20: =IF(C20=3,D20-F20,D20-F20-E20-M20) -> 0 | H20: =ROUND((IF(C20=1,G20*10%,0)),0) -> 0 | I20: =ROUND((IF(C20=1,0,G20*10%)),0) -> 0 | K20: =IF(C20=3,0,IF(L20=1,0,D20-J20)) -> 0 | M20: =K20*10% -> 0 | O20: =IF(C20=3,0,IF(L20=1,0,D20-M20-N20)) -> 0 | P20: =IF(OR(O20<=0,),0,MIN(MAX(введение!$C$11,O20),введение!$C$14)) -> 0 | Q20: =ROUND(P20*5%,0) -> 0 | S20: =ROUND(R20*0.05,0) -> 0 | T20: =IF(D20=0,0,1) -> 0 | V20: =IF(C20=3,0,IF(L20=1,0,D20-U20)) -> 0 | W20: =V20*1% -> 0
A21: 8 | E21: =IF(C21=3,0,IF(D21>0,введение!C$11,0)) -> 0 | G21: =IF(C21=3,D21-F21,D21-F21-E21-M21) -> 0 | H21: =ROUND((IF(C21=1,G21*10%,0)),0) -> 0 | I21: =ROUND((IF(C21=1,0,G21*10%)),0) -> 0 | K21: =IF(C21=3,0,IF(L21=1,0,D21-J21)) -> 0 | M21: =K21*10% -> 0 | O21: =IF(C21=3,0,IF(L21=1,0,D21-M21-N21)) -> 0 | P21: =IF(OR(O21<=0,),0,MIN(MAX(введение!$C$11,O21),введение!$C$14)) -> 0 | Q21: =ROUND(P21*5%,0) -> 0 | S21: =ROUND(R21*0.05,0) -> 0 | T21: =IF(D21=0,0,1) -> 0 | V21: =IF(C21=3,0,IF(L21=1,0,D21-U21)) -> 0 | W21: =V21*1% -> 0
A22: 9 | E22: =IF(C22=3,0,IF(D22>0,введение!C$11,0)) -> 0 | G22: =IF(C22=3,D22-F22,D22-F22-E22-M22) -> 0 | H22: =ROUND((IF(C22=1,G22*10%,0)),0) -> 0 | I22: =ROUND((IF(C22=1,0,G22*10%)),0) -> 0 | K22: =IF(C22=3,0,IF(L22=1,0,D22-J22)) -> 0 | M22: =K22*10% -> 0 | O22: =IF(C22=3,0,IF(L22=1,0,D22-M22-N22)) -> 0 | P22: =IF(OR(O22<=0,),0,MIN(MAX(введение!$C$11,O22),введение!$C$14)) -> 0 | Q22: =ROUND(P22*5%,0) -> 0 | S22: =ROUND(R22*0.05,0) -> 0 | T22: =IF(D22=0,0,1) -> 0 | V22: =IF(C22=3,0,IF(L22=1,0,D22-U22)) -> 0 | W22: =V22*1% -> 0
A23: 10 | E23: =IF(C23=3,0,IF(D23>0,введение!C$11,0)) -> 0 | G23: =IF(C23=3,D23-F23,D23-F23-E23-M23) -> 0 | H23: =ROUND((IF(C23=1,G23*10%,0)),0) -> 0 | I23: =ROUND((IF(C23=1,0,G23*10%)),0) -> 0 | K23: =IF(C23=3,0,IF(L23=1,0,D23-J23)) -> 0 | M23: =K23*10% -> 0 | O23: =IF(C23=3,0,IF(L23=1,0,D23-M23-N23)) -> 0 | P23: =IF(OR(O23<=0,),0,MIN(MAX(введение!$C$11,O23),введение!$C$14)) -> 0 | Q23: =ROUND(P23*5%,0) -> 0 | S23: =ROUND(R23*0.05,0) -> 0 | T23: =IF(D23=0,0,1) -> 0 | V23: =IF(C23=3,0,IF(L23=1,0,D23-U23)) -> 0 | W23: =V23*1% -> 0
A24: 11 | E24: =IF(C24=3,0,IF(D24>0,введение!C$11,0)) -> 0 | G24: =IF(C24=3,D24-F24,D24-F24-E24-M24) -> 0 | H24: =ROUND((IF(C24=1,G24*10%,0)),0) -> 0 | I24: =ROUND((IF(C24=1,0,G24*10%)),0) -> 0 | K24: =IF(C24=3,0,IF(L24=1,0,D24-J24)) -> 0 | M24: =K24*10% -> 0 | O24: =IF(C24=3,0,IF(L24=1,0,D24-M24-N24)) -> 0 | P24: =IF(OR(O24<=0,),0,MIN(MAX(введение!$C$11,O24),введение!$C$14)) -> 0 | Q24: =ROUND(P24*5%,0) -> 0 | S24: =ROUND(R24*0.05,0) -> 0 | T24: =IF(D24=0,0,1) -> 0 | V24: =IF(C24=3,0,IF(L24=1,0,D24-U24)) -> 0 | W24: =V24*1% -> 0
A25: 12 | E25: =IF(C25=3,0,IF(D25>0,введение!C$11,0)) -> 0 | G25: =IF(C25=3,D25-F25,D25-F25-E25-M25) -> 0 | H25: =ROUND((IF(C25=1,G25*10%,0)),0) -> 0 | I25: =ROUND((IF(C25=1,0,G25*10%)),0) -> 0 | K25: =IF(C25=3,0,IF(L25=1,0,D25-J25)) -> 0 | M25: =K25*10% -> 0 | O25: =IF(C25=3,0,IF(L25=1,0,D25-M25-N25)) -> 0 | P25: =IF(OR(O25<=0,),0,MIN(MAX(введение!$C$11,O25),введение!$C$14)) -> 0 | Q25: =ROUND(P25*5%,0) -> 0 | S25: =ROUND(R25*0.05,0) -> 0 | T25: =IF(D25=0,0,1) -> 0 | V25: =IF(C25=3,0,IF(L25=1,0,D25-U25)) -> 0 | W25: =V25*1% -> 0
A26: Итого: | D26: =SUM(D14:D25) -> 0 | E26: =SUM(E14:E25) -> 0 | F26: =SUM(F14:F25) -> 0 | G26: =SUM(G14:G25) -> 0 | H26: =SUM(H14:H25) -> 0 | I26: =SUM(I14:I25) -> 0 | J26: =SUM(J14:J25) -> 0 | K26: =SUM(K14:K25) -> 0 | ... W26: =SUM(W14:W25) -> 0 | X26: =IF(D26>0,D26/T26,0) -> 0
A29: (Ф.И.О., подпись руководителя (налогоплательщика), печать)
A32: (Ф.И.О., подпись главного бухгалтера )
A35: (Ф.И.О., подпись лица, ответственного за составление налогового регистра)
A38: (Дата составления налогового регистра)

Sheet № 2.2 Начис. доходы работ
R2: Форма 910.00
A5: Наименование налогоплательщика
A7: 1 | B7: РНН
A8: 2 | B8: ИИН (БИН) | E8: ='№ 910 Декларация '!D8 -> 0
A9: 3 | B9: Налоговый период: месяц Год | E9: =IF('№ 910 Декларация '!K12=1,"февраль","август") -> август | F9: ='№ 910 Декларация '!N12 -> 2017
A11: Налоговый регистр: "Начисленные доходы работникам для целей налогообложения"
A13: № п/п | B13: Ф.И.О. работника | C13: Признак резиденства: гражданин РК - 1; иностранный гражданин резидент - 2; иностранный гражданин нерезидент - 3 | D13: начисленный доход | E13: примененный вычет | F13: Доходы, не облагаемые ИПН | G13: Доходы, облагаемые ИПН | H13: Индивидуальный подоходный налог с доходов граждан РК | I13: Индивидуальный подоходный налог с доходов иностранцев и лиц без гражданства | J13: Доходы, не облагаемые ОПВ | K13: Доход для исчисления обязательных пенсионных взносов | L13: Пенсионер (если да, то нужно поставить 1) | M13: Обязательные пенсионные взносы | N13: Доходы не облагаемые СО | O13: Предварительный расчет объекта для исчисления СО | P13: Доход для исчисления социальных очтислений | Q13: Обязательные социальные отчисления | R13: Доход для исчисления обязательных профессиональных пенсионных взносов | S13: Обязательные профессиональные пенсионные взносы | T13: Численность работников | U13: Доходы не принимаемые для исчисления ОСМС | V13: Доходы принимаемые для исчисления ОСМС | W13: Сумма отчислений на обязательное социальное медицинское страхование, к уплате | X13: Среднемесячная заработная плата на одного работника
A14: 1 | E14: =IF(C14=3,0,IF(D14>0,введение!C$11,0)) -> 0 | G14: =IF(C14=3,D14-F14,D14-F14-E14-M14) -> 0 | H14: =ROUND((IF(C14=1,G14*10%,0)),0) -> 0 | I14: =ROUND((IF(C14=1,0,G14*10%)),0) -> 0 | K14: =IF(C14=3,0,IF(L14=1,0,D14-J14)) -> 0 | M14: =K14*10% -> 0 | O14: =IF(C14=3,0,IF(L14=1,0,D14-M14-N14)) -> 0 | P14: =IF(OR(O14<=0,),0,MIN(MAX(введение!$C$11,O14),введение!$C$14)) -> 0 | Q14: =ROUND(P14*5%,0) -> 0 | S14: =ROUND(R14*0.05,0) -> 0 | T14: =IF(D14=0,0,1) -> 0 | V14: =IF(C14=3,0,IF(L14=1,0,D14-U14)) -> 0 | W14: =V14*1% -> 0
A15: 2 | E15: =IF(C15=3,0,IF(D15>0,введение!C$11,0)) -> 0 | G15: =IF(C15=3,D15-F15,D15-F15-E15-M15) -> 0 | H15: =ROUND((IF(C15=1,G15*10%,0)),0) -> 0 | I15: =ROUND((IF(C15=1,0,G15*10%)),0) -> 0 | K15: =IF(C15=3,0,IF(L15=1,0,D15-J15)) -> 0 | M15: =K15*10% -> 0 | O15: =IF(C15=3,0,IF(L15=1,0,D15-M15-N15)) -> 0 | P15: =IF(OR(O15<=0,),0,MIN(MAX(введение!$C$11,O15),введение!$C$14)) -> 0 | Q15: =ROUND(P15*5%,0) -> 0 | S15: =ROUND(R15*0.05,0) -> 0 | T15: =IF(D15=0,0,1) -> 0 | V15: =IF(C15=3,0,IF(L15=1,0,D15-U15)) -> 0 | W15: =V15*1% -> 0
A16: 3 | E16: =IF(C16=3,0,IF(D16>0,введение!C$11,0)) -> 0 | G16: =IF(C16=3,D16-F16,D16-F16-E16-M16) -> 0 | H16: =ROUND((IF(C16=1,G16*10%,0)),0) -> 0 | I16: =ROUND((IF(C16=1,0,G16*10%)),0) -> 0 | K16: =IF(C16=3,0,IF(L16=1,0,D16-J16)) -> 0 | M16: =K16*10% -> 0 | O16: =IF(C16=3,0,IF(L16=1,0,D16-M16-N16)) -> 0 | P16: =IF(OR(O16<=0,),0,MIN(MAX(введение!$C$11,O16),введение!$C$14)) -> 0 | Q16: =ROUND(P16*5%,0) -> 0 | S16: =ROUND(R16*0.05,0) -> 0 | T16: =IF(D16=0,0,1) -> 0 | V16: =IF(C16=3,0,IF(L16=1,0,D16-U16)) -> 0 | W16: =V16*1% -> 0
A17: 4 | E17: =IF(C17=3,0,IF(D17>0,введение!C$11,0)) -> 0 | G17: =IF(C17=3,D17-F17,D17-F17-E17-M17) -> 0 | H17: =ROUND((IF(C17=1,G17*10%,0)),0) -> 0 | I17: =ROUND((IF(C17=1,0,G17*10%)),0) -> 0 | K17: =IF(C17=3,0,IF(L17=1,0,D17-J17)) -> 0 | M17: =K17*10% -> 0 | O17: =IF(C17=3,0,IF(L17=1,0,D17-M17-N17)) -> 0 | P17: =IF(OR(O17<=0,),0,MIN(MAX(введение!$C$11,O17),введение!$C$14)) -> 0 | Q17: =ROUND(P17*5%,0) -> 0 | S17: =ROUND(R17*0.05,0) -> 0 | T17: =IF(D17=0,0,1) -> 0 | V17: =IF(C17=3,0,IF(L17=1,0,D17-U17)) -> 0 | W17: =V17*1% -> 0
A18: 5 | E18: =IF(C18=3,0,IF(D18>0,введение!C$11,0)) -> 0 | G18: =IF(C18=3,D18-F18,D18-F18-E18-M18) -> 0 | H18: =ROUND((IF(C18=1,G18*10%,0)),0) -> 0 | I18: =ROUND((IF(C18=1,0,G18*10%)),0) -> 0 | K18: =IF(C18=3,0,IF(L18=1,0,D18-J18)) -> 0 | M18: =K18*10% -> 0 | O18: =IF(C18=3,0,IF(L18=1,0,D18-M18-N18)) -> 0 | P18: =IF(OR(O18<=0,),0,MIN(MAX(введение!$C$11,O18),введение!$C$14)) -> 0 | Q18: =ROUND(P18*5%,0) -> 0 | S18: =ROUND(R18*0.05,0) -> 0 | T18: =IF(D18=0,0,1) -> 0 | V18: =IF(C18=3,0,IF(L18=1,0,D18-U18)) -> 0 | W18: =V18*1% -> 0
A19: 6 | E19: =IF(C19=3,0,IF(D19>0,введение!C$11,0)) -> 0 | G19: =IF(C19=3,D19-F19,D19-F19-E19-M19) -> 0 | H19: =ROUND((IF(C19=1,G19*10%,0)),0) -> 0 | I19: =ROUND((IF(C19=1,0,G19*10%)),0) -> 0 | K19: =IF(C19=3,0,IF(L19=1,0,D19-J19)) -> 0 | M19: =K19*10% -> 0 | O19: =IF(C19=3,0,IF(L19=1,0,D19-M19-N19)) -> 0 | P19: =IF(OR(O19<=0,),0,MIN(MAX(введение!$C$11,O19),введение!$C$14)) -> 0 | Q19: =ROUND(P19*5%,0) -> 0 | S19: =ROUND(R19*0.05,0) -> 0 | T19: =IF(D19=0,0,1) -> 0 | V19: =IF(C19=3,0,IF(L19=1,0,D19-U19)) -> 0 | W19: =V19*1% -> 0
A20: 7 | E20: =IF(C20=3,0,IF(D20>0,введение!C$11,0)) -> 0 | G20: =IF(C20=3,D20-F20,D20-F20-E20-M20) -> 0 | H20: =ROUND((IF(C20=1,G20*10%,0)),0) -> 0 | I20: =ROUND((IF(C20=1,0,G20*10%)),0) -> 0 | K20: =IF(C20=3,0,IF(L20=1,0,D20-J20)) -> 0 | M20: =K20*10% -> 0 | O20: =IF(C20=3,0,IF(L20=1,0,D20-M20-N20)) -> 0 | P20: =IF(OR(O20<=0,),0,MIN(MAX(введение!$C$11,O20),введение!$C$14)) -> 0 | Q20: =ROUND(P20*5%,0) -> 0 | S20: =ROUND(R20*0.05,0) -> 0 | T20: =IF(D20=0,0,1) -> 0 | V20: =IF(C20=3,0,IF(L20=1,0,D20-U20)) -> 0 | W20: =V20*1% -> 0
A21: 8 | E21: =IF(C21=3,0,IF(D21>0,введение!C$11,0)) -> 0 | G21: =IF(C21=3,D21-F21,D21-F21-E21-M21) -> 0 | H21: =ROUND((IF(C21=1,G21*10%,0)),0) -> 0 | I21: =ROUND((IF(C21=1,0,G21*10%)),0) -> 0 | K21: =IF(C21=3,0,IF(L21=1,0,D21-J21)) -> 0 | M21: =K21*10% -> 0 | O21: =IF(C21=3,0,IF(L21=1,0,D21-M21-N21)) -> 0 | P21: =IF(OR(O21<=0,),0,MIN(MAX(введение!$C$11,O21),введение!$C$14)) -> 0 | Q21: =ROUND(P21*5%,0) -> 0 | S21: =ROUND(R21*0.05,0) -> 0 | T21: =IF(D21=0,0,1) -> 0 | V21: =IF(C21=3,0,IF(L21=1,0,D21-U21)) -> 0 | W21: =V21*1% -> 0
A22: 9 | E22: =IF(C22=3,0,IF(D22>0,введение!C$11,0)) -> 0 | G22: =IF(C22=3,D22-F22,D22-F22-E22-M22) -> 0 | H22: =ROUND((IF(C22=1,G22*10%,0)),0) -> 0 | I22: =ROUND((IF(C22=1,0,G22*10%)),0) -> 0 | K22: =IF(C22=3,0,IF(L22=1,0,D22-J22)) -> 0 | M22: =K22*10% -> 0 | O22: =IF(C22=3,0,IF(L22=1,0,D22-M22-N22)) -> 0 | P22: =IF(OR(O22<=0,),0,MIN(MAX(введение!$C$11,O22),введение!$C$14)) -> 0 | Q22: =ROUND(P22*5%,0) -> 0 | S22: =ROUND(R22*0.05,0) -> 0 | T22: =IF(D22=0,0,1) -> 0 | V22: =IF(C22=3,0,IF(L22=1,0,D22-U22)) -> 0 | W22: =V22*1% -> 0
A23: 10 | E23: =IF(C23=3,0,IF(D23>0,введение!C$11,0)) -> 0 | G23: =IF(C23=3,D23-F23,D23-F23-E23-M23) -> 0 | H23: =ROUND((IF(C23=1,G23*10%,0)),0) -> 0 | I23: =ROUND((IF(C23=1,0,G23*10%)),0) -> 0 | K23: =IF(C23=3,0,IF(L23=1,0,D23-J23)) -> 0 | M23: =K23*10% -> 0 | O23: =IF(C23=3,0,IF(L23=1,0,D23-M23-N23)) -> 0 | P23: =IF(OR(O23<=0,),0,MIN(MAX(введение!$C$11,O23),введение!$C$14)) -> 0 | Q23: =ROUND(P23*5%,0) -> 0 | S23: =ROUND(R23*0.05,0) -> 0 | T23: =IF(D23=0,0,1) -> 0 | V23: =IF(C23=3,0,IF(L23=1,0,D23-U23)) -> 0 | W23: =V23*1% -> 0
A24: 11 | E24: =IF(C24=3,0,IF(D24>0,введение!C$11,0)) -> 0 | G24: =IF(C24=3,D24-F24,D24-F24-E24-M24) -> 0 | H24: =ROUND((IF(C24=1,G24*10%,0)),0) -> 0 | I24: =ROUND((IF(C24=1,0,G24*10%)),0) -> 0 | K24: =IF(C24=3,0,IF(L24=1,0,D24-J24)) -> 0 | M24: =K24*10% -> 0 | O24: =IF(C24=3,0,IF(L24=1,0,D24-M24-N24)) -> 0 | P24: =IF(OR(O24<=0,),0,MIN(MAX(введение!$C$11,O24),введение!$C$14)) -> 0 | Q24: =ROUND(P24*5%,0) -> 0 | S24: =ROUND(R24*0.05,0) -> 0 | T24: =IF(D24=0,0,1) -> 0 | V24: =IF(C24=3,0,IF(L24=1,0,D24-U24)) -> 0 | W24: =V24*1% -> 0
A25: 12 | E25: =IF(C25=3,0,IF(D25>0,введение!C$11,0)) -> 0 | G25: =IF(C25=3,D25-F25,D25-F25-E25-M25) -> 0 | H25: =ROUND((IF(C25=1,G25*10%,0)),0) -> 0 | I25: =ROUND((IF(C25=1,0,G25*10%)),0) -> 0 | K25: =IF(C25=3,0,IF(L25=1,0,D25-J25)) -> 0 | M25: =K25*10% -> 0 | O25: =IF(C25=3,0,IF(L25=1,0,D25-M25-N25)) -> 0 | P25: =IF(OR(O25<=0,),0,MIN(MAX(введение!$C$11,O25),введение!$C$14)) -> 0 | Q25: =ROUND(P25*5%,0) -> 0 | S25: =ROUND(R25*0.05,0) -> 0 | T25: =IF(D25=0,0,1) -> 0 | V25: =IF(C25=3,0,IF(L25=1,0,D25-U25)) -> 0 | W25: =V25*1% -> 0
A26: Итого: | D26: =SUM(D14:D25) -> 0 | E26: =SUM(E14:E25) -> 0 | F26: =SUM(F14:F25) -> 0 | G26: =SUM(G14:G25) -> 0 | H26: =SUM(H14:H25) -> 0 | I26: =SUM(I14:I25) -> 0 | J26: =SUM(J14:J25) -> 0 | K26: =SUM(K14:K25) -> 0 | ... W26: =SUM(W14:W25) -> 0 | X26: =IF(D26>0,D26/T26,0) -> 0
A28: (Ф.И.О., подпись руководителя (налогоплательщика), печать)
A31: (Ф.И.О., подпись главного бухгалтера )
A34: (Ф.И.О., подпись лица, ответственного за составление налогового регистра)
A37: (Дата составления налогового регистра)

Sheet № 2.3 Начис. доходы работ
Q2: Форма 910.00
A5: Наименование налогоплательщика
A7: 1 | B7: РНН
A8: 2 | B8: ИИН (БИН) | D8: ='№ 910 Декларация '!D8 -> 0
A9: 3 | B9: Налоговый период: месяц Год | D9: =IF('№ 910 Декларация '!K12=1,"март","сентябрь") -> сентябрь | E9: ='№ 910 Декларация '!N12 -> 2017
A11: Налоговый регистр: "Начисленные доходы работникам для целей налогообложения"
A13: № п/п | B13: Ф.И.О. работника | C13: Признак резиденства: гражданин РК - 1; иностранный гражданин резидент - 2; иностранный гражданин нерезидент - 3 | D13: начисленный доход | E13: примененный вычет | F13: Доходы, не облагаемые ИПН | G13: Доходы, облагаемые ИПН | H13: Индивидуальный подоходный налог с доходов граждан РК | I13: Индивидуальный подоходный налог с доходов иностранцев и лиц без гражданства | J13: Доходы, не облагаемые ОПВ | K13: Доход для исчисления обязательных пенсионных взносов | L13: Пенсионер (если да, то нужно поставить 1) | M13: Обязательные пенсионные взносы | N13: Доходы не облагаемые СО | O13: Предварительный расчет объекта для исчисления СО | P13: Доход для исчисления социальных очтислений | Q13: Обязательные социальные отчисления | R13: Доход для исчисления обязательных профессиональных пенсионных взносов | S13: Обязательные профессиональные пенсионные взносы | T13: Численность работников | U13: Доходы не принимаемые для исчисления ОСМС | V13: Доходы принимаемые для исчисления ОСМС | W13: Сумма отчислений на обязательное социальное медицинское страхование, к уплате | X13: Среднемесячная заработная плата на одного работника
A14: 1 | E14: =IF(C14=3,0,IF(D14>0,введение!C$11,0)) -> 0 | G14: =IF(C14=3,D14-F14,D14-F14-E14-M14) -> 0 | H14: =ROUND((IF(C14=1,G14*10%,0)),0) -> 0 | I14: =ROUND((IF(C14=1,0,G14*10%)),0) -> 0 | K14: =IF(C14=3,0,IF(L14=1,0,D14-J14)) -> 0 | M14: =K14*10% -> 0 | O14: =IF(C14=3,0,IF(L14=1,0,D14-M14-N14)) -> 0 | P14: =IF(OR(O14<=0,),0,MIN(MAX(введение!$C$11,O14),введение!$C$14)) -> 0 | Q14: =ROUND(P14*5%,0) -> 0 | S14: =ROUND(R14*0.05,0) -> 0 | T14: =IF(D14=0,0,1) -> 0 | V14: =IF(C14=3,0,IF(L14=1,0,D14-U14)) -> 0 | W14: =V14*1% -> 0
A15: 2 | E15: =IF(C15=3,0,IF(D15>0,введение!C$11,0)) -> 0 | G15: =IF(C15=3,D15-F15,D15-F15-E15-M15) -> 0 | H15: =ROUND((IF(C15=1,G15*10%,0)),0) -> 0 | I15: =ROUND((IF(C15=1,0,G15*10%)),0) -> 0 | K15: =IF(C15=3,0,IF(L15=1,0,D15-J15)) -> 0 | M15: =K15*10% -> 0 | O15: =IF(C15=3,0,IF(L15=1,0,D15-M15-N15)) -> 0 | P15: =IF(OR(O15<=0,),0,MIN(MAX(введение!$C$11,O15),введение!$C$14)) -> 0 | Q15: =ROUND(P15*5%,0) -> 0 | S15: =ROUND(R15*0.05,0) -> 0 | T15: =IF(D15=0,0,1) -> 0 | V15: =IF(C15=3,0,IF(L15=1,0,D15-U15)) -> 0 | W15: =V15*1% -> 0
A16: 3 | E16: =IF(C16=3,0,IF(D16>0,введение!C$11,0)) -> 0 | G16: =IF(C16=3,D16-F16,D16-F16-E16-M16) -> 0 | H16: =ROUND((IF(C16=1,G16*10%,0)),0) -> 0 | I16: =ROUND((IF(C16=1,0,G16*10%)),0) -> 0 | K16: =IF(C16=3,0,IF(L16=1,0,D16-J16)) -> 0 | M16: =K16*10% -> 0 | O16: =IF(C16=3,0,IF(L16=1,0,D16-M16-N16)) -> 0 | P16: =IF(OR(O16<=0,),0,MIN(MAX(введение!$C$11,O16),введение!$C$14)) -> 0 | Q16: =ROUND(P16*5%,0) -> 0 | S16: =ROUND(R16*0.05,0) -> 0 | T16: =IF(D16=0,0,1) -> 0 | V16: =IF(C16=3,0,IF(L16=1,0,D16-U16)) -> 0 | W16: =V16*1% -> 0
A17: 4 | E17: =IF(C17=3,0,IF(D17>0,введение!C$11,0)) -> 0 | G17: =IF(C17=3,D17-F17,D17-F17-E17-M17) -> 0 | H17: =ROUND((IF(C17=1,G17*10%,0)),0) -> 0 | I17: =ROUND((IF(C17=1,0,G17*10%)),0) -> 0 | K17: =IF(C17=3,0,IF(L17=1,0,D17-J17)) -> 0 | M17: =K17*10% -> 0 | O17: =IF(C17=3,0,IF(L17=1,0,D17-M17-N17)) -> 0 | P17: =IF(OR(O17<=0,),0,MIN(MAX(введение!$C$11,O17),введение!$C$14)) -> 0 | Q17: =ROUND(P17*5%,0) -> 0 | S17: =ROUND(R17*0.05,0) -> 0 | T17: =IF(D17=0,0,1) -> 0 | V17: =IF(C17=3,0,IF(L17=1,0,D17-U17)) -> 0 | W17: =V17*1% -> 0
A18: 5 | E18: =IF(C18=3,0,IF(D18>0,введение!C$11,0)) -> 0 | G18: =IF(C18=3,D18-F18,D18-F18-E18-M18) -> 0 | H18: =ROUND((IF(C18=1,G18*10%,0)),0) -> 0 | I18: =ROUND((IF(C18=1,0,G18*10%)),0) -> 0 | K18: =IF(C18=3,0,IF(L18=1,0,D18-J18)) -> 0 | M18: =K18*10% -> 0 | O18: =IF(C18=3,0,IF(L18=1,0,D18-M18-N18)) -> 0 | P18: =IF(OR(O18<=0,),0,MIN(MAX(введение!$C$11,O18),введение!$C$14)) -> 0 | Q18: =ROUND(P18*5%,0) -> 0 | S18: =ROUND(R18*0.05,0) -> 0 | T18: =IF(D18=0,0,1) -> 0 | V18: =IF(C18=3,0,IF(L18=1,0,D18-U18)) -> 0 | W18: =V18*1% -> 0
A19: 6 | E19: =IF(C19=3,0,IF(D19>0,введение!C$11,0)) -> 0 | G19: =IF(C19=3,D19-F19,D19-F19-E19-M19) -> 0 | H19: =ROUND((IF(C19=1,G19*10%,0)),0) -> 0 | I19: =ROUND((IF(C19=1,0,G19*10%)),0) -> 0 | K19: =IF(C19=3,0,IF(L19=1,0,D19-J19)) -> 0 | M19: =K19*10% -> 0 | O19: =IF(C19=3,0,IF(L19=1,0,D19-M19-N19)) -> 0 | P19: =IF(OR(O19<=0,),0,MIN(MAX(введение!$C$11,O19),введение!$C$14)) -> 0 | Q19: =ROUND(P19*5%,0) -> 0 | S19: =ROUND(R19*0.05,0) -> 0 | T19: =IF(D19=0,0,1) -> 0 | V19: =IF(C19=3,0,IF(L19=1,0,D19-U19)) -> 0 | W19: =V19*1% -> 0
A20: 7 | E20: =IF(C20=3,0,IF(D20>0,введение!C$11,0)) -> 0 | G20: =IF(C20=3,D20-F20,D20-F20-E20-M20) -> 0 | H20: =ROUND((IF(C20=1,G20*10%,0)),0) -> 0 | I20: =ROUND((IF(C20=1,0,G20*10%)),0) -> 0 | K20: =IF(C20=3,0,IF(L20=1,0,D20-J20)) -> 0 | M20: =K20*10% -> 0 | O20: =IF(C20=3,0,IF(L20=1,0,D20-M20-N20)) -> 0 | P20: =IF(OR(O20<=0,),0,MIN(MAX(введение!$C$11,O20),введение!$C$14)) -> 0 | Q20: =ROUND(P20*5%,0) -> 0 | S20: =ROUND(R20*0.05,0) -> 0 | T20: =IF(D20=0,0,1) -> 0 | V20: =IF(C20=3,0,IF(L20=1,0,D20-U20)) -> 0 | W20: =V20*1% -> 0
A21: 8 | E21: =IF(C21=3,0,IF(D21>0,введение!C$11,0)) -> 0 | G21: =IF(C21=3,D21-F21,D21-F21-E21-M21) -> 0 | H21: =ROUND((IF(C21=1,G21*10%,0)),0) -> 0 | I21: =ROUND((IF(C21=1,0,G21*10%)),0) -> 0 | K21: =IF(C21=3,0,IF(L21=1,0,D21-J21)) -> 0 | M21: =K21*10% -> 0 | O21: =IF(C21=3,0,IF(L21=1,0,D21-M21-N21)) -> 0 | P21: =IF(OR(O21<=0,),0,MIN(MAX(введение!$C$11,O21),введение!$C$14)) -> 0 | Q21: =ROUND(P21*5%,0) -> 0 | S21: =ROUND(R21*0.05,0) -> 0 | T21: =IF(D21=0,0,1) -> 0 | V21: =IF(C21=3,0,IF(L21=1,0,D21-U21)) -> 0 | W21: =V21*1% -> 0
A22: 9 | E22: =IF(C22=3,0,IF(D22>0,введение!C$11,0)) -> 0 | G22: =IF(C22=3,D22-F22,D22-F22-E22-M22) -> 0 | H22: =ROUND((IF(C22=1,G22*10%,0)),0) -> 0 | I22: =ROUND((IF(C22=1,0,G22*10%)),0) -> 0 | K22: =IF(C22=3,0,IF(L22=1,0,D22-J22)) -> 0 | M22: =K22*10% -> 0 | O22: =IF(C22=3,0,IF(L22=1,0,D22-M22-N22)) -> 0 | P22: =IF(OR(O22<=0,),0,MIN(MAX(введение!$C$11,O22),введение!$C$14)) -> 0 | Q22: =ROUND(P22*5%,0) -> 0 | S22: =ROUND(R22*0.05,0) -> 0 | T22: =IF(D22=0,0,1) -> 0 | V22: =IF(C22=3,0,IF(L22=1,0,D22-U22)) -> 0 | W22: =V22*1% -> 0
A23: 10 | E23: =IF(C23=3,0,IF(D23>0,введение!C$11,0)) -> 0 | G23: =IF(C23=3,D23-F23,D23-F23-E23-M23) -> 0 | H23: =ROUND((IF(C23=1,G23*10%,0)),0) -> 0 | I23: =ROUND((IF(C23=1,0,G23*10%)),0) -> 0 | K23: =IF(C23=3,0,IF(L23=1,0,D23-J23)) -> 0 | M23: =K23*10% -> 0 | O23: =IF(C23=3,0,IF(L23=1,0,D23-M23-N23)) -> 0 | P23: =IF(OR(O23<=0,),0,MIN(MAX(введение!$C$11,O23),введение!$C$14)) -> 0 | Q23: =ROUND(P23*5%,0) -> 0 | S23: =ROUND(R23*0.05,0) -> 0 | T23: =IF(D23=0,0,1) -> 0 | V23: =IF(C23=3,0,IF(L23=1,0,D23-U23)) -> 0 | W23: =V23*1% -> 0
A24: 11 | E24: =IF(C24=3,0,IF(D24>0,введение!C$11,0)) -> 0 | G24: =IF(C24=3,D24-F24,D24-F24-E24-M24) -> 0 | H24: =ROUND((IF(C24=1,G24*10%,0)),0) -> 0 | I24: =ROUND((IF(C24=1,0,G24*10%)),0) -> 0 | K24: =IF(C24=3,0,IF(L24=1,0,D24-J24)) -> 0 | M24: =K24*10% -> 0 | O24: =IF(C24=3,0,IF(L24=1,0,D24-M24-N24)) -> 0 | P24: =IF(OR(O24<=0,),0,MIN(MAX(введение!$C$11,O24),введение!$C$14)) -> 0 | Q24: =ROUND(P24*5%,0) -> 0 | S24: =ROUND(R24*0.05,0) -> 0 | T24: =IF(D24=0,0,1) -> 0 | V24: =IF(C24=3,0,IF(L24=1,0,D24-U24)) -> 0 | W24: =V24*1% -> 0
A25: 12 | E25: =IF(C25=3,0,IF(D25>0,введение!C$11,0)) -> 0 | G25: =IF(C25=3,D25-F25,D25-F25-E25-M25) -> 0 | H25: =ROUND((IF(C25=1,G25*10%,0)),0) -> 0 | I25: =ROUND((IF(C25=1,0,G25*10%)),0) -> 0 | K25: =IF(C25=3,0,IF(L25=1,0,D25-J25)) -> 0 | M25: =K25*10% -> 0 | O25: =IF(C25=3,0,IF(L25=1,0,D25-M25-N25)) -> 0 | P25: =IF(OR(O25<=0,),0,MIN(MAX(введение!$C$11,O25),введение!$C$14)) -> 0 | Q25: =ROUND(P25*5%,0) -> 0 | S25: =ROUND(R25*0.05,0) -> 0 | T25: =IF(D25=0,0,1) -> 0 | V25: =IF(C25=3,0,IF(L25=1,0,D25-U25)) -> 0 | W25: =V25*1% -> 0
A26: Итого: | D26: =SUM(D14:D25) -> 0 | E26: =SUM(E14:E25) -> 0 | F26: =SUM(F14:F25) -> 0 | G26: =SUM(G14:G25) -> 0 | H26: =SUM(H14:H25) -> 0 | I26: =SUM(I14:I25) -> 0 | J26: =SUM(J14:J25) -> 0 | K26: =SUM(K14:K25) -> 0 | ... W26: =SUM(W14:W25) -> 0 | X26: =IF(D26>0,D26/T26,0) -> 0
A28: (Ф.И.О., подпись руководителя (налогоплательщика), печать)
A31: (Ф.И.О., подпись главного бухгалтера )
A34: (Ф.И.О., подпись лица, ответственного за составление налогового регистра)
A37: (Дата составления налогового регистра)

Sheet № 2.4 Начис. доходы работ
Q2: Форма 910.00
A5: Наименование налогоплательщика
A7: 1 | B7: РНН
A8: 2 | B8: ИИН (БИН) | D8: ='№ 910 Декларация '!D8 -> 0
A9: 3 | B9: Налоговый период: месяц Год | D9: =IF('№ 910 Декларация '!K12=1,"апрель","октябрь") -> октябрь | E9: ='№ 910 Декларация '!N12 -> 2017
A11: Налоговый регистр: "Начисленные доходы работникам для целей налогообложения"
A13: № п/п | B13: Ф.И.О. работника | C13: Признак резиденства: гражданин РК - 1; иностранный гражданин резидент - 2; иностранный гражданин нерезидент - 3 | D13: начисленный доход | E13: примененный вычет | F13: Доходы, не облагаемые ИПН | G13: Доходы, облагаемые ИПН | H13: Индивидуальный подоходный налог с доходов граждан РК | I13: Индивидуальный подоходный налог с доходов иностранцев и лиц без гражданства | J13: Доходы, не облагаемые ОПВ | K13: Доход для исчисления обязательных пенсионных взносов | L13: Пенсионер (если да, то нужно поставить 1) | M13: Обязательные пенсионные взносы | N13: Доходы не облагаемые СО | O13: Предварительный расчет объекта для исчисления СО | P13: Доход для исчисления социальных очтислений | Q13: Обязательные социальные отчисления | R13: Доход для исчисления обязательных профессиональных пенсионных взносов | S13: Обязательные профессиональные пенсионные взносы | T13: Численность работников | U13: Доходы не принимаемые для исчисления ОСМС | V13: Доходы принимаемые для исчисления ОСМС | W13: Сумма отчислений на обязательное социальное медицинское страхование, к уплате | X13: Среднемесячная заработная плата на одного работника
A14: 1 | E14: =IF(C14=3,0,IF(D14>0,введение!C$11,0)) -> 0 | G14: =IF(C14=3,D14-F14,D14-F14-E14-M14) -> 0 | H14: =ROUND((IF(C14=1,G14*10%,0)),0) -> 0 | I14: =ROUND((IF(C14=1,0,G14*10%)),0) -> 0 | K14: =IF(C14=3,0,IF(L14=1,0,D14-J14)) -> 0 | M14: =K14*10% -> 0 | O14: =IF(C14=3,0,IF(L14=1,0,D14-M14-N14)) -> 0 | P14: =IF(OR(O14<=0,),0,MIN(MAX(введение!$C$11,O14),введение!$C$14)) -> 0 | Q14: =ROUND(P14*5%,0) -> 0 | S14: =ROUND(R14*0.05,0) -> 0 | T14: =IF(D14=0,0,1) -> 0 | V14: =IF(C14=3,0,IF(L14=1,0,D14-U14)) -> 0 | W14: =V14*1% -> 0
A15: 2 | E15: =IF(C15=3,0,IF(D15>0,введение!C$11,0)) -> 0 | G15: =IF(C15=3,D15-F15,D15-F15-E15-M15) -> 0 | H15: =ROUND((IF(C15=1,G15*10%,0)),0) -> 0 | I15: =ROUND((IF(C15=1,0,G15*10%)),0) -> 0 | K15: =IF(C15=3,0,IF(L15=1,0,D15-J15)) -> 0 | M15: =K15*10% -> 0 | O15: =IF(C15=3,0,IF(L15=1,0,D15-M15-N15)) -> 0 | P15: =IF(OR(O15<=0,),0,MIN(MAX(введение!$C$11,O15),введение!$C$14)) -> 0 | Q15: =ROUND(P15*5%,0) -> 0 | S15: =ROUND(R15*0.05,0) -> 0 | T15: =IF(D15=0,0,1) -> 0 | V15: =IF(C15=3,0,IF(L15=1,0,D15-U15)) -> 0 | W15: =V15*1% -> 0
A16: 3 | E16: =IF(C16=3,0,IF(D16>0,введение!C$11,0)) -> 0 | G16: =IF(C16=3,D16-F16,D16-F16-E16-M16) -> 0 | H16: =ROUND((IF(C16=1,G16*10%,0)),0) -> 0 | I16: =ROUND((IF(C16=1,0,G16*10%)),0) -> 0 | K16: =IF(C16=3,0,IF(L16=1,0,D16-J16)) -> 0 | M16: =K16*10% -> 0 | O16: =IF(C16=3,0,IF(L16=1,0,D16-M16-N16)) -> 0 | P16: =IF(OR(O16<=0,),0,MIN(MAX(введение!$C$11,O16),введение!$C$14)) -> 0 | Q16: =ROUND(P16*5%,0) -> 0 | S16: =ROUND(R16*0.05,0) -> 0 | T16: =IF(D16=0,0,1) -> 0 | V16: =IF(C16=3,0,IF(L16=1,0,D16-U16)) -> 0 | W16: =V16*1% -> 0
A17: 4 | E17: =IF(C17=3,0,IF(D17>0,введение!C$11,0)) -> 0 | G17: =IF(C17=3,D17-F17,D17-F17-E17-M17) -> 0 | H17: =ROUND((IF(C17=1,G17*10%,0)),0) -> 0 | I17: =ROUND((IF(C17=1,0,G17*10%)),0) -> 0 | K17: =IF(C17=3,0,IF(L17=1,0,D17-J17)) -> 0 | M17: =K17*10% -> 0 | O17: =IF(C17=3,0,IF(L17=1,0,D17-M17-N17)) -> 0 | P17: =IF(OR(O17<=0,),0,MIN(MAX(введение!$C$11,O17),введение!$C$14)) -> 0 | Q17: =ROUND(P17*5%,0) -> 0 | S17: =ROUND(R17*0.05,0) -> 0 | T17: =IF(D17=0,0,1) -> 0 | V17: =IF(C17=3,0,IF(L17=1,0,D17-U17)) -> 0 | W17: =V17*1% -> 0
A18: 5 | E18: =IF(C18=3,0,IF(D18>0,введение!C$11,0)) -> 0 | G18: =IF(C18=3,D18-F18,D18-F18-E18-M18) -> 0 | H18: =ROUND((IF(C18=1,G18*10%,0)),0) -> 0 | I18: =ROUND((IF(C18=1,0,G18*10%)),0) -> 0 | K18: =IF(C18=3,0,IF(L18=1,0,D18-J18)) -> 0 | M18: =K18*10% -> 0 | O18: =IF(C18=3,0,IF(L18=1,0,D18-M18-N18)) -> 0 | P18: =IF(OR(O18<=0,),0,MIN(MAX(введение!$C$11,O18),введение!$C$14)) -> 0 | Q18: =ROUND(P18*5%,0) -> 0 | S18: =ROUND(R18*0.05,0) -> 0 | T18: =IF(D18=0,0,1) -> 0 | V18: =IF(C18=3,0,IF(L18=1,0,D18-U18)) -> 0 | W18: =V18*1% -> 0
A19: 6 | E19: =IF(C19=3,0,IF(D19>0,введение!C$11,0)) -> 0 | G19: =IF(C19=3,D19-F19,D19-F19-E19-M19) -> 0 | H19: =ROUND((IF(C19=1,G19*10%,0)),0) -> 0 | I19: =ROUND((IF(C19=1,0,G19*10%)),0) -> 0 | K19: =IF(C19=3,0,IF(L19=1,0,D19-J19)) -> 0 | M19: =K19*10% -> 0 | O19: =IF(C19=3,0,IF(L19=1,0,D19-M19-N19)) -> 0 | P19: =IF(OR(O19<=0,),0,MIN(MAX(введение!$C$11,O19),введение!$C$14)) -> 0 | Q19: =ROUND(P19*5%,0) -> 0 | S19: =ROUND(R19*0.05,0) -> 0 | T19: =IF(D19=0,0,1) -> 0 | V19: =IF(C19=3,0,IF(L19=1,0,D19-U19)) -> 0 | W19: =V19*1% -> 0
A20: 7 | E20: =IF(C20=3,0,IF(D20>0,введение!C$11,0)) -> 0 | G20: =IF(C20=3,D20-F20,D20-F20-E20-M20) -> 0 | H20: =ROUND((IF(C20=1,G20*10%,0)),0) -> 0 | I20: =ROUND((IF(C20=1,0,G20*10%)),0) -> 0 | K20: =IF(C20=3,0,IF(L20=1,0,D20-J20)) -> 0 | M20: =K20*10% -> 0 | O20: =IF(C20=3,0,IF(L20=1,0,D20-M20-N20)) -> 0 | P20: =IF(OR(O20<=0,),0,MIN(MAX(введение!$C$11,O20),введение!$C$14)) -> 0 | Q20: =ROUND(P20*5%,0) -> 0 | S20: =ROUND(R20*0.05,0) -> 0 | T20: =IF(D20=0,0,1) -> 0 | V20: =IF(C20=3,0,IF(L20=1,0,D20-U20)) -> 0 | W20: =V20*1% -> 0
A21: 8 | E21: =IF(C21=3,0,IF(D21>0,введение!C$11,0)) -> 0 | G21: =IF(C21=3,D21-F21,D21-F21-E21-M21) -> 0 | H21: =ROUND((IF(C21=1,G21*10%,0)),0) -> 0 | I21: =ROUND((IF(C21=1,0,G21*10%)),0) -> 0 | K21: =IF(C21=3,0,IF(L21=1,0,D21-J21)) -> 0 | M21: =K21*10% -> 0 | O21: =IF(C21=3,0,IF(L21=1,0,D21-M21-N21)) -> 0 | P21: =IF(OR(O21<=0,),0,MIN(MAX(введение!$C$11,O21),введение!$C$14)) -> 0 | Q21: =ROUND(P21*5%,0) -> 0 | S21: =ROUND(R21*0.05,0) -> 0 | T21: =IF(D21=0,0,1) -> 0 | V21: =IF(C21=3,0,IF(L21=1,0,D21-U21)) -> 0 | W21: =V21*1% -> 0
A22: 9 | E22: =IF(C22=3,0,IF(D22>0,введение!C$11,0)) -> 0 | G22: =IF(C22=3,D22-F22,D22-F22-E22-M22) -> 0 | H22: =ROUND((IF(C22=1,G22*10%,0)),0) -> 0 | I22: =ROUND((IF(C22=1,0,G22*10%)),0) -> 0 | K22: =IF(C22=3,0,IF(L22=1,0,D22-J22)) -> 0 | M22: =K22*10% -> 0 | O22: =IF(C22=3,0,IF(L22=1,0,D22-M22-N22)) -> 0 | P22: =IF(OR(O22<=0,),0,MIN(MAX(введение!$C$11,O22),введение!$C$14)) -> 0 | Q22: =ROUND(P22*5%,0) -> 0 | S22: =ROUND(R22*0.05,0) -> 0 | T22: =IF(D22=0,0,1) -> 0 | V22: =IF(C22=3,0,IF(L22=1,0,D22-U22)) -> 0 | W22: =V22*1% -> 0
A23: 10 | E23: =IF(C23=3,0,IF(D23>0,введение!C$11,0)) -> 0 | G23: =IF(C23=3,D23-F23,D23-F23-E23-M23) -> 0 | H23: =ROUND((IF(C23=1,G23*10%,0)),0) -> 0 | I23: =ROUND((IF(C23=1,0,G23*10%)),0) -> 0 | K23: =IF(C23=3,0,IF(L23=1,0,D23-J23)) -> 0 | M23: =K23*10% -> 0 | O23: =IF(C23=3,0,IF(L23=1,0,D23-M23-N23)) -> 0 | P23: =IF(OR(O23<=0,),0,MIN(MAX(введение!$C$11,O23),введение!$C$14)) -> 0 | Q23: =ROUND(P23*5%,0) -> 0 | S23: =ROUND(R23*0.05,0) -> 0 | T23: =IF(D23=0,0,1) -> 0 | V23: =IF(C23=3,0,IF(L23=1,0,D23-U23)) -> 0 | W23: =V23*1% -> 0
A24: 11 | E24: =IF(C24=3,0,IF(D24>0,введение!C$11,0)) -> 0 | G24: =IF(C24=3,D24-F24,D24-F24-E24-M24) -> 0 | H24: =ROUND((IF(C24=1,G24*10%,0)),0) -> 0 | I24: =ROUND((IF(C24=1,0,G24*10%)),0) -> 0 | K24: =IF(C24=3,0,IF(L24=1,0,D24-J24)) -> 0 | M24: =K24*10% -> 0 | O24: =IF(C24=3,0,IF(L24=1,0,D24-M24-N24)) -> 0 | P24: =IF(OR(O24<=0,),0,MIN(MAX(введение!$C$11,O24),введение!$C$14)) -> 0 | Q24: =ROUND(P24*5%,0) -> 0 | S24: =ROUND(R24*0.05,0) -> 0 | T24: =IF(D24=0,0,1) -> 0 | V24: =IF(C24=3,0,IF(L24=1,0,D24-U24)) -> 0 | W24: =V24*1% -> 0
A25: 12 | E25: =IF(C25=3,0,IF(D25>0,введение!C$11,0)) -> 0 | G25: =IF(C25=3,D25-F25,D25-F25-E25-M25) -> 0 | H25: =ROUND((IF(C25=1,G25*10%,0)),0) -> 0 | I25: =ROUND((IF(C25=1,0,G25*10%)),0) -> 0 | K25: =IF(C25=3,0,IF(L25=1,0,D25-J25)) -> 0 | M25: =K25*10% -> 0 | O25: =IF(C25=3,0,IF(L25=1,0,D25-M25-N25)) -> 0 | P25: =IF(OR(O25<=0,),0,MIN(MAX(введение!$C$11,O25),введение!$C$14)) -> 0 | Q25: =ROUND(P25*5%,0) -> 0 | S25: =ROUND(R25*0.05,0) -> 0 | T25: =IF(D25=0,0,1) -> 0 | V25: =IF(C25=3,0,IF(L25=1,0,D25-U25)) -> 0 | W25: =V25*1% -> 0
A26: Итого: | D26: =SUM(D14:D25) -> 0 | E26: =SUM(E14:E25) -> 0 | F26: =SUM(F14:F25) -> 0 | G26: =SUM(G14:G25) -> 0 | H26: =SUM(H14:H25) -> 0 | I26: =SUM(I14:I25) -> 0 | J26: =SUM(J14:J25) -> 0 | K26: =SUM(K14:K25) -> 0 | ... W26: =SUM(W14:W25) -> 0 | X26: =IF(D26>0,D26/T26,0) -> 0
A28: (Ф.И.О., подпись руководителя (налогоплательщика), печать)
A31: (Ф.И.О., подпись главного бухгалтера )
A34: (Ф.И.О., подпись лица, ответственного за составление налогового регистра)
A37: (Дата составления налогового регистра)

Sheet № 2.5 Начис. доходы работ. 
Q2: Форма 910.00
A4: Наименование налогоплательщика
A6: 1 | B6: РНН
A7: 2 | B7: ИИН (БИН) | D7: ='№ 910 Декларация '!D8 -> 0
A8: 3 | B8: Налоговый период: месяц Год | D8: =IF('№ 910 Декларация '!K12=1,"май","ноябрь") -> ноябрь | E8: ='№ 910 Декларация '!N12 -> 2017
A10: Налоговый регистр: "Начисленные доходы работникам для целей налогообложения"
A13: № п/п | B13: Ф.И.О. работника | C13: Признак резиденства: гражданин РК - 1; иностранный гражданин резидент - 2; иностранный гражданин нерезидент - 3 | D13: начисленный доход | E13: примененный вычет | F13: Доходы, не облагаемые ИПН | G13: Доходы, облагаемые ИПН | H13: Индивидуальный подоходный налог с доходов граждан РК | I13: Индивидуальный подоходный налог с доходов иностранцев и лиц без гражданства | J13: Доходы, не облагаемые ОПВ | K13: Доход для исчисления обязательных пенсионных взносов | L13: Пенсионер (если да, то нужно поставить 1) | M13: Обязательные пенсионные взносы | N13: Доходы не облагаемые СО | O13: Предварительный расчет объекта для исчисления СО | P13: Доход для исчисления социальных очтислений | Q13: Обязательные социальные отчисления | R13: Доход для исчисления обязательных профессиональных пенсионных взносов | S13: Обязательные профессиональные пенсионные взносы | T13: Численность работников | U13: Доходы не принимаемые для исчисления ОСМС | V13: Доходы принимаемые для исчисления ОСМС | W13: Сумма отчислений на обязательное социальное медицинское страхование, к уплате | X13: Среднемесячная заработная плата на одного работника
A14: 1 | E14: =IF(C14=3,0,IF(D14>0,введение!C$11,0)) -> 0 | G14: =IF(C14=3,D14-F14,D14-F14-E14-M14) -> 0 | H14: =ROUND((IF(C14=1,G14*10%,0)),0) -> 0 | I14: =ROUND((IF(C14=1,0,G14*10%)),0) -> 0 | K14: =IF(C14=3,0,IF(L14=1,0,D14-J14)) -> 0 | M14: =K14*10% -> 0 | O14: =IF(C14=3,0,IF(L14=1,0,D14-M14-N14)) -> 0 | P14: =IF(OR(O14<=0,),0,MIN(MAX(введение!$C$11,O14),введение!$C$14)) -> 0 | Q14: =ROUND(P14*5%,0) -> 0 | S14: =ROUND(R14*0.05,0) -> 0 | T14: =IF(D14=0,0,1) -> 0 | V14: =IF(C14=3,0,IF(L14=1,0,D14-U14)) -> 0 | W14: =V14*1% -> 0
A15: 2 | E15: =IF(C15=3,0,IF(D15>0,введение!C$11,0)) -> 0 | G15: =IF(C15=3,D15-F15,D15-F15-E15-M15) -> 0 | H15: =ROUND((IF(C15=1,G15*10%,0)),0) -> 0 | I15: =ROUND((IF(C15=1,0,G15*10%)),0) -> 0 | K15: =IF(C15=3,0,IF(L15=1,0,D15-J15)) -> 0 | M15: =K15*10% -> 0 | O15: =IF(C15=3,0,IF(L15=1,0,D15-M15-N15)) -> 0 | P15: =IF(OR(O15<=0,),0,MIN(MAX(введение!$C$11,O15),введение!$C$14)) -> 0 | Q15: =ROUND(P15*5%,0) -> 0 | S15: =ROUND(R15*0.05,0) -> 0 | T15: =IF(D15=0,0,1) -> 0 | V15: =IF(C15=3,0,IF(L15=1,0,D15-U15)) -> 0 | W15: =V15*1% -> 0
A16: 3 | E16: =IF(C16=3,0,IF(D16>0,введение!C$11,0)) -> 0 | G16: =IF(C16=3,D16-F16,D16-F16-E16-M16) -> 0 | H16: =ROUND((IF(C16=1,G16*10%,0)),0) -> 0 | I16: =ROUND((IF(C16=1,0,G16*10%)),0) -> 0 | K16: =IF(C16=3,0,IF(L16=1,0,D16-J16)) -> 0 | M16: =K16*10% -> 0 | O16: =IF(C16=3,0,IF(L16=1,0,D16-M16-N16)) -> 0 | P16: =IF(OR(O16<=0,),0,MIN(MAX(введение!$C$11,O16),введение!$C$14)) -> 0 | Q16: =ROUND(P16*5%,0) -> 0 | S16: =ROUND(R16*0.05,0) -> 0 | T16: =IF(D16=0,0,1) -> 0 | V16: =IF(C16=3,0,IF(L16=1,0,D16-U16)) -> 0 | W16: =V16*1% -> 0
A17: 4 | E17: =IF(C17=3,0,IF(D17>0,введение!C$11,0)) -> 0 | G17: =IF(C17=3,D17-F17,D17-F17-E17-M17) -> 0 | H17: =ROUND((IF(C17=1,G17*10%,0)),0) -> 0 | I17: =ROUND((IF(C17=1,0,G17*10%)),0) -> 0 | K17: =IF(C17=3,0,IF(L17=1,0,D17-J17)) -> 0 | M17: =K17*10% -> 0 | O17: =IF(C17=3,0,IF(L17=1,0,D17-M17-N17)) -> 0 | P17: =IF(OR(O17<=0,),0,MIN(MAX(введение!$C$11,O17),введение!$C$14)) -> 0 | Q17: =ROUND(P17*5%,0) -> 0 | S17: =ROUND(R17*0.05,0) -> 0 | T17: =IF(D17=0,0,1) -> 0 | V17: =IF(C17=3,0,IF(L17=1,0,D17-U17)) -> 0 | W17: =V17*1% -> 0
A18: 5 | E18: =IF(C18=3,0,IF(D18>0,введение!C$11,0)) -> 0 | G18: =IF(C18=3,D18-F18,D18-F18-E18-M18) -> 0 | H18: =ROUND((IF(C18=1,G18*10%,0)),0) -> 0 | I18: =ROUND((IF(C18=1,0,G18*10%)),0) -> 0 | K18: =IF(C18=3,0,IF(L18=1,0,D18-J18)) -> 0 | M18: =K18*10% -> 0 | O18: =IF(C18=3,0,IF(L18=1,0,D18-M18-N18)) -> 0 | P18: =IF(OR(O18<=0,),0,MIN(MAX(введение!$C$11,O18),введение!$C$14)) -> 0 | Q18: =ROUND(P18*5%,0) -> 0 | S18: =ROUND(R18*0.05,0) -> 0 | T18: =IF(D18=0,0,1) -> 0 | V18: =IF(C18=3,0,IF(L18=1,0,D18-U18)) -> 0 | W18: =V18*1% -> 0
A19: 6 | E19: =IF(C19=3,0,IF(D19>0,введение!C$11,0)) -> 0 | G19: =IF(C19=3,D19-F19,D19-F19-E19-M19) -> 0 | H19: =ROUND((IF(C19=1,G19*10%,0)),0) -> 0 | I19: =ROUND((IF(C19=1,0,G19*10%)),0) -> 0 | K19: =IF(C19=3,0,IF(L19=1,0,D19-J19)) -> 0 | M19: =K19*10% -> 0 | O19: =IF(C19=3,0,IF(L19=1,0,D19-M19-N19)) -> 0 | P19: =IF(OR(O19<=0,),0,MIN(MAX(введение!$C$11,O19),введение!$C$14)) -> 0 | Q19: =ROUND(P19*5%,0) -> 0 | S19: =ROUND(R19*0.05,0) -> 0 | T19: =IF(D19=0,0,1) -> 0 | V19: =IF(C19=3,0,IF(L19=1,0,D19-U19)) -> 0 | W19: =V19*1% -> 0
A20: 7 | E20: =IF(C20=3,0,IF(D20>0,введение!C$11,0)) -> 0 | G20: =IF(C20=3,D20-F20,D20-F20-E20-M20) -> 0 | H20: =ROUND((IF(C20=1,G20*10%,0)),0) -> 0 | I20: =ROUND((IF(C20=1,0,G20*10%)),0) -> 0 | K20: =IF(C20=3,0,IF(L20=1,0,D20-J20)) -> 0 | M20: =K20*10% -> 0 | O20: =IF(C20=3,0,IF(L20=1,0,D20-M20-N20)) -> 0 | P20: =IF(OR(O20<=0,),0,MIN(MAX(введение!$C$11,O20),введение!$C$14)) -> 0 | Q20: =ROUND(P20*5%,0) -> 0 | S20: =ROUND(R20*0.05,0) -> 0 | T20: =IF(D20=0,0,1) -> 0 | V20: =IF(C20=3,0,IF(L20=1,0,D20-U20)) -> 0 | W20: =V20*1% -> 0
A21: 8 | E21: =IF(C21=3,0,IF(D21>0,введение!C$11,0)) -> 0 | G21: =IF(C21=3,D21-F21,D21-F21-E21-M21) -> 0 | H21: =ROUND((IF(C21=1,G21*10%,0)),0) -> 0 | I21: =ROUND((IF(C21=1,0,G21*10%)),0) -> 0 | K21: =IF(C21=3,0,IF(L21=1,0,D21-J21)) -> 0 | M21: =K21*10% -> 0 | O21: =IF(C21=3,0,IF(L21=1,0,D21-M21-N21)) -> 0 | P21: =IF(OR(O21<=0,),0,MIN(MAX(введение!$C$11,O21),введение!$C$14)) -> 0 | Q21: =ROUND(P21*5%,0) -> 0 | S21: =ROUND(R21*0.05,0) -> 0 | T21: =IF(D21=0,0,1) -> 0 | V21: =IF(C21=3,0,IF(L21=1,0,D21-U21)) -> 0 | W21: =V21*1% -> 0
A22: 9 | E22: =IF(C22=3,0,IF(D22>0,введение!C$11,0)) -> 0 | G22: =IF(C22=3,D22-F22,D22-F22-E22-M22) -> 0 | H22: =ROUND((IF(C22=1,G22*10%,0)),0) -> 0 | I22: =ROUND((IF(C22=1,0,G22*10%)),0) -> 0 | K22: =IF(C22=3,0,IF(L22=1,0,D22-J22)) -> 0 | M22: =K22*10% -> 0 | O22: =IF(C22=3,0,IF(L22=1,0,D22-M22-N22)) -> 0 | P22: =IF(OR(O22<=0,),0,MIN(MAX(введение!$C$11,O22),введение!$C$14)) -> 0 | Q22: =ROUND(P22*5%,0) -> 0 | S22: =ROUND(R22*0.05,0) -> 0 | T22: =IF(D22=0,0,1) -> 0 | V22: =IF(C22=3,0,IF(L22=1,0,D22-U22)) -> 0 | W22: =V22*1% -> 0
A23: 10 | E23: =IF(C23=3,0,IF(D23>0,введение!C$11,0)) -> 0 | G23: =IF(C23=3,D23-F23,D23-F23-E23-M23) -> 0 | H23: =ROUND((IF(C23=1,G23*10%,0)),0) -> 0 | I23: =ROUND((IF(C23=1,0,G23*10%)),0) -> 0 | K23: =IF(C23=3,0,IF(L23=1,0,D23-J23)) -> 0 | M23: =K23*10% -> 0 | O23: =IF(C23=3,0,IF(L23=1,0,D23-M23-N23)) -> 0 | P23: =IF(OR(O23<=0,),0,MIN(MAX(введение!$C$11,O23),введение!$C$14)) -> 0 | Q23: =ROUND(P23*5%,0) -> 0 | S23: =ROUND(R23*0.05,0) -> 0 | T23: =IF(D23=0,0,1) -> 0 | V23: =IF(C23=3,0,IF(L23=1,0,D23-U23)) -> 0 | W23: =V23*1% -> 0
A24: 11 | E24: =IF(C24=3,0,IF(D24>0,введение!C$11,0)) -> 0 | G24: =IF(C24=3,D24-F24,D24-F24-E24-M24) -> 0 | H24: =ROUND((IF(C24=1,G24*10%,0)),0) -> 0 | I24: =ROUND((IF(C24=1,0,G24*10%)),0) -> 0 | K24: =IF(C24=3,0,IF(L24=1,0,D24-J24)) -> 0 | M24: =K24*10% -> 0 | O24: =IF(C24=3,0,IF(L24=1,0,D24-M24-N24)) -> 0 | P24: =IF(OR(O24<=0,),0,MIN(MAX(введение!$C$11,O24),введение!$C$14)) -> 0 | Q24: =ROUND(P24*5%,0) -> 0 | S24: =ROUND(R24*0.05,0) -> 0 | T24: =IF(D24=0,0,1) -> 0 | V24: =IF(C24=3,0,IF(L24=1,0,D24-U24)) -> 0 | W24: =V24*1% -> 0
A25: 12 | E25: =IF(C25=3,0,IF(D25>0,введение!C$11,0)) -> 0 | G25: =IF(C25=3,D25-F25,D25-F25-E25-M25) -> 0 | H25: =ROUND((IF(C25=1,G25*10%,0)),0) -> 0 | I25: =ROUND((IF(C25=1,0,G25*10%)),0) -> 0 | K25: =IF(C25=3,0,IF(L25=1,0,D25-J25)) -> 0 | M25: =K25*10% -> 0 | O25: =IF(C25=3,0,IF(L25=1,0,D25-M25-N25)) -> 0 | P25: =IF(OR(O25<=0,),0,MIN(MAX(введение!$C$11,O25),введение!$C$14)) -> 0 | Q25: =ROUND(P25*5%,0) -> 0 | S25: =ROUND(R25*0.05,0) -> 0 | T25: =IF(D25=0,0,1) -> 0 | V25: =IF(C25=3,0,IF(L25=1,0,D25-U25)) -> 0 | W25: =V25*1% -> 0
A26: Итого: | D26: =SUM(D14:D25) -> 0 | E26: =SUM(E14:E25) -> 0 | F26: =SUM(F14:F25) -> 0 | G26: =SUM(G14:G25) -> 0 | H26: =SUM(H14:H25) -> 0 | I26: =SUM(I14:I25) -> 0 | J26: =SUM(J14:J25) -> 0 | K26: =SUM(K14:K25) -> 0 | ... W26: =SUM(W14:W25) -> 0 | X26: =IF(D26>0,D26/T26,0) -> 0
A28: (Ф.И.О., подпись руководителя (налогоплательщика), печать)
A31: (Ф.И.О., подпись главного бухгалтера )
A34: (Ф.И.О., подпись лица, ответственного за составление налогового регистра)
A37: (Дата составления налогового регистра)

Sheet № 2.6 Начис. доходы работ. 
D2: Форма 910.00
A4: Наименование налогоплательщика
A6: 1 | B6: РНН
A7: 2 | B7: ИИН (БИН) | D7: ='№ 910 Декларация '!D8 -> 0
A8: 3 | B8: Налоговый период: месяц Год | D8: =IF('№ 910 Декларация '!K12=1,"июнь","декабрь") -> декабрь | E8: ='№ 910 Декларация '!N12 -> 2017
A10: Налоговый регистр: "Начисленные доходы работникам для целей налогообложения"
A13: № п/п | B13: Ф.И.О. работника | C13: Признак резиденства: гражданин РК - 1; иностранный гражданин резидент - 2; иностранный гражданин нерезидент - 3 | D13: начисленный доход | E13: примененный вычет | F13: Доходы, не облагаемые ИПН | G13: Доходы, облагаемые ИПН | H13: Индивидуальный подоходный налог с доходов граждан РК | I13: Индивидуальный подоходный налог с доходов иностранцев и лиц без гражданства | J13: Доходы, не облагаемые ОПВ | K13: Доход для исчисления обязательных пенсионных взносов | L13: Пенсионер (если да, то нужно поставить 1) | M13: Обязательные пенсионные взносы | N13: Доходы не облагаемые СО | O13: Предварительный расчет объекта для исчисления СО | P13: Доход для исчисления социальных очтислений | Q13: Обязательные социальные отчисления | R13: Доход для исчисления обязательных профессиональных пенсионных взносов | S13: Обязательные профессиональные пенсионные взносы | T13: Численность работников | U13: Доходы не принимаемые для исчисления ОСМС | V13: Доходы принимаемые для исчисления ОСМС | W13: Сумма отчислений на обязательное социальное медицинское страхование, к уплате | X13: Среднемесячная заработная плата на одного работника
A14: 1 | E14: =IF(C14=3,0,IF(D14>0,введение!C$11,0)) -> 0 | G14: =IF(C14=3,D14-F14,D14-F14-E14-M14) -> 0 | H14: =ROUND((IF(C14=1,G14*10%,0)),0) -> 0 | I14: =ROUND((IF(C14=1,0,G14*10%)),0) -> 0 | K14: =IF(C14=3,0,IF(L14=1,0,D14-J14)) -> 0 | M14: =K14*10% -> 0 | O14: =IF(C14=3,0,IF(L14=1,0,D14-M14-N14)) -> 0 | P14: =IF(OR(O14<=0,),0,MIN(MAX(введение!$C$11,O14),введение!$C$14)) -> 0 | Q14: =ROUND(P14*5%,0) -> 0 | S14: =ROUND(R14*0.05,0) -> 0 | T14: =IF(D14=0,0,1) -> 0 | V14: =IF(C14=3,0,IF(L14=1,0,D14-U14)) -> 0 | W14: =V14*1% -> 0
A15: 2 | E15: =IF(C15=3,0,IF(D15>0,введение!C$11,0)) -> 0 | G15: =IF(C15=3,D15-F15,D15-F15-E15-M15) -> 0 | H15: =ROUND((IF(C15=1,G15*10%,0)),0) -> 0 | I15: =ROUND((IF(C15=1,0,G15*10%)),0) -> 0 | K15: =IF(C15=3,0,IF(L15=1,0,D15-J15)) -> 0 | M15: =K15*10% -> 0 | O15: =IF(C15=3,0,IF(L15=1,0,D15-M15-N15)) -> 0 | P15: =IF(OR(O15<=0,),0,MIN(MAX(введение!$C$11,O15),введение!$C$14)) -> 0 | Q15: =ROUND(P15*5%,0) -> 0 | S15: =ROUND(R15*0.05,0) -> 0 | T15: =IF(D15=0,0,1) -> 0 | V15: =IF(C15=3,0,IF(L15=1,0,D15-U15)) -> 0 | W15: =V15*1% -> 0
A16: 3 | E16: =IF(C16=3,0,IF(D16>0,введение!C$11,0)) -> 0 | G16: =IF(C16=3,D16-F16,D16-F16-E16-M16) -> 0 | H16: =ROUND((IF(C16=1,G16*10%,0)),0) -> 0 | I16: =ROUND((IF(C16=1,0,G16*10%)),0) -> 0 | K16: =IF(C16=3,0,IF(L16=1,0,D16-J16)) -> 0 | M16: =K16*10% -> 0 | O16: =IF(C16=3,0,IF(L16=1,0,D16-M16-N16)) -> 0 | P16: =IF(OR(O16<=0,),0,MIN(MAX(введение!$C$11,O16),введение!$C$14)) -> 0 | Q16: =ROUND(P16*5%,0) -> 0 | S16: =ROUND(R16*0.05,0) -> 0 | T16: =IF(D16=0,0,1) -> 0 | V16: =IF(C16=3,0,IF(L16=1,0,D16-U16)) -> 0 | W16: =V16*1% -> 0
A17: 4 | E17: =IF(C17=3,0,IF(D17>0,введение!C$11,0)) -> 0 | G17: =IF(C17=3,D17-F17,D17-F17-E17-M17) -> 0 | H17: =ROUND((IF(C17=1,G17*10%,0)),0) -> 0 | I17: =ROUND((IF(C17=1,0,G17*10%)),0) -> 0 | K17: =IF(C17=3,0,IF(L17=1,0,D17-J17)) -> 0 | M17: =K17*10% -> 0 | O17: =IF(C17=3,0,IF(L17=1,0,D17-M17-N17)) -> 0 | P17: =IF(OR(O17<=0,),0,MIN(MAX(введение!$C$11,O17),введение!$C$14)) -> 0 | Q17: =ROUND(P17*5%,0) -> 0 | S17: =ROUND(R17*0.05,0) -> 0 | T17: =IF(D17=0,0,1) -> 0 | V17: =IF(C17=3,0,IF(L17=1,0,D17-U17)) -> 0 | W17: =V17*1% -> 0
A18: 5 | E18: =IF(C18=3,0,IF(D18>0,введение!C$11,0)) -> 0 | G18: =IF(C18=3,D18-F18,D18-F18-E18-M18) -> 0 | H18: =ROUND((IF(C18=1,G18*10%,0)),0) -> 0 | I18: =ROUND((IF(C18=1,0,G18*10%)),0) -> 0 | K18: =IF(C18=3,0,IF(L18=1,0,D18-J18)) -> 0 | M18: =K18*10% -> 0 | O18: =IF(C18=3,0,IF(L18=1,0,D18-M18-N18)) -> 0 | P18: =IF(OR(O18<=0,),0,MIN(MAX(введение!$C$11,O18),введение!$C$14)) -> 0 | Q18: =ROUND(P18*5%,0) -> 0 | S18: =ROUND(R18*0.05,0) -> 0 | T18: =IF(D18=0,0,1) -> 0 | V18: =IF(C18=3,0,IF(L18=1,0,D18-U18)) -> 0 | W18: =V18*1% -> 0
A19: 6 | E19: =IF(C19=3,0,IF(D19>0,введение!C$11,0)) -> 0 | G19: =IF(C19=3,D19-F19,D19-F19-E19-M19) -> 0 | H19: =ROUND((IF(C19=1,G19*10%,0)),0) -> 0 | I19: =ROUND((IF(C19=1,0,G19*10%)),0) -> 0 | K19: =IF(C19=3,0,IF(L19=1,0,D19-J19)) -> 0 | M19: =K19*10% -> 0 | O19: =IF(C19=3,0,IF(L19=1,0,D19-M19-N19)) -> 0 | P19: =IF(OR(O19<=0,),0,MIN(MAX(введение!$C$11,O19),введение!$C$14)) -> 0 | Q19: =ROUND(P19*5%,0) -> 0 | S19: =ROUND(R19*0.05,0) -> 0 | T19: =IF(D19=0,0,1) -> 0 | V19: =IF(C19=3,0,IF(L19=1,0,D19-U19)) -> 0 | W19: =V19*1% -> 0
A20: 7 | E20: =IF(C20=3,0,IF(D20>0,введение!C$11,0)) -> 0 | G20: =IF(C20=3,D20-F20,D20-F20-E20-M20) -> 0 | H20: =ROUND((IF(C20=1,G20*10%,0)),0) -> 0 | I20: =ROUND((IF(C20=1,0,G20*10%)),0) -> 0 | K20: =IF(C20=3,0,IF(L20=1,0,D20-J20)) -> 0 | M20: =K20*10% -> 0 | O20: =IF(C20=3,0,IF(L20=1,0,D20-M20-N20)) -> 0 | P20: =IF(OR(O20<=0,),0,MIN(MAX(введение!$C$11,O20),введение!$C$14)) -> 0 | Q20: =ROUND(P20*5%,0) -> 0 | S20: =ROUND(R20*0.05,0) -> 0 | T20: =IF(D20=0,0,1) -> 0 | V20: =IF(C20=3,0,IF(L20=1,0,D20-U20)) -> 0 | W20: =V20*1% -> 0
