Workbook

Sheet Ввведение!
B2: Уважаемые пользователи ИС §«Бухгалтер»!
B5: Данная форма призвана оказать Вам помощь при заполнении налоговой отчетности для плательщиков КПН, удерживаемого у источника выплаты с дохода нерезидента по форме 101.04 за квартал 2023 года. В форме № 101.04 все данные заполняются автоматически из налогового регистра и приложения 101.04.
B6: В налоговом регистре и приложении 101.04 нужно заполнять только те ячейки, которые выделены желтым цветом.
B7: В ячейках, которые выделены зеленым цветом необходимо выбрать значение из прелагаемого (всплывающего) списка.
B8: А всё остальное заполняется и считается автоматически.
B10: Данные о налогоплательщике вводятся на странице "регистр"

Sheet 101.04
A1: форма 101.04 стр 01
A2: РАСЧЕТ
A3: ПО КОРПОРАТИВНОМУ ПОДОХОДНОМУ НАЛОГУ,
A4: УДЕРЖИВАЕМОМУ У ИСТОЧНИКА ВЫПЛАТЫ
A5: С ДОХОДА НЕРЕЗИДЕНТА
B6: Раздел. Общая информация о налоговом агенте
B8: 1 | C8: ИИН (БИН) | D8: =регистр!C1 -> 111111111111
B10: 2 | C10: Налоговый период, за который представляется налоговая отчетность: | L10: квартал | O10: =регистр!I1 -> 1 | P10: год | R10: =регистр!K1 -> 2023
B12: 3 | C12: Наименование налогового агента | F12: =регистр!E1 -> Товарищество с ограниченной ответственностью
B14: 4 | C14: Вид расчета | E14: (укажите | F14: х | H14: в соответствующей ячейке)
C15: первоначальный | E15: очередной | G15: Х | I15: дополнительный | K15: дополнительный по уведомлению
B17: 6 | C17: Номер и дата уведомления (заполняется в случае представления дополнительного расчета по уведомлению) | H17: А | I17: номер
H19: В | I19: дата выписки
J20: цифрами день, месяц, год
B23: Раздел. Расчетные показатели
B25: Код строки | E25: Наименование
B27: 101.04.001 | E27: Сумма начисленных и выплаченных доходов:
L28: млрд. | O28: млн. | Q28: тыс.
C29: I | E29: 1 месяц | L29: =регистр!H5 -> 7619781
C31: II | E31: 2 месяц | L31: =регистр!H18 -> 5765010
C33: III | E33: 3 месяц | L33: =регистр!H27 -> 10027471
C35: IV | E35: Итого за квартал | L35: =SUM(L29:R33) -> 23412262
B37: 101.04.002 | E37: Сумма подоходного налога с начисленного и выплаченного дохода:
L38: млрд. | O38: млн. | Q38: тыс.
C39: I | E39: 1 месяц | L39: =регистр!K5 -> 10487
C41: II | E41: 2 месяц | L41: =регистр!K18 -> 127634
C43: III | E43: 3 месяц | L43: =регистр!K27 -> 723571
C45: IV | E45: Итого за квартал | L45: =SUM(L39:R43) -> 861692
B47: 101.04.003 | E47: Сумма начисленных, но невыплаченных доходов нерезидентов, отнесенных налоговым агентом на вычеты:
B49: 101.04.004 | E49: Сумма подоходного налога с начисленных, но невыплаченных доходов нерезидентов, отнесенных налоговым агентом на вычеты:
B51: 101.04.005 | E51: Сумма доходов, начисленных в соответствии с подпунктом 5) пункта 1 статьи 644 Налогового кодекса:
L52: млрд. | O52: млн. | Q52: тыс.
C53: I | E53: 1 месяц
C55: II | E55: 2 месяц
C57: III | E57: 3 месяц
C59: IV | E59: Итого за квартал | L59: =SUM(L53:R57) -> 0
B61: 101.04.006 | E61: Сумма подоходного налога с доходов, начисленных в соответствии с подпунктом 5) пункта 1 статьи 644 Налогового кодекса:
L62: млрд. | O62: млн. | Q62: тыс.
C63: I | E63: 1 месяц
C65: II | E65: 2 месяц
...

Sheet Приложение 101.04
A1: ПРИЛОЖЕНИЕ
A2: К РАСЧЕТУ 101.04
A3: РАСЧЕТ ПО КОРПОРАТИВНОМУ ПОДОХОДНОМУ НАЛОГУ,
A4: УДЕРЖИВАЕМОМУ У ИСТОЧНИКА ВЫПЛАТЫ С ДОХОДА НЕРЕЗДЕНТА
A6: 1 | B6: ИИН (БИН) | F6: 2 | G6: Налоговый период, за который представляется налоговая отчетность | K6: квартал | M6: год
A8: № | B8: Месяц квартала | C8: Наименование иностранного юридического лица - получателя доходов | D8: Код страны резидентства | E8: Номер налоговой регистрации иностранного юридичекого лица в стране резидентства | F8: Код вида дохода | G8: Номер и дата контракта (договора) | H8: Сумма начисленных и выплаченных доходов | I8: Ставка налога | J8: Сумма налога с начисленных и выплаченных доходов | K8: Сумма начисленных, но невыплаченных доходов, отнесенных на вычеты | L8: Ставка налога | M8: Сумма налога с начисленных, но невыплаченных доходов нерезидентов, отнесенных на вычеты | N8: Сумма доходов, начисленных в соответствии с подпунктом 5) пункта 1 статьи 644 Налогового кодекса | O8: Ставка налога | P8: Сумма налога с доходов, начисленных в соответствии с подпунктом 5) пункта 1 статьи 644 Налогового кодекса | Q8: Сумма начисленных (выплаченных) доходов, освобожденных от удержаня налогов в соответствии с международным договором | R8: Код вида международного договора | S8: Наименование международного договора | T8: Код страны, с которой заключен договор | U8: Сумма доходов из источников РК, не подлежащие налогообложению в соответствии с подпунктами 3) и 4) пункта 2 статьи 644 НК | V8: Сумма доходов из источников РК, не подлежащие налогообложению в соответствии с пунктом 9 статьи 645 НК
A9: A | B9: B | C9: C | D9: D | E9: E | F9: F | G9: G | H9: H | I9: I | J9: J | K9: K | L9: L | M9: M | N9: N | O9: O | P9: P | Q9: Q | R9: R | S9: S | T9: T | U9: U | V9: V
A10: 1 | C10: ИТОГО (строка заполняется ТОЛЬКО по итогу формы) | H10: =SUM(H11:H21) -> 23412262 | J10: =SUM(J11:J21) -> 861692
A11: 2 | B11: =регистр!B6 -> 1 | C11: =регистр!C6 -> Компания «Allen&Overy» | D11: =регистр!E6 -> GB | E11: 123456789 | F11: =регистр!G6 -> 1030 | G11: 35/167 от 22.12.2022 | H11: =регистр!I9 -> 5419651 | I11: =регистр!K6 -> 0 | J11: =регистр!L6 -> 0 | Q11: =регистр!I9 -> 5419651 | R11: 01 | S11: Ковенция во избежание … | T11: =D11 -> GB
A12: 3 | B12: =регистр!B10 -> 1 | C12: =регистр!C10 -> Компания «AQS» | D12: =регистр!E10 -> DE | E12: 987654321 | F12: =регистр!G10 -> 1030 | G12: 093-215 от 17.01.2023 | H12: =регистр!J13 -> 2147695 | I12: =регистр!K10 -> 0 | J12: =регистр!L10 -> 0 | Q12: =регистр!J13 -> 2147695 | R12: 01 | S12: Ковенция во избежание … | T12: =D12 -> DE
A13: 4 | B13: =регистр!B14 -> 1 | C13: =регистр!C14 -> Компания «TAI» | D13: =регистр!E14 -> TH | E13: 159753456 | F13: =регистр!G14 -> 1090 | G13: 247-614 от 10.01.2023 | H13: =регистр!J17 -> 52435 | I13: =регистр!K14 -> 20 | J13: =регистр!L14 -> 10487
A14: 5 | B14: =регистр!B19 -> 2 | C14: =регистр!C19 -> Компания «CTI» | D14: =регистр!E19 -> NL | E14: 357951654 | F14: =регистр!G19 -> 1170 | G14: 097 от 12.01.2023 | H14: =регистр!I22 -> 2552680 | I14: =регистр!K19 -> 5 | J14: =регистр!L19 -> 127634
A15: 6 | B15: =регистр!B23 -> 2 | C15: =регистр!C23 -> Компания «ALS USA Lease» | D15: =регистр!E23 -> US | E15: 578964136 | F15: =регистр!G23 -> 1140 | G15: 246-119 от 18.01.2023 | H15: =регистр!J26 -> 3212330 | I15: =регистр!K23 -> 0 | J15: =регистр!L23 -> 0 | Q15: =регистр!J26 -> 3212330 | R15: 01 | S15: Ковенция во избежание … | T15: =D15 -> US
A16: 7 | B16: =регистр!B30 -> 3 | C16: =регистр!C30 -> Компания «PMS» | E16: 112233445 | F16: =регистр!G30 -> 1040 | G16: 118 от 27.02.2023 | H16: =регистр!I33 -> 1310353 | I16: =регистр!K30 -> 20 | J16: =регистр!L30 -> 262071
A17: 8 | B17: =регистр!B34 -> 3 | C17: =регистр!C34 -> Компания «Avtrade» | D17: =регистр!E34 -> RU | E17: 156142510 | F17: =регистр!G34 -> 1030 | G17: 514 от 03.03.2023 | H17: =регистр!I37 -> 91762 | I17: =регистр!K34 -> 0 | J17: =регистр!L34 -> 0 | Q17: =регистр!I37 -> 91762 | R17: 01 | S17: Ковенция во избежание … | T17: =D17 -> RU
A18: 9 | B18: =регистр!B38 -> 3 | C18: =регистр!C38 -> Компания «DFR» | D18: =регистр!E38 -> CA | E18: 1793486 | F18: =регистр!G38 -> 1030 | G18: 719 от 01.03.2023 | H18: =регистр!J41 -> 4825356 | I18: =регистр!K38 -> 0 | J18: =регистр!L38 -> 0 | Q18: =регистр!J41 -> 4825356 | R18: 01 | S18: Ковенция во избежание … | T18: =D18 -> CA
A19: 10 | B19: =регистр!B42 -> 3 | C19: =регистр!C42 -> ООО «Стандарт» | D19: =регистр!E42 -> RU | E19: 123123 | F19: =регистр!G42 -> 1100 | G19: Учред. договор от 30.03.2023 г | H19: =регистр!J42 -> 2170000 | I19: =регистр!K42 -> 10 | J19: =регистр!L42 -> 217000
A20: 11 | B20: =регистр!B42 -> 3 | C20: =регистр!C42 -> ООО «Стандарт» | D20: =регистр!E42 -> RU | E20: 123123 | F20: =регистр!G42 -> 1100 | G20: Учред. договор от 30.03.2023 г | H20: =регистр!J43 -> 490000 | I20: =регистр!K43 -> 15 | J20: =регистр!L43 -> 73500
A21: 12 | B21: =регистр!B45 -> 3 | C21: =регистр!C45 -> ООО «Эталон» | D21: =регистр!E45 -> RU | E21: 484937 | F21: =регистр!G45 -> 1100 | G21: Учред. договор от 30.03.2023 г | H21: =регистр!J45 -> 1140000 | I21: =регистр!K45 -> 15 | J21: =регистр!L45 -> 171000

Sheet регистр
B1: БИН | C1: 111111111111 | D1: Наименование налогового агента | E1: Товарищество с ограниченной ответственностью | H1: квартал | I1: 1 | J1: год | K1: 2023
A2: № п/п | B2: месяц квартала | C2: Наименование нерезидента | D2: Страна резидентства, наличие надлежаще оформленного сертификата резидентства | E2: код страны резидентства | F2: Вид работ, услуг | G2: код вида дохода | H2: Сумма и дата выплаты предоплаты, при ее наличии | I2: Сумма дохода, начисленная в отчетном квартале | J2: Сумма дохода, фактически выплаченного нерезиденту в отчетном квартале | K2: КПН, удерживаемый у источника выплаты
K3: % | L3: сумма
B4: B | C4: C | E4: D
C5: Январь | H5: =I9+J13+J17 -> 7619781 | K5: =SUM(L6:L17) -> 10487
A6: 1 | B6: 1 | C6: Компания «Allen&Overy» | D6: Великобритания (есть сертификат резидентства) | E6: GB | F6: Юридические услуги, оказанные в Великобритании | G6: 1030 | H6: 9495 | I6: 9495
H7: 44921 | I7: 44949
I8: 570.79
I9: =I6*I8 -> 5419651
A10: 2 | B10: 1 | C10: Компания «AQS» | D10: Германия (есть сертификат резидентства и нотариально засвидетельствованные копии учредительных документов) | E10: DE | F10: Аудиторские услуги, оказанные на территории Республики Казахстан | G10: 1030 | I10: 4273 | J10: 4273
I11: 44953 | J11: 44953
J12: 502.62
J13: =J10*J12 -> 2147695
A14: 3 | B14: 1 | C14: Компания «TAI» | D14: Таиланд | E14: TH | F14: Штраф | G14: 1090 | I14: 3740 | J14: 3740 | K14: 20 | L14: =J17*K14% -> 10487
I15: 44944 | J15: 44944
J16: 14.02
J17: =J14*J16 -> 52435
C18: Февраль | H18: =I22+J26 -> 5765010 | K18: =SUM(L19:L26) -> 127634
A19: 4 | B19: 2 | C19: Компания «CTI» | D19: Нидерланды (есть сертификат резидентства) | E19: NL | F19: Грузоперевозки по маршруту Амстердам- Алматы воздушным транспортом | G19: 1170 | H19: 5340 | I19: 5340 | K19: 5 | L19: =I22*K19% -> 127634
H20: 44942 | I20: 44978
I21: 478.03
I22: =I19*I21 -> 2552680
A23: 5 | B23: 2 | C23: Компания «ALS USA Lease» | D23: США (есть сертификат резидентства по форме 6166, но без апостиля и нотариально засвидетельствованные копии учредительных документов) | E23: US | F23: Аренда имущества, находящегося в Республике Казахстан | G23: 1140 | I23: 7120 | J23: 7120
I24: 44953 | J24: 44972
J25: 451.17
J26: =J23*J25 -> 3212330
C27: Март | H27: =I33+I37+J41+J42+J43+J45 -> 10027471 | K27: =SUM(L28:L45) -> 723571
A28: 6 | B28: 3 | C28: Компания «AtlassianPty» | D28: Австралия | E28: AU | F28: Право использования программного обеспечения (лицензия) | H28: 3120
H29: 44988
A30: 7 | B30: 3 | C30: Компания «PMS» | D30: Республика Черногория (нет сертификата резидентства, страна с льготным налогообложением) | F30: Предоставление транспортных средств в аренду на территории Черногории | G30: 1040 | H30: 2800 | I30: 2690 | K30: 20 | L30: =K30*I33% -> 262071
H31: 44987 | I31: 44999
I32: 487.12
I33: =I30*I32 -> 1310353
A34: 8 | B34: 3 | C34: Компания «Avtrade» | D34: Россия (есть сертификат резидентства без апостиля) | E34: RU | F34: Консультационные услуги, оказанные в России | G34: 1030 | H34: 14945 | I34: 14945
H35: 44999 | I35: 45001
I36: 6.14
I37: =I34*I36 -> 91762
A38: 9 | B38: 3 | C38: Компания «DFR» | D38: Канада (есть сертификат резидентства и нотариально засвидетельствованные копии учредительных документов) | E38: CA | F38: Аудиторские услуги, оказанные в Республике Казахстан | G38: 1030 | I38: 15100 | J38: 15100
I39: 44995 | J39: 44995
J40: 319.56
...

Sheet параметры для выбора
A2: Ставки КПН, % | D2: Код вида дохода | E2: Расшифровка | G2: Код вида международного договора | H2: Расшифровка
A3: 5 | D3: 1010 | E3: доход от реализации товаров на территории Республики Казахстан, а также доход от реализации товаров, находящихся в Республике Казахстан, за ее пределы в рамках осуществления внешнеторговой деятельности; | G3: 01 | H3: Конвенция об избежании двойного налогообложения и предотвращении уклонения от уплаты налогов на доход и капитал;
A4: 10 | D4: 1020 | E4: доход от выполнения работ, оказания услуг на территории Республики Казахстан; | G4: 02 | H4: Учредительный договор Исламского Банка Развития;
A5: 15 | D5: 1021 | E5: доходы от оказания услуг по открытию и ведению корреспондентских счетов банков-резидентов и проведению расчетов по ним, а также расчетов посредством международных платежных карточек; | G5: 03 | H5: Соглашение об условиях работы регионального экологического центра Центральной Азии;
A6: 20 | D6: 1030 | E6: доход от оказания управленческих, финансовых, консультационных, инжиниринговых, маркетинговых, аудиторских, юридических (за исключением услуг по представительству и защите прав и законных интересов в судах, арбитраже или третейском суде, а также нотариальных услуг) услуг за пределами Республики Казахстан; | G6: 04 | H6: Учредительный договор Азиатского банка развития;
D7: 1031 | E7: доходы от выполнения работ, оказания услуг за пределами Республики Казахстан, за исключением доходов, указанных в подпунктах 3), 4) и 5) пункта 1 статьи 644 Налогового кодекса; | G7: 05 | H7: Соглашение по использованию гранта на проект строительства нового правительственного здания;
D8: 1040 | E8: доходы лица, зарегистрированного в государстве с льготным налогообложением, включенным в перечень, утвержденный Приказом № 142, от выполнения работ, оказания услуг независимо от места их фактического выполнения, оказания, а также иные доходы, установленные статьей 644 Налогового кодекса; | G8: 06 | H8: Соглашение о финансовом сотрудничестве;
D9: 1050 | E9: доходы лица, зарегистрированного в иностранном государстве, в виде обязательств по полученному авансу (предоплате) при выполнении одного из следующих условий: | G9: 07 | H9: Меморандум о взаимопонимании;
A10: Код страны резидентства | B10: Краткое название страны | E10: не удовлетворенных нерезидентом по истечении двухлетнего периода со дня выплаты аванса (предоплаты); | G10: 08 | H10: Соглашение относительно уничтожения шахтных пусковых установок межконтинентальных баллистических ракет, ликвидации последствий аварийных ситуаций и предотвращения распространения ядерного оружия;
A11: AD | B11: АНДОРРА | E11: не удовлетворенных нерезидентом на дату представления ликвидационной налоговой отчетности при ликвидации лица, выплатившего аванс (предоплату), до истечения двухлетнего периода со дня выплаты аванса (предоплаты), если иное не предусмотрено настоящим подпунктом; | G11: 09 | H11: Соглашение Международного банка реконструкции и развития;
A12: AE | B12: ОБЪЕДИНЕННЫЕ АРАБСКИЕ ЭМИРАТЫ | D12: 1060 | E12: доход от прироста стоимости при реализации: | G12: 10 | H12: Соглашение Международного валютного фонда;
A13: AF | B13: АФГАНИСТАН | E13: находящегося на территории Республики Казахстан имущества, права на которое или сделки по которому подлежат государственной регистрации в соответствии с Законом Республики Казахстан «О государственной регистрации прав на недвижимое имущество» (далее – Закон о государственной регистрации); | G13: 11 | H13: Соглашение Международной финансовой корпорации;
A14: AG | B14: АНТИГУА И БАРБУДА | E14: находящегося на территории Республики Казахстан имущества, подлежащего государственной регистрации в соответствии с Законом о государственной регистрации; | G14: 12 | H14: Конвенция об урегулировании инвестиционных споров;
A15: AI | B15: АНГИЛЬЯ | E15: ценных бумаг, выпущенных резидентом, а также долей участия в уставном капитале юридического лица-резидента, консорциума, расположенного в Республике Казахстан; | G15: 13 | H15: Соглашение об учреждении Европейского банка реконструкции и развития;
A16: AL | B16: АЛБАНИЯ | E16: акций, выпущенных нерезидентом, а также долей участия в уставном капитале юридического лица-нерезидента, консорциума, если 50 и более процентов стоимости таких акций, долей участия или активов юридического лица-нерезидента составляет имущество, находящееся в Республике Казахстан; | G16: 14 | H16: Венская конвенция о дипломатических сношениях;
A17: AM | B17: АРМЕНИЯ | D17: 1061 | E17: доходы от прироста стоимости при реализации методом открытых торгов на фондовой бирже, функционирующей на территории Республики Казахстан, или иностранной фондовой бирже ценных бумаг, находящихся на день реализации в официальных списках данной фондовой биржи; | G17: 15 | H17: Договор по созданию Университета Центральной Азии;
A18: AO | B18: АНГОЛА | D18: 1062 | E18: доходы от прироста стоимости при реализации акций, выпущенных юридическим лицом, или долей участия в юридическом лице или консорциуме, указанные в подпункте 6) пункта 1 статьи 644 Налогового кодекса, за исключением доходов лиц, зарегистрированных в государстве с льготным налогообложением, включенным в перечень, утвержденный Приказом № 142, подпадающий под условия подпункта 8) пункта 9 статьи 645 Налогового кодекса; | G18: 16 | H18: Конвенция об учреждении Многостороннего агентства по гарантиям инвестиций;
A19: AQ | B19: АНТАРКТИДА | D19: 1070 | E19: доход от уступки прав требования долга резиденту или юридическому лицу-нерезиденту, осуществляющему деятельность в Республике Казахстан через постоянное учреждение, для нерезидента, уступившего право требования; | G19: 17 | H19: Соглашение о Египетском университете исламской культуры «Нур-Мубарак»;
A20: AR | B20: АРГЕНТИНА | D20: 1080 | E20: доход от уступки прав требования при приобретении прав требования долга у резидента или юридического лица-нерезидента, осуществляющего деятельность в Республике Казахстан через постоянное учреждение - для нерезидента, приобретающего право требования; | G20: 18 | H20: Соглашение о воздушном сообщении;
A21: AS | B21: АМЕРИКАНСКОЕ САМОА | D21: 1090 | E21: доход в виде неустойки (штрафов, пени) и других видов санкций, кроме возвращенных из бюджета необоснованно удержанных ранее штрафов; | G21: 19 | H21: Соглашение о предоставлении Международным Банком Реконструкции и Развития гранта Республике Казахстан на подготовку проекта «Поддержка агросервисных служб»;
A22: AT | B22: АВСТРИЯ | D22: 1091 | E22: выплаты, связанные с корректировкой стоимости по качеству реализации сырой нефти, транспортируемой по единой трубопроводной системе за пределы Республики Казахстан; | G22: 20 | H22: Соглашение в форме обмена нотами о привлечении гранта Правительства Японии для осуществления проекта «Водоснабжение сельских населенных пунктов в Республике Казахстан»;
A23: AU | B23: АВСТРАЛИЯ | D23: 1100 | E23: доход в виде дивидендов, получаемый от юридического лица-резидента, а также от паевых инвестиционных фондов, созданных в соответствии с Законом Республики Казахстан «Об инвестиционных и венчурных фондах»; | G23: 21 | H23: Конвенция о привилегиях и иммунитетах Евразийского экономического сообщества;
A24: AW | B24: АРУБА | D24: 1101 | E24: дивиденды, за исключением выплачиваемых лицам, зарегистрированным в государстве с льготным налогообложением, включенным в перечень, утвержденный Приказом № 142, подпадающий под условия подпункта 4) пункта 9 статьи 645 Налогового кодекса; | G24: 22 | H24: Соглашение Азиатского банка инфраструктурных инвестиций;
A25: AX | B25: ЭЛАНДСКИЕ ОСТРОВА | D25: 1102 | E25: дивиденды, выплачиваемые юридическими лицами-недропользователями, за исключением выплачиваемых лицам, зарегистрированным в государстве с льготным налогообложением, включенным в перечень, утвержденный Приказом № 142, подпадающий под условия подпункта 5) пункта 9 статьи 645 Налогового кодекса; | G25: 23 | H25: Иные международные договоры (соглашения, конвенции).
A26: AZ | B26: АЗЕРБАЙДЖАН | D26: 1110 | E26: доход в виде вознаграждений, за исключением вознаграждений по долговым ценным бумагам;
A27: BA | B27: БОСНИЯ И ГЕРЦЕГОВИНА | D27: 1111 | E27: дивиденды и вознаграждения по ценным бумагам, находящимся на дату начисления таких дивидендов и вознаграждений в официальном списке фондовой биржи, функционирующей на территории Республики Казахстан;
A28: BB | B28: БАРБАДОС | D28: 1112 | E28: вознаграждения по государственным эмиссионным ценным бумагам, агентским облигациям и доходы от прироста стоимости при реализации государственных эмиссионных ценных бумаг и агентских облигаций;
A29: BD | B29: БАНГЛАДЕШ | D29: 1113 | E29: суммы накопленных (начисленных) вознаграждений по долговым ценным бумагам, оплаченные при их покупке покупателями-резидентами;
A30: BE | B30: БЕЛЬГИЯ | D30: 1120 | E30: доход в виде вознаграждений по долговым ценным бумагам, получаемый от эмитента;
A31: BF | B31: БУРКИНА-ФАСО | D31: 1130 | E31: доход в виде роялти;
A32: BG | B32: БОЛГАРИЯ | D32: 1140 | E32: доход от сдачи в имущественный наем (аренду) имущества, которое находится или будет находиться в Республике Казахстан, кроме финансового лизинга;
A33: BH | B33: БАХРЕЙН | D33: 1141 | E33: доходы от передачи основных средств в финансовый лизинг по договорам международного финансового лизинга;
A34: BI | B34: БУРУНДИ | D34: 1150 | E34: доход, получаемый от недвижимого имущества, находящегося в Республике Казахстан;
A35: BJ | B35: БЕНИН | D35: 1160 | E35: доход в виде страховых премий, выплачиваемый по договорам страхования или перестрахования рисков, возникающих в Республике Казахстан;
A36: BL | B36: СЕН-БАРТЕЛЕМИ | D36: 1170 | E36: доход от оказания услуг по международной перевозке;
A37: BM | B37: БЕРМУДЫ | D37: 1180 | E37: доход в виде платежа за простой судна при погрузочно-разгрузочных операциях сверх сталийного времени, предусмотренного в договоре (контракте) морской перевозки;
... A53: CH | B53: ШВЕЙЦАРИЯ | D53: 1340 | E53: другие доходы, возникающие от деятельности на территории Республики Казахстан.
A54: CI | B54: КОТ Д'ИВУАР
A55: CK | B55: ОСТРОВА КУКА
A56: CL | B56: ЧИЛИ
...
