Workbook
Name _SUB100: введ!$A$3
Name sub1002163307: введ!$A$4

Sheet введ
B3: Уважаемые, пользователи §«Бухгалтер»!
B5: Вашему вниманию предлагается декларация по КПН формы 150.00 за 2020-2022 г. в excel -варианте
B6: Данная форма призвана оказать Вам помощь не только при финальном заполнении декларации по КПН по итогам отчетного года, но и при предварительном подведении итогов за год, в том числе и для сравнения суммы заявленных авансовых платежей и фактически исчисленного налога (для плательщиков авансовых платежей) дабы избежать штрафных санкций и своевременно откорректировать сумму авансовых платежей текущего года.
B7: Декларация состоит из основной, дополнительных форм и регистров, заполнение следует начинать с регистров, итоговые значения которых автоматически будут садиться в дополнительные и основные формы. При этом следует иметь в виду, что в дополнительных формах разносятся итоговые суммы доходов и вычетов, основная нагрузка при формировании итоговых сумм доходов и вычетов в разрезе контрагентов ложится на налоговые регистры, которые каждая Компания обязана утвердить в составе своей Учетной налоговой политики и соответственно ежегодно заполнять.

Sheet 150.00
M2: Форма 150.00
A4: ДЕКЛАРАЦИЯ ПО КОРПОРАТИВНОМУ ПОДОХОДНОМУ НАЛОГУ
B6: Раздел. Общая информация о налогоплательщике
A8: 1 | B8: БИН | C8: 222222222222
A10: 2 | B10: Налоговый период, за который предоставляется налоговая отчетность: год | K10: 2021
A12: 3 | B12: Наименование налогоплательщика
A14: 4 | B14: Вид декларации: | D14: первоначальная | H14: очередная | J14: дополнительная
B16: дополнительная по уведомлению | H16: ликвидационная
A18: 5 | B18: Номер и дата уведомления: | E18: А номер | K18: В дата
A21: 6 | B21: Код валюты
A23: 7 | B23: Представленные приложения: | E23: 1 | F23: 2 | G23: 3 | H23: 4 | I23: 5 | J23: 6 | K23: 7 | L23: 8 | M23: 9 | N23: 10 | O23: 11 12 13
A25: 8 | B25: Признак резидентства: | D25: А резидент РК | H25: В нерезидент РК
A27: 9 | B27: Код страны резидентства и номер налоговой регистрации (если отмечена ячейка9):
B29: А код страны резидентства
B31: В номер налоговой регистрации:
A33: 10 | B33: Наличие у резидента постоянного учреждения за пределами РК( укажите | J33: Х | K33: ):
A34: 11 | B34: Участник МФЦА в соответствии с Конституционным законом (укажите | J34: Х | K34: ):
A36: Раздел. Совокупный годовой доход
A37: Код строки | C37: Наименование | O37: Сумма
A38: 150.00.001 | C38: Доход от реализации | O38: ='150.01'!O20+'150.02'!L16 -> 0
A39: 150.00.002 | C39: Доход от прироста стоимости | O39: ='150.01'!O21+'150.02'!L17+'150.02'!L17 -> 0
A40: 150.00.003 | C40: Доход по производным финансовым инструментам | O40: ='150.02'!L18 -> 0
A41: 150.00.004 | C41: Доход от списания обязательств | O41: ='150.01'!O22+'150.02'!L19 -> 0
A42: 150.00.005 | C42: Доход по сомнительным обязательствам | O42: ='150.01'!O23+'150.02'!L20 -> 0
A43: 150.00.006 | C43: Доход от уступки права требования | O43: ='150.01'!O24+'150.02'!L21 -> 0
A44: 150.00.007 | C44: Доход от выбытия фиксированных активов | O44: ='150.01'!O25+'150.02'!L22 -> 0
A45: 150.00.008 | C45: Доход от корректировки расходов на геологическое изучение и подготовительные работы к добыче природных ресурсов, а также других расходов недропользователя | O45: ='150.01'!O26 -> 0
A46: 150.00.009 | C46: Доход от превышения суммы отчислений в фонд ликвидации последствий разработки месторождений над суммой фактических расходов по ликвидации последствий разработки месторождений | O46: ='150.01'!O27 -> 0
A47: 150.00.010 | C47: Размер нецелевого использования средств ликвидационного фонда недропользователем (итоговое значение графы J формы 150.03) | O47: ='150.01'!O28 -> 0
A48: 150.00.011 | C48: Присужденные или признанные должником штрафы, пени и другие виды санкций, кроме возвращенных из бюджета необоснованно удержанных штрафов, если эти суммы ранее не были отнесены на вычеты | O48: ='150.01'!O29+'150.02'!L23 -> 0
A49: 150.00.012 | C49: Дивиденды, Вознаграждение по депозиту, долговой ценной бумаге векселю, исламскому арендному сертификату, Выигрыши | O49: ='150.01'!O30+'150.02'!L24 -> 0
A50: 150.00.013 | C50: Превышение суммы положительной курсовой разницы над суммой отрицательной курсовой разницы | O50: ='150.01'!O31+'150.02'!L25 -> 0
A51: 150.00.014 | C51: Доход по инвестиционному депозиту, размещенному в исламском банке | O51: ='150.01'!O32+'150.02'!L26 -> 0
A52: 150.00.015 | C52: Другие доходы | O52: ='150.01'!O33+'150.02'!L27 -> 0
A53: 150.00.016 | C53: СОВОКУПНЫЙ ГОДОВОЙ ДОХОД (сумма строк с 150.00.001 по 150.00.015) | O53: =SUM(O38:O52) -> 0
A54: 150.00.017 | C54: Корректировка совокупного годового дохода в соответствии с п.1 статьи 241 Налогового кодекса | O54: ='150.01'!O35+'150.02'!L29 -> 0
A55: 150.00.018 | C55: Положительная (отрицательная) разница, полученная при переходе на иной метод оценки товарно-материальных запасов | O55: ='150.01'!O36+'150.02'!L30 -> 0
A56: 150.00.019 | C56: Совокупный годовой доход с учетом корретировок (150.00.015-150.00.017+или- 150.00.018) | O56: =O53-O54+O55 -> 0
B58: Раздел. Вычеты
A60: 150.00.020 | C60: Расходы по реализованным товарам (работам, услугам) (150.00.020 I - 150.00.020 II + 150.00.020 III + 150.00.020 IV + 150.00.020 V - 150.00.020 VI - 150.00.020 VII - 150.00.020 VIII - 150.00.020 IX) | O60: =O61-O62+O63+O72+O73-O74-O75-O76-O77 -> 0
...

Sheet 150.01
M2: Форма 150.01
A4: Об объектах налогообложения и (или) объектах, связанных с налогообложением, по исчислению корпоративного подоходного налога по каждому контракту на недропользование, месторождению (группе месторождений, части месторождения) (Приложение 1 к Декларации)
B6: Раздел. Общая информация о налогоплательщике
A8: 1 | B8: БИН | C8: ='150.00'!C8:F8 -> 222222222222
A10: 2 | B10: Налоговый период, за который предоставляется налоговая отчетность: год | K10: ='150.00'!K10 -> 2021
A12: 3 | B12: Номер и дата контракта | E12: А | F12: Номер | L12: В | M12: Дата
A14: 4 | B14: Наименование месторождения
A18: Раздел. Совокупный годовой доход
A19: Код строки | C19: Наименование | O19: Сумма
A20: 150.01.001 | C20: Доход от реализации | O20: ='№ 1доход реал'!H12 -> 0
A21: 150.01.002 | C21: Доход от прироста стоимости | O21: ='№ 2 доход от прир стоимости '!K54 -> 0
A22: 150.01.003 | C22: Доход от списания обязательств | O22: ='№ 4 списание обязательств'!K12 -> 0
A23: 150.01.004 | C23: Доход по сомнительным обязательствам | O23: ='№ 5 доход по сомнит обяз'!I12 -> 0
A24: 150.01.005 | C24: Доход от уступки права требования | O24: ='№ 6 доход от уступки'!J12 -> 0
A25: 150.01.006 | C25: Доход от выбытия фиксированных активов | O25: ='№ 7 доход от выб ФА'!J40+'№ 7 доход от выб ФА'!J43 -> 0
A26: 150.01.007 | C26: Доход от корректировки расходов на геологическое изучение и подготовительные работы к добыче природных ресурсов, а также других расходов недропользователя | O26: ='№ 8 доход от корректировки'!H27 -> 0
A27: 150.01.008 | C27: Доход от превышения суммы отчислений в фонд ликвидации последствий разработки месторождений над суммой фактических расходов по ликвидации последствий разработки месторождений | O27: ='№ 9 превышение отчислений'!H27 -> 0
A28: 150.01.009 | C28: Размер нецелевого использования средств ликвидационного фонда недропользователем | O28: ='№ 10 нецелевое использование'!H12 -> 0
A29: 150.01.010 | C29: Присужденные или признанные должником штрафы, пени и другие виды санкций, кроме возвращенных из бюджета необоснованно удержанных штрафов, если эти суммы ранее не были отнесены на вычеты | O29: ='№ 11 штрафы пени'!J26 -> 0
A30: 150.01.011 | C30: Дивиденды, Вознаграждение по депозиту, долговой ценной бумаге векселю, исламскому арендному сертификату, Выигрыши | O30: ='№ 12 дивид вознагр'!J12 -> 0
A31: 150.01.012 | C31: Превышение суммы положительной курсовой разницы над суммой отрицательной курсовой разницы | O31: ='№ 13 курсовые разницы'!J13 -> 0
A32: 150.01.013 | C32: Доход по инвестиционному депозиту, размещенному в исламском банке | O32: ='№ 14 депозит в ислам банке'!J12 -> 0
A33: 150.01.014 | C33: Другие доходы | O33: ='№ 15 другие доходы'!I19 -> 0
A34: 150.01.015 | C34: СОВОКУПНЫЙ ГОДОВОЙ ДОХОД (сумма строк с 150.01.001 по 150.01.015) | O34: =SUM(O20:O33) -> 0
A35: 150.01.016 | C35: Корректировка совокупного годового дохода в соответствии с п.1 статьи 241 Налогового кодекса | O35: ='№ 17 коррект СГД'!I14 -> 0
A36: 150.01.017 | C36: Положительная (отрицательная) разница, полученная при переходе на иной метод оценки товарно-материальных запасов | O36: ='№ 18 корректир СГД'!J13 -> 0
A37: 150.01.018 | C37: Совокупный годовой доход с учетом корретировок (150.01.015 - 150.01.016 + или - 150.01.017) | O37: =O34-O35+O36 -> 0
B39: Раздел. Вычеты
A41: 150.01.019 | C41: Расходы по реализованным товарам (работам, услугам) (150.01.019 I - 150.01.019 II + 150.01.019 III + 150.01.019 IV + 150.01.019 V - 150.01.019 VI - 150.01.019 VII - 150.01.019 VIII - 150.01.019 IX) | O41: =O42-O43+O44+O53+O54-O55-O56-O57-O58 -> 0
A42: I | C42: ТМЗ на начало налогового периода, всего
A43: II | C43: ТМЗ на конец налогового периода, всего
A44: III | C44: Приобретено ТМЗ, работ и услуг всего, в том числе: | O44: =SUM(O45:O52) -> 0
C45: А | D45: товары, сырье, материалы | O45: ='20.3A ТМЗ'!I30 -> 0
C46: В | D46: финансовые услуги | O46: ='20.3B фин. услуги'!I30 -> 0
C47: С | D47: рекламные услуги | O47: ='20.3C рекламные усл.'!I20 -> 0
C48: D | D48: консультационные услуги | O48: ='20.3D консультационные услуги'!I20 -> 0
C49: E | D49: маркетинговые услуги | O49: ='20.3E маркетинговые усл.'!I20 -> 0
C50: F | D50: дизайнерские услуги | O50: ='20.3F дизайнерские услуги'!I20 -> 0
C51: G | D51: инжиниринговые услуги | O51: ='20.3G инжиниринговые услуги'!I20 -> 0
C52: H | D52: прочие услуги и работы | O52: ='20.3H прочие'!I30 -> 0
...

Sheet 150.02
A4: Об объектах налогообложения и (или) объектах, связанных с налогообложением, по исчислению корпоративного подоходного налога по внеконтрактной деятельности (Приложение 2 к Декларации)
B6: Раздел. Общая информация о налогоплательщике
A8: 1 | B8: БИН | C8: ='150.00'!C8:F8 -> 222222222222
A10: 2 | B10: Налоговый период, за который предоставляется налоговая отчетность: год | K10: ='150.00'!K10 -> 2021
A12: 3 | B12: Номер проекта | I12: Дата проекта
A14: Раздел. Совокупный годовой доход
A15: Код строки | C15: Наименование | L15: Сумма
A16: 150.02.001 | C16: Доход от реализации | L16: ='№ 1доход реал'!I12 -> 0
A17: 150.02.002 | C17: Доход от прироста стоимости | L17: ='№ 2 доход от прир стоимости '!L54 -> 0
A18: 150.02.003 | C18: Доход по производным финансовым инструментам | L18: ='№ 3 производн фининструменты'!K23 -> 0
A19: 150.02.004 | C19: Доход от списания обязательств | L19: ='№ 4 списание обязательств'!L12 -> 0
A20: 150.02.005 | C20: Доход по сомнительным обязательствам | L20: ='№ 5 доход по сомнит обяз'!J12 -> 0
A21: 150.02.006 | C21: Доход от уступки права требования | L21: ='№ 6 доход от уступки'!K12 -> 0
A22: 150.02.007 | C22: Доход от выбытия фиксированных активов | L22: ='№ 7 доход от выб ФА'!J41+'№ 7 доход от выб ФА'!J44 -> 0
A23: 150.02.008 | C23: Присужденные или признанные должником штрафы, пени и другие виды санкций, кроме возвращенных из бюджета необоснованно удержанных штрафов, если эти суммы ранее не были отнесены на вычеты | L23: ='№ 11 штрафы пени'!K26 -> 0
A24: 150.02.009 | C24: Дивиденды, Вознаграждение по депозиту, долговой ценной бумаге векселю, исламскому арендному сертификату, Выигрыши | L24: ='№ 12 дивид вознагр'!K12 -> 0
A25: 150.02.010 | C25: Превышение суммы положительной курсовой разницы над суммой отрицательной курсовой разницы | L25: ='№ 13 курсовые разницы'!K13 -> 0
A26: 150.02.011 | C26: Доход по инвестиционному депозиту, размещенному в исламском банке | L26: ='№ 14 депозит в ислам банке'!K12 -> 0
A27: 150.02.012 | C27: Другие доходы | L27: ='№ 15 другие доходы'!J19 -> 0
A28: 150.02.013 | C28: СОВОКУПНЫЙ ГОДОВОЙ ДОХОД (сумма строк с 150.02.001 по 150.02.012) | L28: =SUM(L16:L27) -> 0
A29: 150.02.014 | C29: Корректировка совокупного годового дохода в соответствии с п.1 статьи 241 Налогового кодекса | L29: ='№ 17 коррект СГД'!J14 -> 0
A30: 150.02.015 | C30: Положительная (отрицательная) разница, полученная при переходе на иной метод оценки товарно-материальных запасов | L30: ='№ 18 корректир СГД'!K13 -> 0
A31: 150.02.016 | C31: СОВОКУПНЫЙ ГОДОВОЙ ДОХОД С УЧЕТОМ КОРРЕКТИРОВОК (150.02.013 – 150.02.014+ или - 150.02.015) | L31: =L28-L29-L30 -> 0
B33: Раздел. Вычеты
A35: 150.02.017 | C35: Расходы по реализованным товарам (работам, услугам) (150.02.017 I - 150.02.017 II + 150.02.017 III + 150.02.017 IV + 150.02.017 V - 150.02.017 VI - 150.02.017 VII - 150.02.017 VIII - 150.02.017 IX) | L35: =L36-L37+L38+L47+L48-L49-L50-L51-L52 -> 0
A36: I | C36: ТМЗ на начало налогового периода, всего
A37: II | C37: ТМЗ на конец налогового периода, всего
A38: III | C38: Приобретено ТМЗ, работ и услуг всего, в том числе: | L38: =SUM(L39:L46) -> 0
C39: А | D39: товары, сырье, материалы | L39: ='20.3A ТМЗ'!J30 -> 0
C40: В | D40: финансовые услуги | L40: ='20.3B фин. услуги'!J30 -> 0
C41: С | D41: рекламные услуги | L41: ='20.3C рекламные усл.'!J20 -> 0
C42: D | D42: консультационные услуги | L42: ='20.3D консультационные услуги'!J20 -> 0
C43: E | D43: маркетинговые услуги | L43: ='20.3E маркетинговые усл.'!J20 -> 0
C44: F | D44: дизайнерские услуги | L44: ='20.3F дизайнерские услуги'!J20 -> 0
C45: G | D45: инжиниринговые услуги | L45: ='20.3G инжиниринговые услуги'!J20 -> 0
C46: H | D46: прочие услуги и работы | L46: ='20.3H прочие'!J30 -> 0
A47: IV | C47: Расходы по начисленным доходам работников и иным выплатам физическим лицам | L47: ='20.4 доходы работников'!L17 -> 0
A48: V | C48: Стоимость работ и услуг, себестоимость ТМЗ, признанные расходами будущих периодов в предыдущих налоговых периодах и относимые на вычеты в отчетном налоговом периоде | L48: ='№ 20.5, 20.9 РБП'!C18 -> 0
A49: VI | C49: Стоимость работ, услуг, себестоимость ТМЗ, признаваемые последующими расходами | L49: ='№20.6 текущий ремонт'!H42 -> 0
A50: VII | C50: Стоимость работ, услуг, себестоимость ТМЗ, включаемые в первоначальную стоимость фиксированных активов, объектов преференций, активов, не подлежащих амортизации | L50: ='№ 20.7 капитал.ремонт'!H42 -> 0
...

Sheet 150.03
B1: Форма 150.03 | I1: Форма 150.03 Стр. 01 | O1: Форма 150.03 Стр. 02 | U1: Форма 150.03 Стр. 03 | AA1: Форма 150.03 Стр. 04 | AG1: Форма 150.03 Стр. 05 | AM1: Форма 150.03 Стр. 06 | AS1: Форма 150.03 Стр. 07 | AY1: Форма 150.03 Стр. 08 | BE1: Форма 150.03 Стр. 09 | BG1: Форма 150.03 Стр. 10
A2: РАСХОДЫ НА ГЕОЛОГИЧЕСКОЕ ИЗУЧЕНИЕ, РАЗВЕДКУ И ПОДГОТОВИТЕЛЬНЫЕ РАБОТЫ К ДОБЫЧЕ ПРИРОДНЫХ РЕСУРСОВ И ДРУГИЕ РАСХОДЫ НЕДРОПОЛЬЗОВАТЕЛЕЙ (Приложение 3 к Декларации)
A4: Раздел. Общая информация о налогоплательщике
A6: 1 | B6: БИН | C6: ='150.00'!C8:F8 -> 222222222222
A7: 2 | B7: Налоговый период | E7: ='150.00'!K10 -> 2021
A9: Раздел. Показатели | P9: Раздел. Показатели
A10: А | B10: № | C10: В | D10: № и дата контракта | F10: C | G10: Расходы на геологическое изучение | H10: D | I10: Расходы на разведку и подготовительные работы к добыче полезных ископаемых, включая расходы по оценке, обустройству | J10: E | K10: Общие административные расходы | L10: F | M10: Сумма выплаченных бонусов | N10: G | O10: Сумма расходов на обучение казахстанских кадров и развитие социальной сферы регионов, относимая на вычеты | P10: H | Q10: Расходы по приобретению основных средств | R10: I | S10: Расходы по приобретению нематериальных активов в виде права недропользования | T10: J | U10: Расходы по приобретению прочих нематериальных активов | V10: K | W10: Иные расходы, подлежащие вычету | X10: L | Y10: Всего расходов (сумма с C по К) | Z10: M | AA10: Доходы, полученные в период проведения геологического изучения и подготовительных работ к добыче, за исключением доходов, подлежащих исключению из СГД | AB10: N | AC10: Доходы, полученные от реализации полезных ископаемых, до момента начала добычи после коммерческого обнаружения | AD10: O | AE10: Доходы, полученные от реализации части права недропользования | AF10: P | AG10: Всего доходы (сумма с М по О) | AH10: Q | AI10: Сумма накопленных расходов за налоговый период (L-P) | AJ10: R | AK10: Стоимостный баланс группы накопленных расходов на начало налогового периода | AL10: S | AM10: Сумма последующих расходов | AN10: T | AO10: Стоимость выбывших активов из группы накопленных расходов, в течение налогового периода | AP10: U | AQ10: Стоимостный баланс группы накопленных расходов на конец налогового периода (R + Q + S) - T. При этом если сумма строк имеет отрицательное значение, дальнейший расчет по форме 150.03 прекращается | AR10: V | AS10: Предельная норма амортизации | AT10: W | AU10: Применяемая норма амортизации | AV10: X | AW10: Сумма к вычету (U * W) | AX10: Y | AY10: Сумма вычетов, подлежащая на вычет по другим контрактам на добычу | AZ10: Z | BA10: Сумма дополнительного вычета перенесенного из контрактов на разведку | BB10: AA | BC10: Итого на вычет | BD10: AB | BE10: Стоимостный баланс группы накопленных расходов на начало следующего налогового периода (U - Y) или (U - X) | BF10: AC | BG10: Стоимостной баланс группы накопленных расходов на конец последнего налогового периода, относимый на вычет
A11: 00000001 | C11: ИТОГО (строка заполняется ТОЛЬКО по итогу формы) | I11: =SUM(I12:I20) -> 0 | K11: =SUM(K12:K20) -> 0 | M11: =SUM(M12:M20) -> 0 | O11: =SUM(O12:O20) -> 0 | Q11: =SUM(Q12:Q20) -> 0 | S11: =SUM(S12:S20) -> 0 | U11: =SUM(U12:U20) -> 0 | W11: =SUM(W12:W20) -> 0 | Y11: =SUM(Y12:Y20) -> 0 | AA11: =SUM(AA12:AA20) -> 0 | AC11: =SUM(AC12:AC20) -> 0 | AE11: =SUM(AE12:AE20) -> 0 | AG11: =SUM(AG12:AG20) -> 0 | AI11: =SUM(AI12:AI20) -> 0 | AK11: =SUM(AK12:AK20) -> 0 | AM11: =SUM(AM12:AM20) -> 0 | AO11: =SUM(AO12:AO20) -> 0 | AQ11: =SUM(AQ12:AQ20) -> 0 | AS11: 25 | AU11: 25 | AW11: =SUM(AW12:AW20) -> 0 | AY11: =SUM(AY12:AY20) -> 0 | BA11: =SUM(BA12:BA20) -> 0 | BC11: =SUM(BC12:BC20) -> 0 | BE11: =SUM(BE12:BE20) -> 0 | BG11: =SUM(BG12:BG20) -> 0
Y12: =G12+I12+K12+M12+O12+Q12+S12+U12+W12 -> 0 | AG12: =AA12+AC12+AE12 -> 0 | AI12: =Y12-AG12 -> 0 | AQ12: =AI12+AK12+AM12-AO12 -> 0 | AS12: 25 | AU12: 25 | AW12: =AQ12*AU12/100 -> 0 | BC12: =AW12+AY12+BA12 -> 0 | BE12: =AQ12-AW12 -> 0
Y13: =G13+I13+K13+M13+O13+Q13+S13+U13+W13 -> 0 | AG13: =AA13+AC13+AE13 -> 0 | AI13: =Y13-AG13 -> 0 | AQ13: =AI13+AK13+AM13-AO13 -> 0 | AS13: 25 | AU13: 25 | AW13: =AQ13*AU13/100 -> 0
Y14: =G14+I14+K14+M14+O14+Q14+S14+U14+W14 -> 0 | AG14: =AA14+AC14+AE14 -> 0 | AI14: =Y14-AG14 -> 0 | AQ14: =AI14+AK14+AM14-AO14 -> 0 | AS14: 25 | AU14: 25 | AW14: =AQ14*AU14/100 -> 0
Y15: =G15+I15+K15+M15+O15+Q15+S15+U15+W15 -> 0 | AG15: =AA15+AC15+AE15 -> 0 | AI15: =Y15-AG15 -> 0 | AQ15: =AI15+AK15+AM15-AO15 -> 0 | AS15: 25 | AU15: 25 | AW15: =AQ15*AU15/100 -> 0
Y16: =G16+I16+K16+M16+O16+Q16+S16+U16+W16 -> 0 | AG16: =AA16+AC16+AE16 -> 0 | AI16: =Y16-AG16 -> 0 | AQ16: =AI16+AK16+AM16-AO16 -> 0 | AS16: 25 | AU16: 25 | AW16: =AQ16*AU16/100 -> 0
Y17: =G17+I17+K17+M17+O17+Q17+S17+U17+W17 -> 0 | AG17: =AA17+AC17+AE17 -> 0 | AI17: =Y17-AG17 -> 0 | AQ17: =AI17+AK17+AM17-AO17 -> 0 | AS17: 25 | AU17: 25 | AW17: =AQ17*AU17/100 -> 0
Y18: =G18+I18+K18+M18+O18+Q18+S18+U18+W18 -> 0 | AG18: =AA18+AC18+AE18 -> 0 | AI18: =Y18-AG18 -> 0 | AQ18: =AI18+AK18+AM18-AO18 -> 0 | AS18: 25 | AU18: 25 | AW18: =AQ18*AU18/100 -> 0
Y19: =G19+I19+K19+M19+O19+Q19+S19+U19+W19 -> 0 | AG19: =AA19+AC19+AE19 -> 0 | AI19: =Y19-AG19 -> 0 | AQ19: =AI19+AK19+AM19-AO19 -> 0 | AS19: 25 | AU19: 25 | AW19: =AQ19*AU19/100 -> 0
Y20: =G20+I20+K20+M20+O20+Q20+S20+U20+W20 -> 0 | AG20: =AA20+AC20+AE20 -> 0 | AI20: =Y20-AG20 -> 0 | AQ20: =AI20+AK20+AM20-AO20 -> 0 | AS20: 25 | AU20: 25 | AW20: =AQ20*AU20/100 -> 0

Sheet 150.04
B1: Форма 150.04 | O1: Форма 150.04
A2: Расходы налогоплательщиков, не являющихся плательщиками НДС, по реализованным товарам, выполненным работам, оказанным услугам (Приложение 4 к Декларации)
A3: Раздел. Общая информация
A5: 1 | B5: БИН | C5: ='150.00'!C8:F8 -> 222222222222 | H5: 2 | I5: Налоговый период | K5: ='150.00'!K10 -> 2021
A6: Раздел. Расходы
A7: А | B7: № | C7: В | D7: БИН / ИИН | F7: C | G7: Код страны резидентства | H7: D | I7: Номер налоговой регистрации в стране резидентства нерезидента | J7: E | K7: Код вида расхода* | L7: F | M7: Стоимость | N7: G | O7: Признак вида деятельности **
A8: 00000001 | C8: ИТОГО (строка заполняется ТОЛЬКО по итогу формы) | M8: =SUM(M9:M17) -> 0
J19: * | K19: Указывается код вида расхода | L19: ** | M19: «1» - если затраты (расходы) понесены исключительно в целях осуществления деятельности, налогообложение которой осуществляется в общеустановленном порядке;
J20: 1 | K20: финансовые услуги
J21: 2 | K21: рекламные услуги | M21: «2» - если затраты (расходы) понесены исключительно в целях осуществления деятельности, налогообложение которой осуществляется в рамках специального налогового режима в соответствии со статьями 697, 698, 699, 700 и 701 Налогового кодекса;
J22: 3 | K22: консультационные услуги | M22: «3» - если затраты (расходы) подлежат распределению между деятельностью, налогообложение которой осуществляется в общеустановленном режиме и деятельностью, налогообложение которой осуществляется в рамках специального налогового режима в соответствии со статьями 697, 698, 699, 700 и 701 Налогового кодекса;
J23: 4 | K23: маркетинговые услуги | M23: «4» - если затраты (расходы) не относятся на вычеты.
J24: 5 | K24: дизайнерские услуги
J25: 6 | K25: инжиниринговые услуги
J26: 7 | K26: прочие

Sheet 150.05 ФА
K2: Форма 150.05
B3: ВЫЧЕТЫ ПО ФИКСИРОВАННЫМ АКТИВАМ
B4: (Приложение 5 к Декларации)
B5: Раздел. Общая информация о налогоплательщике
A7: 1 | B7: БИН | C7: ='150.00'!C8:F8 -> 222222222222
A8: 2 | B8: Налоговый период, за который предоставляется налоговая отчетность: год | I8: ='150.00'!K10 -> 2021
B10: Раздел. Вычеты по общим и косвенным фиксированным активам
A12: № | B12: Наименование показателей | K12: Сумма
A13: 150.05.001 | B13: Стоимостный баланс групп (подгрупп) на начало налогового периода | K13: =SUM(K14:K17) -> 0
A14: I | B14: I группы | K14: ='150.05ФА контракт'!K14+'150.05 ФА внеконтрактная'!K14 -> 0
A15: II | B15: II группы | K15: ='150.05ФА контракт'!K15+'150.05 ФА внеконтрактная'!K15 -> 0
A16: III | B16: III группы | K16: ='150.05ФА контракт'!K16+'150.05 ФА внеконтрактная'!K16 -> 0
A17: IV | B17: IV группы | K17: ='150.05ФА контракт'!K17+'150.05 ФА внеконтрактная'!K17 -> 0
A18: 150.05.002 | B18: Стоимость поступивших фиксированных активов | K18: =SUM(K19:K22) -> 0
A19: I | B19: I группы | K19: ='150.05ФА контракт'!K19+'150.05 ФА внеконтрактная'!K19 -> 0
A20: II | B20: II группы | K20: ='150.05ФА контракт'!K20+'150.05 ФА внеконтрактная'!K20 -> 0
A21: III | B21: III группы | K21: ='150.05ФА контракт'!K21+'150.05 ФА внеконтрактная'!K21 -> 0
A22: IV | B22: IV группы | K22: ='150.05ФА контракт'!K22+'150.05 ФА внеконтрактная'!K22 -> 0
A23: 150.05.003 | B23: Стоимость выбывших фиксированных активов | K23: =SUM(K24:K27) -> 0
A24: I | B24: I группы | K24: ='150.05ФА контракт'!K24+'150.05 ФА внеконтрактная'!K24 -> 0
A25: II | B25: II группы | K25: ='150.05ФА контракт'!K25+'150.05 ФА внеконтрактная'!K25 -> 0
A26: III | B26: III группы | K26: ='150.05ФА контракт'!K26+'150.05 ФА внеконтрактная'!K26 -> 0
A27: IV | B27: IV группы | K27: ='150.05ФА контракт'!K27+'150.05 ФА внеконтрактная'!K27 -> 0
A28: 150.05.004 | B28: Последующие расходы по фиксированным активам, относимые на увеличение стоимостных балансов групп (подгрупп) в соответствии с п.3 статьи 122 НК | K28: =SUM(K29:K32) -> 0
A29: I | B29: I группы | K29: ='150.05ФА контракт'!K29+'150.05 ФА внеконтрактная'!K29 -> 0
A30: II | B30: II группы | K30: ='150.05ФА контракт'!K30+'150.05 ФА внеконтрактная'!K30 -> 0
A31: III | B31: III группы | K31: ='150.05ФА контракт'!K31+'150.05 ФА внеконтрактная'!K31 -> 0
A32: IV | B32: IV группы | K32: ='150.05ФА контракт'!K32+'150.05 ФА внеконтрактная'!K32 -> 0
A33: 150.05.005 | B33: Стоимостный баланс групп (подгрупп) на конец налогового периода | K33: =SUM(K34:K37) -> 0
A34: I | B34: I группы | K34: =K14+K19-K24+K29 -> 0
A35: II | B35: II группы | K35: =K15+K20-K25+K30 -> 0
A36: III | B36: III группы | K36: =K16+K21-K26+K31 -> 0
A37: IV | B37: IV группы | K37: =K17+K22-K27+K32 -> 0
A38: 150.05.006 | B38: Амортизационные отчисления по фиксированным активам | I38: предельная норма | J38: применяемая норма | K38: =SUM(K39:K42) -> 0
A39: I | B39: I группы | I39: 0.1 | J39: 0.1 | K39: ='150.05ФА контракт'!K39+'150.05 ФА внеконтрактная'!K39 -> 0
A40: II | B40: II группы | I40: 0.25 | J40: 0.25 | K40: ='150.05ФА контракт'!K40+'150.05 ФА внеконтрактная'!K40 -> 0
A41: III | B41: III группы | I41: 0.4 | J41: 0.4 | K41: ='150.05ФА контракт'!K41+'150.05 ФА внеконтрактная'!K41 -> 0
A42: IV | B42: IV группы | I42: 0.15 | J42: 0.15 | K42: ='150.05ФА контракт'!K42+'150.05 ФА внеконтрактная'!K42 -> 0
A43: 150.05.007 | B43: Двойная норма амортизационных отчислений в соответствии с п. 6 ст. 120 Налогового кодекса | K43: =SUM(K44:K47) -> 0
A44: I | B44: I группы | J44: 0.2 | K44: ='150.05ФА контракт'!K44+'150.05 ФА внеконтрактная'!K44 -> 0
...

Sheet 150.06
B1: Форма 150.06 | Q1: Форма 150.06
A2: УПРАВЛЕНЧЕСКИЕ И ОБЩЕАДМИНИСТРАТИВНЫЕ РАСХОДЫ НЕРЕЗИДЕНТА (Приложение 6 к Декларации)
A3: Раздел. Общая информация
A5: 1 | B5: БИН | C5: ='150.00'!C8:F8 -> 222222222222 | H5: 2 | J5: Налоговый период, за который представляется налоговая отчетность: год | L5: ='150.00'!K10 -> 2021
A7: Раздел. Дополнительная информация
A8: 1 | B8: Применяемый метод отнесения расходов на вычеты (укажите X в соответствующей ячейке): | F8: А | G8: пропорционального распределения | H8: В | I8: В | J8: непосредственного (прямого) отнесения
A9: 2 | B9: Способ исчисления расчетного показателя при применении метода пропорционального распределения | F9: А | G9: первый | H9: В | I9: В | J9: Второй
A10: 3 | B10: Код страны, с которой заключён международный договор
A12: 4 | B12: Налоговый период | F12: с | I12: по
A13: 5 | B13: Поправочный (-ые) коэффициент (-ы) налогового (-ых) периода(-ов) (ПКНП) (указывается дробь / дроби | G13: К (К1) | J13: К2
A15: Раздел. Расходы
A16: А | B16: № | C16: В | D16: Показатели | F16: C | G16: Совокупный годовой доход | H16: D | J16: Первоначальная (текущая) стоимость основных средств | K16: E | L16: Расходы по оплате труда | N16: F | O16: Расчетный показатель | P16: G | Q16: Управленческие и общеадминистративные расходы | R16: H | S16: Общая сумма затрат
A17: 1 | C17: Всего по компании без применения ПКНП*
A18: 2 | C18: Всего по компании с применением ПКНП*
A19: 3 | C19: В том числе от деятельности в РК через постоянное учреждение
A20: 4 | C20: Удельный вес

Sheet 150.07
M2: Форма 150.07
A4: ИСЧИСЛЕНИЕ НАЛОГОВОГО ОБЯЗАТЕЛЬСТВА ПРИ ПОЛУЧЕНИИ СТАНДАРТНЫХ НАЛОГОВЫХ ЛЬГОТ (Приложение 7 к Декларации)
B5: Раздел. Общая информация о налогоплательщике
A7: 1 | B7: БИН | C7: ='150.00'!C8:F8 -> 222222222222
A8: 2 | B8: Налоговый период, за который предоставляется налоговая отчетность: год | K8: ='150.00'!K10 -> 2021
A10: Раздел.Расчет суммы корпоративного подоходного налога
A11: Код строки | C11: Наименование | L11: Сумма
A12: 150.07.001 | C12: Налогооблагаемый доход, применяемый как максимальный
A13: 150.07.002 | C13: Год, за который налогооблагаемый доход принят как максимальный
A14: 150.07.003 | C14: Среднегодовой индекс инфляции, применяемый к отчетному налоговому периоду
A15: 150.07.004 | C15: Максимальный налогооблагаемый доход с учетом среднегодового индекса инфляции (150.07.001 x 150.07.003 / 100) | L15: =L12*O14/100 -> 0
A16: 150.07.005 | C16: Количество месяцев в отчетном налоговом периоде, в течение которых действует контракт
A17: 150.07.006 | C17: Скорректированный максимальный налогооблагаемый доход (150.07.004 x 150.07.005 / 12) | L17: =L15*O16/12 -> 0
A18: 150.07.007 | C18: Налогооблагаемый доход отчетного налогового периода | L18: ='150.01'!O113 -> 0
A19: 150.07.008 | C19: Льготируемый прирост налогооблагаемого дохода (150.07.007 - 150.07.004) | L19: =L18-L15 -> 0
A20: 150.07.009 | C20: Ставка корпоративного подоходного налога по инвестиционному контракту
A21: 150.07.010 | C21: Сумма корпоративного подоходного налога по инвестиционному контракту (150.07.008 х 150.07.009) | L21: =L19*O20 -> 0

Sheet 150.08
B1: Форма 150.08 | O1: Форма 150.08
A2: Доходы из иностранных источников, суммы прибыли или части прибыли компаний, зарегистрированных или расположенных в странах с льготным налогообложением. Суммы уплаченного иностранного налога и зачета (Приложение 8 к Декларации)
A3: Раздел. Общая информация
A5: 1 | B5: БИН | C5: ='150.00'!C8:F8 -> 222222222222 | H5: 2 | I5: Налоговый период | K5: ='150.00'!K10 -> 2021
A6: Раздел. Расходы
A7: А | B7: № | C7: В | D7: Код страны | F7: C | G7: Код вида дохода | H7: D | I7: Код валюты | J7: E | K7: Сумма начисленных доходов из источников в иностранном государстве (в иностранной валюте) | L7: F | M7: Сумма начисленных доходов из источников в иностранном государстве (в национальной валюте) | N7: G | O7: Код вида деятельности | P7: Н | Q7: В том числе сумма доходов от деятельности через постоянное учреждение в иностранном государстве (в иностранной валюте) | R7: I | S7: В том числе сумма доходов от деятельности через постоянное учреждение в иностранном государстве (в национальной валюте) | T7: J | U7: Сумма подоходного налога подлежащего зачету | V7: K | W7: Сумма вычетов постоянного учреждения в иностранном государстве (в национальной валюте) | X7: L | Y7: Сумма управленческих и общеадминистративных расходов резидента
A8: 00000001 | C8: ИТОГО (строка заполняется ТОЛЬКО по итогу формы) | K8: =SUM(K9:K17) -> 0 | M8: =SUM(M9:M17) -> 0 | Q8: =SUM(Q9:Q17) -> 0 | S8: =SUM(S9:S17) -> 0 | U8: =SUM(U9:U17) -> 0 | W8: =SUM(W9:W17) -> 0 | Y8: =SUM(Y9:Y17) -> 0
A19: в графе G указывается один из следующих кодов видов деятельности:
A20: 1 – доход, указанный в графах E и F, начислен в связи с осуществлением контрактной деятельности;
A21: 2 – доход, указанный в графах E и F, начислен в связи с осуществлением внеконтрактной деятельности;

Sheet 150.09
B1: Форма 150.09
A2: ДОХОД, ПОДЛЕЖАЩИЙ ОСВОБОЖДЕНИЮ ОТ НАЛОГООБЛОЖЕНИЯ В СООТВЕТСТВИИ С МЕЖДУНАРОДНЫМИ ДОГОВОРАМИ (Приложение 9 к Декларации)
A3: Раздел. Общая информация
A5: 1 | B5: БИН | C5: ='150.00'!C8:F8 -> 222222222222 | H5: 2 | I5: Налоговый период | K5: ='150.00'!K10 -> 2021
A7: Раздел. Показатели
A8: А | B8: № | C8: В | D8: Код вида международного договора | F8: C | G8: Наименование международного договора | H8: D | I8: Код страны, с которой заключен международный договор | J8: E | K8: Доход, подлежащий освобождению от налогообложения
A9: 00000001 | C9: ИТОГО (строка заполняется ТОЛЬКО по итогу формы) | J9: =SUM(J10:K18) -> 0

Sheet 150.12
M2: Форма 150.12
A4: Об объектах налогообложения и (или) объектах, связанных с налогообложением, по исчислению налога на сверхприбыль по каждому контракту на недропользование (Приложение 12 к Декларации)
B6: Раздел. Общая информация о налогоплательщике
A8: 1 | B8: БИН | C8: ='150.00'!C8:F8 -> 222222222222
A10: 2 | B10: Налоговый период, за который предоставляется налоговая отчетность: год | K10: ='150.00'!K10 -> 2021
A12: 3 | B12: Номер и дата контракта | E12: А | F12: Номер | L12: В | M12: Дата
A14: 4 | B14: Наименование месторождения
A18: Раздел. Совокупный годовой доход
A19: Код строки | C19: Наименование | O19: Сумма
A20: 150.12.001 | C20: Валовый годовой доход, в том числе: | O20: ='150.01'!O34-'150.01'!O21-'150.01'!O25-'150.01'!O26 -> 0
A21: 150.12.002 | C21: Доход от реализации, выбытия, передачи активов не подлежащих амортизации | O21: ='150.01'!O21 -> 0
A22: 150.12.003 | C22: Доходы, полученные до момента начала добычи после коммерческого обнаружения
A23: 150.12.004 | C23: Доход от реализации, выбытия, передачи фиксированных активов
A24: 150.12.005 | C24: Корректировка валового дохода в соответствии с Законом о трансфертном ценообразовании | O24: ='150.01'!O90 -> 0
A25: 150.12.006 | C25: Валовый годовой доход с учетом корректировки (150.12.001 + 150.12.005) | O25: =O20+O24 -> 0
A26: 150.12.007 | C26: Расходы отнесенные на вычет в соответствии с подпунктом 1 пункта 1 статьи 758 Налогового кодекса | O26: ='150.01'!O80-'150.01'!O75-'150.03'!BC11-'150.03'!BG11 -> 0
A27: 150.12.008 | C27: Фактически понесенные расходы на приобретение и (или) создание фиксированных активов согласно подпункта 2 пункта 1 статьи 758 Налогового кодекса | O27: ='150.05ФА контракт'!K18+'150.05ФА контракт'!K28+'150.03'!AI11 -> 0
A28: 150.12.009 | C28: Всего вычетов для целей налога на сверхприбыль (150.12.007 + 150.12.008) | O28: =O26+O27 -> 0
A29: 150.12.010 | C29: Корректировка вычетов в соответствии с Законом о трансфертном ценообразовании | O29: ='150.01'!O91 -> 0
A30: 150.12.011 | C30: Всего вычетов с учетом корректировки (150.12.009 + 150.12.010) | O30: =O28+O29 -> 0
A31: 150.12.012 | C31: Налогооблагаемый доход для целей исчисления налога на сверхприбыль (150.12.006 - 150.12.011) | O31: =O25-O30 -> 0
A32: 150.12.013 | C32: Превышение вычетов для целей исчисления налога на сверхприбыль над суммой валового годового дохода, переносимое из предыдущих налоговых периодов
A33: 150.12.014 | C33: Налогооблагаемый доход с учетом перенесенного из предыдущих налоговых периодов и превышения вычетов над суммой валового годового дохода (150.12.012 - 150.12.013) | O33: =O31-O32 -> 0
A34: 150.12.015 | C34: Превышение вычетов для целей исчисления налога на сверхприбыль, подлежащее переносу на последующие налоговые периоды | O34: =IF(O33<0,-O33,0) -> 0
A35: 150.12.016 | C35: Сумма КПН согласно статье 759 Налогового кодекса | O35: ='150.01'!O118 -> 0
A36: 150.12.017 | C36: Налог на чистый доход согласно статье 760 Налогового кодекса для нерезидента имеющего ПУ в РК | O36: ='150.01'!O134+'150.01'!O135 -> 0
A37: 150.12.018 | C37: Чистый доход (150.12.014 - 150.12.016 - 150.12.017) | O37: =O33-O35-O36 -> 0
A38: 150.12.019 | C38: 25 процентов от суммы вычетов (150.12.011 х 25%) | O38: =O30*0.25 -> 0
A39: 150.12.020 | C39: Часть чистого дохода превышающая 25% от суммы вычетов (150.12.018 - 150.12.019) | O39: =IF((O37-O38)<0,0,(O37-O38)) -> 0
A40: 150.12.021 | C40: Расчет суммы налога на сверхприбыль по уровням
A42: А Уровень | C42: Шкала распределения чистого дохода по уровням для целей исчисления налога на сверхприбыль, процент от суммы вычетов | I42: В Верхние границы | K42: С Вычеты для целей налога на сверхприбыль | N42: D Предельная сумма распределения чистого дохода
A43: Уровень 1 | C43: меньшее или равное 25 процентам | I43: 0.25
A44: Уровень 2 | C44: от 25 процентов до 30 процентов включительно | I44: 0.05
A45: Уровень 3 | C45: от 30 процентов до 40 процентов включительно | I45: 0.1
A46: Уровень 4 | C46: от 40 процентов до 50 процентов включительно | I46: 0.1
A47: Уровень 5 | C47: от 50 процентов до 60 процентов включительно | I47: 0.1
A48: Уровень 6 | C48: от 60 процентов до 70 процентов включительно | I48: 0.1
A49: Уровень 7 | C49: свыше 70 процентов
A51: Е Распределен.фактич.чистый доход (объект обложения) | G51: F Ставка | I51: G Сумма налога на сверхприбыль (E x F)
G52: 0 | I52: =A52*G52 -> 0
...

Sheet № 1доход реал
H2: Форма 150.00 | I2: Форма 150.01 | J2: Форма 150.02
B3: ДОХОД ОТ РЕАЛИЗАЦИИ ТОВАРОВ, РАБОТ, УСЛУГ
B5: Раздел. Общая информация о налогоплательщике
A7: 1 | B7: БИН | C7: ='150.00'!C8:F8 -> 222222222222
A8: 2 | B8: Налоговый период, за который предоставляется налоговая отчетность: год | H8: ='150.00'!K10 -> 2021 | I8: =H8 -> 2021 | J8: =H8 -> 2021
B9: Регистр"ДОХОД ОТ РЕАЛИЗАЦИИ ТОВАРОВ, РАБОТ, УСЛУГ" | H9: Форма 150.01 | I9: Форма 150.02 | J9: Форма 150.00
A10: № | B10: Наименование показателей | H10: Сумма (контрактная деятельность) | I10: Сумма (внеконтрактная деятельность) | J10: Сумма
B11: Дата | C11: БИН | D11: Наименование организации
A12: А | B12: Доход от реализации, всего (сумма стр. с 1 по 7) | H12: =H14+H28+H42+H56+H70+H84+H98 -> 0 | I12: =I14+I28+I42+I56+I70+I84+I98 -> 0 | J12: =J14+J28+J42+J56+J70+J84+J98 -> 0
B13: в том числе:
A14: 1 | B14: Доход от реализации товаров, работ, услуг | H14: =SUM(H15:H27) -> 0 | I14: =SUM(I15:I27) -> 0 | J14: =SUM(J15:J27) -> 0
J15: =SUM(H15:I15) -> 0
J16: =SUM(H16:I16) -> 0
J17: =SUM(H17:I17) -> 0
J18: =SUM(H18:I18) -> 0
J19: =SUM(H19:I19) -> 0
J20: =SUM(H20:I20) -> 0
J21: =SUM(H21:I21) -> 0
J22: =SUM(H22:I22) -> 0
J23: =SUM(H23:I23) -> 0
J24: =SUM(H24:I24) -> 0
J25: =SUM(H25:I25) -> 0
J26: =SUM(H26:I26) -> 0
J27: =SUM(H27:I27) -> 0
A28: 2 | B28: Доход в виде вознаграждения по передаче имущества в финансовый лизинг | H28: =SUM(H29:H41) -> 0 | I28: =SUM(I29:I41) -> 0 | J28: =SUM(J29:J41) -> 0
J29: =SUM(H29:I29) -> 0
J30: =SUM(H30:I30) -> 0
J31: =SUM(H31:I31) -> 0
J32: =SUM(H32:I32) -> 0
J33: =SUM(H33:I33) -> 0
J34: =SUM(H34:I34) -> 0
J35: =SUM(H35:I35) -> 0
J36: =SUM(H36:I36) -> 0
J37: =SUM(H37:I37) -> 0
J38: =SUM(H38:I38) -> 0
J39: =SUM(H39:I39) -> 0
J40: =SUM(H40:I40) -> 0
J41: =SUM(H41:I41) -> 0
A42: 3 | B42: Роялти | H42: =SUM(H43:H55) -> 0 | I42: =SUM(I43:I55) -> 0 | J42: =SUM(J43:J55) -> 0
J43: =SUM(H43:I43) -> 0
...

Sheet № 2 доход от прир стоимости 
K2: Форма 150.01 | L2: Форма 150.02 | M2: Форма 150.00
B3: ДОХОД (УБЫТОК) ОТ ПРИРОСТА СТОИМОСТИ
B5: Раздел. Общая информация о налогоплательщике
A7: 1 | B7: БИН | C7: ='150.00'!C8:F8 -> 222222222222
A8: 2 | B8: Налоговый период, за который предоставляется налоговая отчетность: год | K8: ='150.00'!K10 -> 2021 | L8: =K8 -> 2021 | M8: =K8 -> 2021
B9: Регистр "ДОХОД (УБЫТОК) ОТ ПРИРОСТА СТОИМОСТИ" | K9: Форма 150.01 | L9: Форма 150.02 | M9: Форма 150.00
B10: Раздел. Доход (убыток) при реализации ценных бумаг, за исключением долговых ценных бумаг, и доли участия
A11: № | B11: Наименование показателей | K11: Сумма (контрактная деятельность) | L11: Сумма (внеконтрактная деятельность) | M11: Сумма
A12: 1 | B12: Доход от прироста стоимости при реализации: | K12: =SUM(K13:K15) -> 0 | L12: =SUM(L13:L15) -> 0 | M12: =SUM(M13:M15) -> 0
A13: I | B13: акций и долей участия в юридическом лице или консорциуме, которые созданы в соответствии с законодательством РК | M13: =SUM(K13:L13) -> 0
A14: II | B14: ценных бумаг, находящихся на день реализации методом открытых торгов на фондовой бирже, функционирующей на территории РК, в официальных списках данной фондовой биржи, за исключением долговых ценных бумаг | M14: =SUM(K14:L14) -> 0
A15: III | B15: прочих ценных бумаг, за исключением долговых ценных бумаг | M15: =SUM(K15:L15) -> 0
A16: 2 | B16: Убыток от реализации: | K16: =SUM(K17:K19) -> 0 | L16: =SUM(L17:L19) -> 0 | M16: =SUM(M17:M19) -> 0
A17: I | B17: акций и долей участия в юридическом лице или консорциуме, которые созданы в соответствии с законодательством РК | M17: =SUM(K17:L17) -> 0
A18: II | B18: ценных бумаг, находящихся на день реализации методом открытых торгов на фондовой бирже, функционирующей на территории РК, в официальных списках данной фондовой биржи, за исключением долговых ценных бумаг | M18: =SUM(K18:L18) -> 0
A19: III | B19: прочих ценных бумаг, за исключением долговых ценных бумаг | M19: =SUM(K19:L19) -> 0
A20: 3 | B20: Доход от прироста стоимости при реализации доли участия, за исключением доли участия в юридическом лице или консорциуме, созданном в соответствии с законодательством РК | M20: =SUM(K20:L20) -> 0
B21: Раздел. Доход при передаче ценных бумаг, за исключением долговых ценных бумаг, и доли участия в качестве взноса в уставной капитал, а также при выбытии ценных бумаг и доли учстия в результате реорганизации путем слияния, присоединения, разделения или выделения
A22: 4 | B22: Доход от прироста стоимости при передаче ценных бумаг, за исключением долговых ценных бумаг, и доли участия в качестве вклада в уставной капитал | M22: =SUM(K22:L22) -> 0
A23: 5 | B23: Доход от прироста стоимости при выбытии ценных бумаг, за исключением долговых ценных бумаг, и доли участия в результате реорганизации путем слияния, присоединения, разделения и выделения | M23: =SUM(K23:L23) -> 0
B24: Раздел. Доход (убыток) при реализации долговых ценных бумаг
A25: 6 | B25: Доход от прироста стоимости при реализации: | K25: =SUM(K26:K29) -> 0 | L25: =SUM(L26:L29) -> 0 | M25: =SUM(M26:M29) -> 0
A26: I | B26: облигаций, находящихся на день реализации методом открытых торгов на фондовой бирже, функционирующей на территории Республики Казахстан, в официальных списках данной фондовой биржи | M26: =SUM(K26:L26) -> 0
A27: II | B27: государственных эмиссионных ценных бумаг | M27: =SUM(K27:L27) -> 0
A28: III | B28: агентских облигаций | M28: =SUM(K28:L28) -> 0
A29: IV | B29: прочих долговых ценных бумаг | M29: =SUM(K29:L29) -> 0
A30: 7 | B30: Убыток от реализации: | K30: =SUM(K31:K34) -> 0 | L30: =SUM(L31:L34) -> 0 | M30: =SUM(M31:M34) -> 0
A31: I | B31: облигаций, находящихся на день реализации методом открытых торгов на фондовой бирже, функционирующей на территории Республики Казахстан, в официальных списках данной фондовой биржи | M31: =SUM(K31:L31) -> 0
A32: II | B32: государственных эмиссионных ценных бумаг | M32: =SUM(K32:L32) -> 0
A33: III | B33: агентских облигаций | M33: =SUM(K33:L33) -> 0
A34: IV | B34: прочих долговых ценных бумаг | M34: =SUM(K34:L34) -> 0
B35: Раздел. Доход при передаче долговых ценных бумаг в качестве взноса в уставной капитал, а также при выбытии долговых[ценных бумаг в результате реорганизации путем слияния, присоединения, разделения или выделения
A36: 8 | B36: Доход от прироста стоимости при передаче долговых ценных бумаг в качестве вклада в уставной капитал | M36: =SUM(K36:L36) -> 0
A37: 9 | B37: Доход от прироста стоимости при выбытии долговых ценных бумаг в результате реорганизации путем слияния, присоединения, разделения и выделения | M37: =SUM(K37:L37) -> 0
B38: Раздел. Доход (убыток) при реализации активов, указанных в подпунктах 1-3) пункта 2 статьи 228 Налогового кодекса
A39: 10 | B39: Доход от прироста стоимости | M39: =SUM(K39:L39) -> 0
A40: 11 | B40: Убыток от реализации | M40: =SUM(K40:L40) -> 0
B41: Раздел. Доход (убыток) при реализации активов, указанных в подпунктах 1-3) пункта 2 статьи 228 Налогового кодекса , в качестве вклада в уставной капитал, а также при выбытии таких активов в результтате реорганизации путем слияния, присоединения, разделения или выделения
A42: 12 | B42: Доход от прироста стоимости при передаче активов, указанных в подпунктах 1-3) пункта 2 статьи 228 Налогового кодекса , в качестве вклада в уставной капитал | M42: =SUM(K42:L42) -> 0
A43: 13 | B43: Доход от прироста стоимости при выбытии активов, указанных в подпунктах 1-3) пункта 2 статьи 228 Налогового кодекса в результтате реорганизации путем слияния, присоединения, разделения или выделения | M43: =SUM(K43:L43) -> 0
...

Sheet № 3 производн фининструменты
K2: Форма 150.02 | L2: Форма 150.00
B3: ДОХОД ПО ПРОИЗВОДНЫМ ФИНАНСОВЫМ ИНСТРУМЕНТАМ
B5: Раздел. Общая информация о налогоплательщике
A7: 1 | B7: БИН | C7: ='150.00'!C8:F8 -> 222222222222
A8: 2 | B8: Налоговый период, за который предоставляется налоговая отчетность: год | I8: ='150.00'!K10 -> 2021
K9: Форма 150.02 | L9: Форма 150.00
A10: № | B10: Наименование показателей | K10: Сумма (внеконтрактная деятельность) | L10: Сумма
A11: 1 | B11: Операции по производным финансовым инструментам, за исключением свопа
A12: I | B12: поступление по производным финансовым инструментам | L12: =K12 -> 0
A13: II | B13: расходы по производным финансовым инструментам | L13: =K13 -> 0
A14: III | B14: доход по производным финансовым инструментам (стр.I - стр.II) | K14: =K12-K13 -> 0 | L14: =L12-L13 -> 0
A15: IV | B15: убыток по производным финансовым инструментам, переносимый с предыдущих периодов | L15: =K15 -> 0
A16: V | B16: доход по производным финансовым инструментам с учетом переносимых убытков (стр.III - стр.IV) | K16: =K14-K15 -> 0 | L16: =L14-L15 -> 0
A17: 2 | B17: Операции по свопу
A18: I | B18: поступление по свопу | L18: =K18 -> 0
A19: II | B19: расходы по свопу | L19: =K19 -> 0
A20: III | B20: доход по свопу | K20: =K18-K19 -> 0 | L20: =K20 -> 0
A21: IV | B21: убыток по свопу, переносимый с предыдущих периодов | L21: =K21 -> 0
A22: V | B22: доход по свопу, с учетом переносимых убытков (стр.III - стр.IV) | K22: =K20-K21 -> 0 | L22: =L20-L21 -> 0
A23: 3 | B23: Итого дохода по производным финансовым инструментам (стр. 1 V +стр.2 V) | K23: =K16+K22 -> 0 | L23: =L16+L22 -> 0
A25: Примечание. | C25: строка 3 столбец K переносится в форму 150.02 в строку 150.02.003
C26: строка 3 столбец L переносится в форму 150.00 в строку 150.00.003

Sheet № 4 списание обязательств
M2: Форма 150.00
B3: ДОХОД ОТ СПИСАНИЯ ОБЯЗАТЕЛЬСТВ
B5: Раздел. Общая информация о налогоплательщике
A7: 1 | B7: БИН | C7: ='150.00'!C8:F8 -> 222222222222
A8: 2 | B8: Налоговый период, за который предоставляется налоговая отчетность: год | I8: ='150.00'!K10 -> 2021
K9: Форма 150.01 | L9: Форма 150.02 | M9: Форма 150.00
A10: № | B10: Наименование показателей | K10: Сумма (контрактная деятельность) | L10: Сумма (внеконтрактная деятельность) | M10: Сумма
B11: Дата | C11: БИН | D11: Наименование организации | J11: основание
A12: А | B12: Доход от списания обязательств, всего (сумма стр 1 по стр 4) | K12: =K13+K23+K33+K43 -> 0 | L12: =L13+L23+L33+L43 -> 0 | M12: =M13+M23+M33+M43 -> 0
A13: 1 | B13: Доход от списания обязательств с налогоплательщика его кредитором | K13: =SUM(K14:K22) -> 0 | L13: =SUM(L14:L22) -> 0 | M13: =SUM(M14:M22) -> 0
M14: =SUM(K14:L14) -> 0
M15: =SUM(K15:L15) -> 0
M16: =SUM(K16:L16) -> 0
M17: =SUM(K17:L17) -> 0
M18: =SUM(K18:L18) -> 0
M19: =SUM(K19:L19) -> 0
M20: =SUM(K20:L20) -> 0
M21: =SUM(K21:L21) -> 0
M22: =SUM(K22:L22) -> 0
A23: 2 | B23: Доход от списания обязательств, не востребованных кредиторами на момент утверждения ликвидационного баланса при ликвидации налогоплательщика | K23: =SUM(K24:K32) -> 0 | L23: =SUM(L24:L32) -> 0 | M23: =SUM(M24:M32) -> 0
M24: =SUM(K24:L24) -> 0
M25: =SUM(K25:L25) -> 0
M26: =SUM(K26:L26) -> 0
M27: =SUM(K27:L27) -> 0
M28: =SUM(K28:L28) -> 0
M29: =SUM(K29:L29) -> 0
M30: =SUM(K30:L30) -> 0
M31: =SUM(K31:L31) -> 0
M32: =SUM(K32:L32) -> 0
A33: 3 | B33: Доход от списания обязательств в связи с истечением срока исковой давности, установленного законодательными актами Республики Казахстан | K33: =SUM(K34:K42) -> 0 | L33: =SUM(L34:L42) -> 0 | M33: =SUM(M34:M42) -> 0
M34: =SUM(K34:L34) -> 0
M35: =SUM(K35:L35) -> 0
M36: =SUM(K36:L36) -> 0
M37: =SUM(K37:L37) -> 0
M38: =SUM(K38:L38) -> 0
M39: =SUM(K39:L39) -> 0
M40: =SUM(K40:L40) -> 0
M41: =SUM(K41:L41) -> 0
M42: =SUM(K42:L42) -> 0
A43: 4 | B43: Доход от списания обязательств по вступившему в законную силу решению суда | K43: =SUM(K44:K52) -> 0 | L43: =SUM(L44:L52) -> 0 | M43: =SUM(M44:M52) -> 0
...

Sheet № 5 доход по сомнит обяз
K2: Форма 150.00
B3: ДОХОД ПО СОМНИТЕЛЬНЫМ ОБЯЗАТЕЛЬСТВАМ
B5: Раздел. Общая информация о налогоплательщике
A7: 1 | B7: БИН | C7: ='150.00'!C8:F8 -> 222222222222
A8: 2 | B8: Налоговый период, за который предоставляется налоговая отчетность: год | I8: ='150.00'!K10 -> 2021
B9: Регистр "ДОХОД ПО СОМНИТЕЛЬНЫМ ОБЯЗАТЕЛЬСТВАМ" | I9: Форма 150.01 | J9: Форма 150.02 | K9: Форма 150.00
A10: № | B10: Наименование показателей | I10: Сумма (контрактная деятельность) | J10: Сумма (внеконтрактная деятельность) | K10: Сумма
B11: Дата | C11: БИН/ИИН | D11: Наименование организации / ФИО
A12: 1 | B12: Доход по сомнительным обязательствам, в том числе: (стр.1+стр.2) | I12: =I13+I20 -> 0 | J12: =J13+J20 -> 0 | K12: =K13+K20 -> 0
A13: 2 | B13: Сомнительные обязательства по товарам (работам, услугам) | I13: =SUM(I14:I19) -> 0 | J13: =SUM(J14:J19) -> 0 | K13: =SUM(K14:K19) -> 0
K14: =SUM(I14:J14) -> 0
K15: =SUM(I15:J15) -> 0
K16: =SUM(I16:J16) -> 0
K17: =SUM(I17:J17) -> 0
K18: =SUM(I18:J18) -> 0
K19: =SUM(I19:J19) -> 0
A20: 3 | B20: Сомнительные обязательства по доходам работников | I20: =SUM(I21:I26) -> 0 | J20: =SUM(J21:J26) -> 0 | K20: =SUM(K21:K26) -> 0
K21: =SUM(I21:J21) -> 0
K22: =SUM(I22:J22) -> 0
K23: =SUM(I23:J23) -> 0
K24: =SUM(I24:J24) -> 0
K25: =SUM(I25:J25) -> 0
K26: =SUM(I26:J26) -> 0
A29: Примечание. | C29: строка 1 столбец I переносится в форму 150.01 в строку 150.01.004
C30: строка 1 столбец J переносится в форму 150.02 в строку 150.02.005
C31: строка 1 столбец K переносится в форму 150.00 в строку 150.00.005

Sheet № 6 доход от уступки
L2: Форма 150.00
B3: ДОХОД ОТ УСТУПКИ ПРАВА ТРЕБОВАНИЯ
B5: Раздел. Общая информация о налогоплательщике
A7: 1 | B7: БИН | C7: ='150.00'!C8:F8 -> 222222222222
A8: 2 | B8: Налоговый период, за который предоставляется налоговая отчетность: год | I8: ='150.00'!K10 -> 2021
B9: Регистр "ДОХОД ОТ УСТУПКИ ПРАВА ТРЕБОВАНИЯ" | J9: Форма 150.01 | K9: Форма 150.02 | L9: Форма 150.00
A10: № | B10: Наименование показателей | J10: Сумма (контрактная деятельность) | K10: Сумма (внеконтрактная деятельность) | L10: Сумма
B11: Дата | C11: БИН/ИИН | D11: Наименование организации / ФИО
A12: 1 | B12: Доход от уступки права требования, в том числе : (стр.2+стр.3) | J12: =J13+J17 -> 0 | K12: =K13+K17 -> 0 | L12: =L13+L17 -> 0
A13: 2 | B13: по приобретенному праву требования | J13: =SUM(J14:J16) -> 0 | K13: =SUM(K14:K16) -> 0 | L13: =SUM(L14:L16) -> 0
L14: =J14+K14 -> 0
L15: =J15+K15 -> 0
L16: =J16+K16 -> 0
A17: 3 | B17: по уступленному праву требования | J17: =SUM(J18:J20) -> 0 | K17: =SUM(K18:K20) -> 0 | L17: =SUM(L18:L20) -> 0
L18: =J18+K18 -> 0
L19: =J19+K19 -> 0
L20: =J20+K20 -> 0
A23: Примечание. | C23: строка 1 столбец J переносится в форму 150.01 в строку 150.01.005
C24: строка 1 столбец K переносится в форму 150.02 в строку 150.02.006
C25: строка 1 столбец L переносится в форму 150.00 в строку 150.00.006

Sheet № 7 доход от выб ФА
J2: Форма 100.00 | K2: Форма 100.00
D4: ДОХОД ОТ ВЫБЫТИЯ ФИКСИРОВАННЫХ АКТИВОВ
D6: Раздел. Общая информация о налогоплательщике
A8: 1 | B8: БИН | C8: ='150.00'!C8:F8 -> 222222222222
A9: 2 | B9: Налоговый период, за который предоставляется налоговая отчетность: год | H9: ='150.00'!K10 -> 2021
A11: № | B11: № группы | C11: Признак выбытия всех ФА из группы (1- да, 0- нет) | D11: Стоимостные балансы подгрупп (групп) на начало налогового периода | E11: Стоимость поступивших фиксированных активов подгруппы (группы) | F11: Стоимость последующих расходов, учитываемых в соответствии с п.3 статьи 122 НК | G11: Итого стоимостной баланс подгруппы (группы) с учетом стоимости поступивших фиксированных активов и последующих расходов (гр.3+гр.4+ гр.5) | H11: Стоимость выбывших фиксированных активов подгруппы (группы) | I11: Процент доли | J11: Доход от выбытия фиксированных активов гр.7-гр.6, если гр.7> гр.6 | K11: Убытки или вычеты от выбытия фиксированных активов гр.7-гр.6, если гр.7< гр.6
A12: подгруппа I группы
A13: 1 | B13: 2 | D13: 3 | E13: 4 | F13: 5 | G13: 6 | H13: 7 | J13: 8 | K13: 9
A14: 1 | B14: I | D14: =D15+D19+D23 -> 0 | E14: =E15+E19+E23 -> 0 | F14: =F15+F19+F23 -> 0 | G14: =D14+E14+F14 -> 0 | H14: =H15+H19+H23 -> 0 | J14: =J15+J19+J23 -> 0 | K14: =K15+K19+K23 -> 0
A15: контракт | D15: =SUM(D16:D18) -> 0 | E15: =SUM(E16:E18) -> 0 | F15: =SUM(F16:F18) -> 0 | G15: =D15+E15+F15 -> 0 | H15: =SUM(H16:H18) -> 0 | J15: =SUM(J16:J18) -> 0 | K15: =SUM(K16:K18) -> 0
C16: 1 | G16: =D16+E16+F16 -> 0 | J16: =IF(C16=1,IF(H16>G16,H16-G16,0),0) -> 0 | K16: =IF(C16=1,IF(H16<G16,-H16+G16,0),0) -> 0
C17: 1 | G17: =D17+E17+F17 -> 0 | J17: =IF(C17=1,IF(H17>G17,H17-G17,0),0) -> 0 | K17: =IF(C17=1,IF(H17<G17,-H17+G17,0),0) -> 0
C18: 1 | G18: =D18+E18+F18 -> 0 | J18: =IF(C18=1,IF(H18>G18,H18-G18,0),0) -> 0 | K18: =IF(C18=1,IF(H18<G18,-H18+G18,0),0) -> 0
A19: вне контракта | D19: =SUM(D20:D22) -> 0 | E19: =SUM(E20:E22) -> 0 | F19: =SUM(F20:F22) -> 0 | G19: =D19+E19+F19 -> 0 | H19: =SUM(H20:H22) -> 0 | J19: =SUM(J20:J22) -> 0 | K19: =SUM(K20:K22) -> 0
C20: 1 | G20: =D20+E20+F20 -> 0 | J20: =IF(C20=1,IF(H20>G20,H20-G20,0),0) -> 0 | K20: =IF(C20=1,IF(H20<G20,-H20+G20,0),0) -> 0
C21: 1 | G21: =D21+E21+F21 -> 0 | J21: =IF(C21=1,IF(H21>G21,H21-G21,0),0) -> 0 | K21: =IF(C21=1,IF(H21<G21,-H21+G21,0),0) -> 0
C22: 1 | G22: =D22+E22+F22 -> 0 | J22: =IF(C22=1,IF(H22>G22,H22-G22,0),0) -> 0 | K22: =IF(C22=1,IF(H22<G22,-H22+G22,0),0) -> 0
A23: общие | D23: =SUM(D24:D26) -> 0 | E23: =SUM(E24:E26) -> 0 | F23: =SUM(F24:F26) -> 0 | G23: =D23+E23+F23 -> 0 | H23: =SUM(H24:H26) -> 0 | J23: =SUM(J24:J26) -> 0 | K23: =SUM(K24:K26) -> 0
C24: 1 | G24: =D24+E24+F24 -> 0 | J24: =IF(C24=1,IF(H24>G24,H24-G24,0),0) -> 0 | K24: =IF(C24=1,IF(H24<G24,-H24+G24,0),0) -> 0
C25: 1 | G25: =D25+E25+F25 -> 0 | J25: =IF(C25=1,IF(H25>G25,H25-G25,0),0) -> 0 | K25: =IF(C25=1,IF(H25<G25,-H25+G25,0),0) -> 0
C26: 1 | G26: =D26+E26+F26 -> 0 | J26: =IF(C26=1,IF(H26>G26,H26-G26,0),0) -> 0 | K26: =IF(C26=1,IF(H26<G26,-H26+G26,0),0) -> 0
A27: 2 | B27: II | D27: =SUM(D28:D30) -> 0 | E27: =SUM(E28:E30) -> 0 | F27: =SUM(F28:F30) -> 0 | G27: =D27+E27+F27 -> 0 | H27: =SUM(H28:H30) -> 0 | J27: =SUM(J28:J30) -> 0 | K27: =SUM(K28:K30) -> 0
A28: контракт | C28: 1 | D28: ='150.05ФА контракт'!L15 -> 0 | E28: ='150.05ФА контракт'!L20 -> 0 | F28: ='150.05ФА контракт'!L30 -> 0 | G28: =D28+E28+F28 -> 0 | H28: ='150.05ФА контракт'!L25 -> 0 | J28: =IF(C28=1,IF(H28>G28,H28-G28,0),0) -> 0 | K28: =IF(C28=1,IF(H28<G28,-H28+G28,0),0) -> 0
A29: вне корнтракта | C29: 1 | D29: ='150.05 ФА внеконтрактная'!L15 -> 0 | E29: ='150.05 ФА внеконтрактная'!L20 -> 0 | F29: ='150.05 ФА внеконтрактная'!L30 -> 0 | G29: =D29+E29+F29 -> 0 | H29: ='150.05 ФА внеконтрактная'!L24 -> 0 | J29: =IF(C29=1,IF(H29>G29,H29-G29,0),0) -> 0 | K29: =IF(C29=1,IF(H29<G29,-H29+G29,0),0) -> 0
A30: общие | C30: 1 | D30: ='150.05 ФА общие'!K16 -> 0 | E30: ='150.05 ФА общие'!K21 -> 0 | F30: ='150.05 ФА общие'!K31 -> 0 | G30: =D30+E30+F30 -> 0 | H30: ='150.05 ФА общие'!K26 -> 0 | J30: =IF(C30=1,IF(H30>G30,H30-G30,0),0) -> 0 | K30: =IF(C30=1,IF(H30<G30,-H30+G30,0),0) -> 0
A31: 3 | B31: III | D31: =SUM(D32:D34) -> 0 | E31: =SUM(E32:E34) -> 0 | F31: =SUM(F32:F34) -> 0 | G31: =D31+E31+F31 -> 0 | H31: =SUM(H32:H34) -> 0 | J31: =SUM(J32:J34) -> 0 | K31: =SUM(K32:K34) -> 0
A32: контракт | C32: 1 | D32: ='150.05ФА контракт'!L16 -> 0 | E32: ='150.05ФА контракт'!L21 -> 0 | F32: ='150.05ФА контракт'!L31 -> 0 | G32: =D32+E32+F32 -> 0 | H32: ='150.05ФА контракт'!L26 -> 0 | J32: =IF(C32=1,IF(H32>G32,H32-G32,0),0) -> 0 | K32: =IF(C32=1,IF(H32<G32,-H32+G32,0),0) -> 0
A33: вне контракта | C33: 1 | D33: ='150.05 ФА внеконтрактная'!L16 -> 0 | E33: ='150.05 ФА внеконтрактная'!L21 -> 0 | F33: ='150.05 ФА внеконтрактная'!L31 -> 0 | G33: =D33+E33+F33 -> 0 | H33: ='150.05 ФА внеконтрактная'!L25 -> 0 | J33: =IF(C33=1,IF(H33>G33,H33-G33,0),0) -> 0 | K33: =IF(C33=1,IF(H33<G33,-H33+G33,0),0) -> 0
A34: общие | C34: 1 | D34: ='150.05 ФА общие'!K17 -> 0 | E34: ='150.05 ФА общие'!K22 -> 0 | F34: ='150.05 ФА общие'!K32 -> 0 | G34: =D34+E34+F34 -> 0 | H34: ='150.05 ФА общие'!K27 -> 0 | J34: =IF(C34=1,IF(H34>G34,H34-G34,0),0) -> 0 | K34: =IF(C34=1,IF(H34<G34,-H34+G34,0),0) -> 0
A35: 4 | B35: IV | D35: =SUM(D36:D38) -> 0 | E35: =SUM(E36:E38) -> 0 | F35: =SUM(F36:F38) -> 0 | G35: =D35+E35+F35 -> 0 | H35: =SUM(H36:H38) -> 0 | J35: =SUM(J36:J38) -> 0 | K35: =SUM(K36:K38) -> 0
A36: контракт | C36: 1 | D36: ='150.05ФА контракт'!L17 -> 0 | E36: ='150.05ФА контракт'!L22 -> 0 | F36: ='150.05ФА контракт'!L32 -> 0 | G36: =D36+E36+F36 -> 0 | H36: ='150.05ФА контракт'!L27 -> 0 | J36: =IF(C36=1,IF(H36>G36,H36-G36,0),0) -> 0 | K36: =IF(C36=1,IF(H36<G36,-H36+G36,0),0) -> 0
A37: вне контракта | C37: 1 | D37: ='150.05 ФА внеконтрактная'!L17 -> 0 | E37: ='150.05 ФА внеконтрактная'!L22 -> 0 | F37: ='150.05 ФА внеконтрактная'!L32 -> 0 | G37: =D37+E37+F37 -> 0 | H37: ='150.05 ФА внеконтрактная'!L26 -> 0 | J37: =IF(C37=1,IF(H37>G37,H37-G37,0),0) -> 0 | K37: =IF(C37=1,IF(H37<G37,-H37+G37,0),0) -> 0
A38: общие | C38: 1 | D38: ='150.05 ФА общие'!K18 -> 0 | E38: ='150.05 ФА общие'!K23 -> 0 | F38: ='150.05 ФА общие'!K33 -> 0 | G38: =D38+E38+F38 -> 0 | H38: ='150.05 ФА общие'!K28 -> 0 | J38: =IF(C38=1,IF(H38>G38,H38-G38,0),0) -> 0 | K38: =IF(C38=1,IF(H38<G38,-H38+G38,0),0) -> 0
A39: 5 | B39: ВСЕГО | J39: =J35+J31+J27+J14 -> 0 | K39: =K35+K31+K27+K14 -> 0
A40: контракт | D40: ='150.05ФА контракт'!L21 -> 0 | E40: ='150.05ФА контракт'!L26 -> 0 | F40: ='150.05ФА контракт'!L36 -> 0 | G40: =D40+E40+F40 -> 0 | H40: ='150.05ФА контракт'!L31 -> 0 | J40: =J15+J28+J32+J36 -> 0 | K40: =K15+K28+K32+K36 -> 0
A41: вне контракта | D41: ='150.05 ФА внеконтрактная'!L21 -> 0 | E41: ='150.05 ФА внеконтрактная'!L26 -> 0 | F41: ='150.05 ФА внеконтрактная'!L36 -> 0 | G41: =D41+E41+F41 -> 0 | H41: ='150.05 ФА внеконтрактная'!L30 -> 0 | J41: =J19+J29+J33+J37 -> 0 | K41: =K19+K29+K33+K37 -> 0
A42: общие | D42: ='150.05 ФА общие'!K22 -> 0 | E42: ='150.05 ФА общие'!K27 -> 0 | F42: ='150.05 ФА общие'!K37 -> 0 | G42: =D42+E42+F42 -> 0 | H42: ='150.05 ФА общие'!K32 -> 0 | J42: =J20+J30+J34+J38 -> 0 | K42: =K20+K30+K34+K38 -> 0
A43: общие контракт | G43: =D43+E43+F43 -> 0 | I43: 0.98 | J43: =J42*I43 -> 0 | K43: =K42*I43 -> 0
A44: общие вне контракта | G44: =D44+E44+F44 -> 0 | I44: 0.02 | J44: =J43*I44 -> 0 | K44: =K42*I44 -> 0
A47: Примечание. | D47: сумма дохода по строке 5 контракт по графе 8 и по строке 5 общие контракт по графе 8 переносится в форму 150.01 в строку 150.01.006
...

Sheet № 8 доход от корректировки
I2: Форма 150.00
B3: Доход от корректировки расходов на геологическое изучение и подготовительные работы к добыче природных ресурсов, а также других расходов недропользователя
B5: Раздел. Общая информация о налогоплательщике
A7: 1 | B7: БИН | C7: ='150.00'!C8:F8 -> 222222222222
A8: 2 | B8: Налоговый период, за который предоставляется налоговая отчетность: год | I8: ='150.00'!K10 -> 2021
H9: Форма 150.01 | I9: Форма 150.00
A10: № | B10: Сумма расходов на геологическое изучение и подготовительные работы к добыче природных ресурсов, а также других расходов недропользователя | H10: Доход от корректировки по контракту | I10: Доход от корректировки
A11: 1 | B11: на начало периода | D11: за текущий налоговый период | F11: на конец периода
F12: =B12+D12 -> 0
A13: 2 | B13: Доходы, корректирующие расходы на геологическое изучение и подготовительные работы к добыче природных ресурсов
B14: Дата | C14: БИН | D14: Наименование организации | F14: Виды доходов | G14: Сумма доходов
A27: 9 | B27: Итого расходов | G27: =SUM(G15:G26) -> 0 | H27: =IF(G27<F12,0,G27-F12) -> 0 | I27: =H27 -> 0
A30: Примечание. | C30: строка 9 столбец H переносится в форму 150.01 в строку 150.01.007
C31: строка 9 столбец I переносится в форму 150.00 в строку 150.00.008

Sheet № 9 превышение отчислений
I2: Форма 150.00
B3: ДОХОД ОТ ПРЕВЫШЕНИЯ СУММЫ ОТЧИСЛЕНИЙ В ФОНД ЛИКВИДАЦИИ ПОСЛЕДСТВИЙ РАЗРАБОТКИ МЕСТОРОЖДЕНИЙ НАД СУММОЙ ФАКТИЧЕСКИХ РАСХОДОВ ПО ЛИКВИДАЦИИ ПОСЛЕДСТВИЙ РАЗРАБОТКИ МЕСТОРОЖДЕНИЙ
B5: Раздел. Общая информация о налогоплательщике
A7: 1 | B7: БИН | C7: ='150.00'!C8:F8 -> 222222222222
A8: 2 | B8: Налоговый период, за который предоставляется налоговая отчетность: год | I8: ='150.00'!K10 -> 2021
H9: Форма 150.01 | I9: Форма 150.00
A10: № | B10: Сумма отчислений в фонд ликвидации | H10: Доход от превышения по контракту | I10: Доход от превышения
A11: 1 | B11: Сумма отчислений в фонд ликвидации на начало периода | D11: Отчисления в налоговом периоде | F11: Сумма отчислений в фонд ликвидации на конец периода
F12: =B12+D12 -> 0
A13: 2 | B13: Фактические расходы по ликвидации последствий разработки месторождений
B14: Дата | C14: БИН | D14: Наименование организации | F14: Виды работ | G14: Сумма расходов
A27: 9 | B27: Итого расходов | G27: =SUM(G15:G26) -> 0 | H27: =IF(G27<F12,F12-G27,0) -> 0 | I27: =H27 -> 0
A30: Примечание. | C30: строка 9 столбец H переносится в форму 150.01 в строку 150.01.008
C31: строка 9 столбец I переносится в форму 150.00 в строку 150.00.009

Sheet № 10 нецелевое использование
I2: Форма 150.00
B3: Размер нецелевого использования средств ликвидационного фонда недропользователем
B5: Раздел. Общая информация о налогоплательщике
A7: 1 | B7: БИН | C7: ='150.00'!C8:F8 -> 222222222222
A8: 2 | B8: Налоговый период, за который предоставляется налоговая отчетность: год | I8: ='150.00'!K10 -> 2021
H9: Форма 150.01 | I9: Форма 150.00
A10: № | B10: Сумма отчислений в фонд ликвидации | H10: Нецелевое использование средств ликвидационного фонда недропользователем | I10: Нецелевое использование средств ликвидационного фонда недропользователем
