Workbook
Name _SUB100: введ!$A$3
Name sub1002163307: введ!$A$4

Sheet введ
B3: Уважаемые пользователи ИС §«Бухгалтер»!
B6: Данная форма призвана оказать Вам помощь при заполнении упрощенной декларации для субъектов малого бизнеса ИП по форме 910.00 за полугодие 2021 года. В форме № 910 Декларации ничего заполнять вручную не надо, все данные заполняются автомотически из приложений №1, №2.1, №2.2, №2.3, №2.4, №2.5, №2.6, №3. В приложениях нужно заполнять только те строки, которые выделены желтым цветом, все остальное считается автоматически.
B10: Справочник
B11: МЗП = | C11: 42500 | E11: тенге
B12: Доход для ОПВ max = | C12: 2125000 | E12: тенге
B13: ОПВ max = | C13: =C12*0.1 -> 212500 | E13: тенге
B14: Доход для СО max = | C14: 297500 | E14: тенге
B15: ставка для СО= | C15: 0.035
B16: СО max = | C16: =C14*C15 -> 10412.5 | E16: тенге
B17: Доход для ОСМС отчислений max = | C17: 425000
B18: ставка для ООСМС= | C18: 0.02
B19: ООСМС max = | C19: =C17*C18 -> 8500
B20: Месячный расчетный показатель = | C20: 2917 | E20: тенге
B21: Доход для взносов ОСМС max = | C21: 425000
B22: ставка для ВОСМС= | C22: 0.02
B23: ООСМС max = | C23: =C21*C22 -> 8500

Sheet 910.00
N2: Форма 910.00
B4: УПРОЩЕННАЯ ДЕКЛАРАЦИЯ ДЛЯ СУБЪЕКТОВ МАЛОГО БИЗНЕСА (910.00) за полугодие 2021 года для ТОО
B6: Раздел. Общая информация о налогоплательщике
A8: 1 | B8: ИИН (БИН) | D8: 111111111111
A10: 2 | B10: Ф.И.О. или наименование налогоплательщика | J10: ТОО ААА
A12: 3 | B12: Налоговый период, за который представляется налоговая отчетность: | J12: полугодие | L12: 1 | N12: год | O12: 2021
A14: 4 | B14: Категория налогоплательщика | E14: (укажите | F14: Х | I14: в соответствующей ячейке)
C16: А | D16: доверительный управляющий в соответствии со статьей 40 Налогового кодекса | M16: С | N16: ведет бухгалтерский учет в соответствии с пунктом 2 статьи 2 Закона РК "О бухгалтерском учете и финансовой отчетности" | P16: х
C18: В | D18: учредитель доверительного управления в соответствии со статьей 40 Налогового кодекса | M18: D | N18: не ведет бухгалтерский учет в соответствии с пунктом 2 статьи 2 Закона РК "О бухгалтерском учете и финансовой отчетности"
A20: 5 | B20: Вид декларации | D20: (укажите | E20: Х | G20: в соответствующей ячейке)
B22: первоначальная | E22: очередная | H22: дополнительная | J22: дополнительная по уведомлению | N22: ликвидационная
A23: 6 | B23: Трехкомпонентная интегрированная система (в случае наличия, укажите Х в ячейке):
A24: А | B24: Укажите наименование трехкомпонентной интегрированной системы:
A26: В | B26: номер регистрационной карточки
A27: С | B27: дата постановки на учет
A29: 7 | B29: Номер и дата уведомления (заполняется в случае представления дополнительной декларации по уведомлению)
C31: А | D31: номер | M31: В | N31: Дата
A34: 8 | B34: Код валюты | D34: KZT
A36: 9 | B36: Признак резидентства: | E36: А | G36: резидент РК | J36: X | N36: В | O36: нерезидент РК
B37: (укажите | C37: Х | E37: в соответствующей ячейке)
A38: 10 | B38: Представленные приложения (укажите Х в соответствующей ячейке) | K38: 01 | L38: 02
A39: Раздел. Исчисление налогов
A41: Код строки | C41: Наименование показателей | M41: Сумма
A42: 910.00.001 | C42: Доход | M42: =дохТОО!C21 -> 56958000
C44: A | D44: доходы полученные путем безналичных расчетов | M44: 51958000
D45: I | E45: в том числе, с применением трехкомпонентной системы | M45: 0
C46: B | D46: доходы полученные путем наличных расчетов | M46: 5000000
D47: I | E47: в том числе, с применением трехкомпонентной системы | M47: 0
A48: 910.00.002 | C48: в том числе доход от корректировки в соответствии с Законом о трансферном ценообразовании
A50: 910.00.003 | C50: Среднемесячная численность работников | M50: =ROUND(('2.1'!W26+'2.2'!W26+'2.3'!W26+'2.4'!W26+'2.5'!W26+'2.6'!W26)/6,0) -> 3
C52: А | D52: пенсионеры | M52: =ROUND(('2.1'!O26+'2.2'!N25+'2.3'!M25+'2.4'!M25+'2.5'!M25+'2.6'!M25)/6,0) -> 0 | Q52: указывается среднесписочная численность работников-пенсионеров
C54: В | D54: инвалиды | Q54: указывается среднесписочная численность работников-инвалидов
A56: 910.00.004 | C56: Среднемесячная заработная плата на одного работника (2.1+2.2+2.3+2.4+2.5+2.6)/6 | M56: =('2.1'!AD26+'2.2'!AD26+'2.3'!AD26+'2.4'!AD26+'2.5'!AD26+'2.6'!AD26)/6 -> 205833.33
A58: 910.00.005 | C58: Сумма исчисленных налогов (910.00.001*3%) | M58: =ROUND(M42*3%,0) -> 1708740
A60: 910.00.006 | C60: Корректировка суммы налогов в соответствии с пунктом 2 статьи 687 Налогового кодекса | M60: =ROUND((IF(M56>=23*введ!C20,M58*(M50)*0.015,0)),0) -> 76893
A62: 910.00.007 | C62: Сумма налогов после корректировки (910.00.005-910.00.006) | M62: =M58-M60 -> 1631847
A64: 910.00.008 | C64: Сумма индивидуального (корпоративного) подоходного налога, подлежащего уплате в бюджет (910.00.007*0,5) | M64: =ROUND(M62*0.5,0) -> 815924
A66: 910.00.009 | C66: Сумма социального налога, подлежащего уплате в бюджет ((910.00.007*0,5)-910.00.011 VII-910.00.018 VII) | M66: =ROUND((IF((M62*0.5-M135)>0,M62*0.5-M135,0)),0) -> 723629 | Q66: Если в 2020-2022 гг. ТОО вправе уменьшить сумму КПН и социального налога, исчисленных в соответствии со статьей 687 Налогового кодекса на основании статьи 57-4 Закона РК от 25 декабря 2017 года № 121-VI «О введении в действие Кодекса РК «О налогах и других обязательных платежах в бюджет» (Налоговый кодекс)», то в строках 910.00.008, 910.00.009, 910.00.011 будут указываться нулевые суммы КПН и социального налога.
A68: 910.00.010 | C68: Уменьшение индивидуальным предпринимателем суммы ИПН, подлежащего уплате в бюджет в соответствии с пунктом 2-1 статьи 687 Налогового кодекса (на сумму 60 000 тенге, но не более чем на 50 процентов от исчисленной суммы ИПН) за текущий календарный год
A70: 910.00.011 | C70: Сумма КПН (ИПН), подлежащего уплате в бюджет за налоговый период, 910.00.008-910.00.010 | M70: =M64-M68 -> 815924
...

Sheet дохТОО
F2: Форма 910.00
B3: Реализация товаров, выполнение работ, оказание услуг
B5: Раздел. Общая информация о налогоплательщике
A7: 1 | B7: ИИН (БИН) | C7: ='910.00'!D8 -> 111111111111
A8: 2 | B8: Налоговый период, за который предоставляется налоговая отчетность: полугодие | F8: ='910.00'!L12 -> 1 | G8: год | H8: ='910.00'!O12 -> 2021
B12: период | C12: реализация товаров | D12: выполнение работ, оказание услуг | E12: прочий доход
B13: 1 | C13: 2 | D13: 3 | E13: 4
A14: 1 | B14: 1 месяц полугодия
A15: 2 | B15: 2 месяц полугодия
A16: 2 | B16: 3 месяц полугодия
A17: 4 | B17: 4 месяц полугодия
A18: 5 | B18: 5 месяц полугодия
A19: 6 | B19: 6 месяц полугодия | C19: 54458000 | D19: 2500000
A20: 13 | B20: Итого | C20: =SUM(C14:C19) -> 54458000 | D20: =SUM(D14:D19) -> 2500000 | E20: =SUM(E14:E19) -> 0
A21: 14 | B21: Итого | C21: =C20+D20+E20 -> 56958000
B24: Ограничения по доходам согласно п. 2 ст.683 НК | C24: =24038*введ!C20 -> 70118846 | E24: =IF(C21<24038*введ!C20,"Может применять текущий налоговый режим","НЕОБХОДИМО СМЕНИТЬ НАЛОГОВЫЙ РЕЖИМ!!!!") -> Может применять текущий налоговый режим
A30: (Ф.И.О., подпись руководителя (налогоплательщика), печать)
A33: (Ф.И.О., подпись главного бухгалтера )
A36: (Дата составления налогового регистра)
A39: Примечание. | C39: строка итого переносится в 910.00 по строке 910.00.001

Sheet 2.1
V1: Форма 910.00
A4: Наименование налогоплательщика
A6: 1 | B6: РНН
A7: 2 | B7: ИИН (БИН) | E7: ='910.00'!D8 -> 111111111111
A8: 3 | B8: Налоговый период: месяц Год | E8: =IF('910.00'!L12=1,"январь","июль") -> январь | H8: ='910.00'!O12 -> 2021
A10: Налоговый регистр: "Начисленные доходы работникам для целей налогообложения в первом месяце полугодия"
A13: № п/п | B13: Ф.И.О. работника | C13: Признак резиденства: гражданин РК - 1; иностранный гражданин резидент - 2; иностранный гражданин нерезидент - 3; гражданин ЕАЭС - 4 | D13: начисленный доход | E13: примененный вычет 1 МЗП | F13: вычет взносов ОСМС | G13: прочие стандартные вычеты | H13: прочие вычеты | I13: Доходы, не облагаемые ИПН (корректировка) | J13: Доходы, облагаемые ИПН | K13: Индивидуальный подоходный налог с доходов граждан РК | L13: Индивидуальный подоходный налог с доходов иностранцев и лиц без гражданства | M13: Доходы, не облагаемые ОПВ | N13: Доход для исчисления обязательных пенсионных взносов | O13: Пенсионер (если да, то нужно поставить 1) | P13: Обязательные пенсионные взносы | Q13: Доходы не облагаемые СО | R13: Предварительный расчет объекта для исчисления СО | S13: Доход для исчисления социальных отчислений | T13: Обязательные социальные отчисления | U13: Доход для исчисления обязательных профессиональных пенсионных взносов | V13: Обязательные профессиональные пенсионные взносы | W13: Численность работников | X13: Доходы не принимаемые для исчисления ОСМС | Z13: Предварительный расчет объекта для исчисления ОСМС | AA13: Доходы принимаемые для исчисления ОСМС | AB13: Сумма отчислений на обязательное социальное медицинское страхование, к уплате | AC13: Сумма взносов на обязательное социальное медицинское страхование, к уплате | AD13: Среднемесячная заработная плата на одного работника | AE13: Доход граждане РК | AF13: Доход иностранцев
A14: 1 | B14: иванов | C14: 1 | D14: 250000 | E14: =IF(C14>=3,0,IF((D14-P14)>введ!C$11,введ!C$11,IF((D14-P14)<=введ!C$11,D14-P14,0))) -> 42500 | F14: =IF(AC14>0,AC14,0) -> 5000 | J14: =IF(C14>=3,D14-I14,D14-I14-E14-P14-F14-H14-G14) -> 177500 | K14: =IF(C14=0,0,IF(C14>1,0,IF(D14<=введ!C$20*25,J14/100,J14/10))) -> 17750 | L14: =IF(C14=0,0,IF(C14=1,0,IF(C14>=3,J14/10,IF(C14=2,IF(D14<=введ!C$20*25,J14/100,J14/10))))) -> 0 | N14: =IF(C14=3,0,IF(O14=1,0,D14-M14)) -> 250000 | P14: =N14*10% -> 25000 | R14: =IF(C14=3,0,IF(O14=1,0,D14-P14-Q14)) -> 225000 | S14: =IF(OR(R14<=0,),0,MIN(MAX(введ!$C$11,R14),введ!$C$14)) -> 225000 | T14: =ROUND(S14*введ!C$15,0) -> 7875 | V14: =ROUND(U14*0.05,0) -> 0 | W14: =IF(D14=0,0,1) -> 1 | Z14: =IF(C14=3,0,IF(O14=1,0,D14-X14)) -> 250000 | AA14: =IF(OR(Z14<=0,),0,MIN(MIN(введ!$C$17,Z14),введ!$C$17)) -> 250000 | AB14: =AA14*введ!C$18 -> 5000 | AC14: =AA14*введ!C$22 -> 5000 | AE14: =IF(C14=1,D14,0) -> 250000 | AF14: =IF(C14>1,D14,0) -> 0
A15: 2 | B15: петров | C15: 1 | D15: 180000 | E15: =IF(C15>=3,0,IF((D15-P15)>введ!C$11,введ!C$11,IF((D15-P15)<=введ!C$11,D15-P15,0))) -> 42500 | F15: =IF(AC15>0,AC15,0) -> 3600 | J15: =IF(C15>=3,D15-I15,D15-I15-E15-P15-F15-H15-G15) -> 115900 | K15: =IF(C15=0,0,IF(C15>1,0,IF(D15<=введ!C$20*25,J15/100,J15/10))) -> 11590 | L15: =IF(C15=0,0,IF(C15=1,0,IF(C15>=3,J15/10,IF(C15=2,IF(D15<=введ!C$20*25,J15/100,J15/10))))) -> 0 | N15: =IF(C15=3,0,IF(O15=1,0,D15-M15)) -> 180000 | P15: =N15*10% -> 18000 | R15: =IF(C15=3,0,IF(O15=1,0,D15-P15-Q15)) -> 162000 | S15: =IF(OR(R15<=0,),0,MIN(MAX(введ!$C$11,R15),введ!$C$14)) -> 162000 | T15: =ROUND(S15*введ!C$15,0) -> 5670 | V15: =ROUND(U15*0.05,0) -> 0 | W15: =IF(D15=0,0,1) -> 1 | Z15: =IF(C15=3,0,IF(O15=1,0,D15-X15)) -> 180000 | AA15: =IF(OR(Z15<=0,),0,MIN(MIN(введ!$C$17,Z15),введ!$C$17)) -> 180000 | AB15: =AA15*введ!C$18 -> 3600 | AC15: =AA15*введ!C$22 -> 3600 | AE15: =IF(C15=1,D15,0) -> 180000 | AF15: =IF(C15>1,D15,0) -> 0
A16: 3 | B16: сид | C16: 3 | D16: 200000 | E16: =IF(C16>=3,0,IF((D16-P16)>введ!C$11,введ!C$11,IF((D16-P16)<=введ!C$11,D16-P16,0))) -> 0 | F16: =IF(AC16>0,AC16,0) -> 0 | J16: =IF(C16>=3,D16-I16,D16-I16-E16-P16-F16-H16-G16) -> 200000 | K16: =IF(C16=0,0,IF(C16>1,0,IF(D16<=введ!C$20*25,J16/100,J16/10))) -> 0 | L16: =IF(C16=0,0,IF(C16=1,0,IF(C16>=3,J16/10,IF(C16=2,IF(D16<=введ!C$20*25,J16/100,J16/10))))) -> 20000 | N16: =IF(C16=3,0,IF(O16=1,0,D16-M16)) -> 0 | P16: =N16*10% -> 0 | R16: =IF(C16=3,0,IF(O16=1,0,D16-P16-Q16)) -> 0 | S16: =IF(OR(R16<=0,),0,MIN(MAX(введ!$C$11,R16),введ!$C$14)) -> 0 | T16: =ROUND(S16*введ!C$15,0) -> 0 | V16: =ROUND(U16*0.05,0) -> 0 | W16: =IF(D16=0,0,1) -> 1 | Z16: =IF(C16=3,0,IF(O16=1,0,D16-X16)) -> 0 | AA16: =IF(OR(Z16<=0,),0,MIN(MIN(введ!$C$17,Z16),введ!$C$17)) -> 0 | AB16: =AA16*введ!C$18 -> 0 | AC16: =AA16*введ!C$22 -> 0 | AE16: =IF(C16=1,D16,0) -> 0 | AF16: =IF(C16>1,D16,0) -> 200000
A17: 4 | E17: =IF(C17>=3,0,IF((D17-P17)>введ!C$11,введ!C$11,IF((D17-P17)<=введ!C$11,D17-P17,0))) -> 0 | F17: =IF(AC17>0,AC17,0) -> 0 | J17: =IF(C17>=3,D17-I17,D17-I17-E17-P17-F17-H17-G17) -> 0 | K17: =IF(C17=0,0,IF(C17>1,0,IF(D17<=введ!C$20*25,J17/100,J17/10))) -> 0 | L17: =IF(C17=0,0,IF(C17=1,0,IF(C17>=3,J17/10,IF(C17=2,IF(D17<=введ!C$20*25,J17/100,J17/10))))) -> 0 | N17: =IF(C17=3,0,IF(O17=1,0,D17-M17)) -> 0 | P17: =N17*10% -> 0 | R17: =IF(C17=3,0,IF(O17=1,0,D17-P17-Q17)) -> 0 | S17: =IF(OR(R17<=0,),0,MIN(MAX(введ!$C$11,R17),введ!$C$14)) -> 0 | T17: =ROUND(S17*введ!C$15,0) -> 0 | V17: =ROUND(U17*0.05,0) -> 0 | W17: =IF(D17=0,0,1) -> 0 | Z17: =IF(C17=3,0,IF(O17=1,0,D17-X17)) -> 0 | AA17: =IF(OR(Z17<=0,),0,MIN(MIN(введ!$C$17,Z17),введ!$C$17)) -> 0 | AB17: =AA17*введ!C$18 -> 0 | AC17: =AA17*введ!C$22 -> 0 | AE17: =IF(C17=1,D17,0) -> 0 | AF17: =IF(C17>1,D17,0) -> 0
A18: 5 | E18: =IF(C18>=3,0,IF((D18-P18)>введ!C$11,введ!C$11,IF((D18-P18)<=введ!C$11,D18-P18,0))) -> 0 | F18: =IF(AC18>0,AC18,0) -> 0 | J18: =IF(C18>=3,D18-I18,D18-I18-E18-P18-F18-H18-G18) -> 0 | K18: =IF(C18=0,0,IF(C18>1,0,IF(D18<=введ!C$20*25,J18/100,J18/10))) -> 0 | L18: =IF(C18=0,0,IF(C18=1,0,IF(C18>=3,J18/10,IF(C18=2,IF(D18<=введ!C$20*25,J18/100,J18/10))))) -> 0 | N18: =IF(C18=3,0,IF(O18=1,0,D18-M18)) -> 0 | P18: =N18*10% -> 0 | R18: =IF(C18=3,0,IF(O18=1,0,D18-P18-Q18)) -> 0 | S18: =IF(OR(R18<=0,),0,MIN(MAX(введ!$C$11,R18),введ!$C$14)) -> 0 | T18: =ROUND(S18*введ!C$15,0) -> 0 | V18: =ROUND(U18*0.05,0) -> 0 | W18: =IF(D18=0,0,1) -> 0 | Z18: =IF(C18=3,0,IF(O18=1,0,D18-X18)) -> 0 | AA18: =IF(OR(Z18<=0,),0,MIN(MIN(введ!$C$17,Z18),введ!$C$17)) -> 0 | AB18: =AA18*введ!C$18 -> 0 | AC18: =AA18*введ!C$22 -> 0 | AE18: =IF(C18=1,D18,0) -> 0 | AF18: =IF(C18>1,D18,0) -> 0
A19: 6 | E19: =IF(C19>=3,0,IF((D19-P19)>введ!C$11,введ!C$11,IF((D19-P19)<=введ!C$11,D19-P19,0))) -> 0 | F19: =IF(AC19>0,AC19,0) -> 0 | J19: =IF(C19>=3,D19-I19,D19-I19-E19-P19-F19-H19-G19) -> 0 | K19: =IF(C19=0,0,IF(C19>1,0,IF(D19<=введ!C$20*25,J19/100,J19/10))) -> 0 | L19: =IF(C19=0,0,IF(C19=1,0,IF(C19>=3,J19/10,IF(C19=2,IF(D19<=введ!C$20*25,J19/100,J19/10))))) -> 0 | N19: =IF(C19=3,0,IF(O19=1,0,D19-M19)) -> 0 | P19: =N19*10% -> 0 | R19: =IF(C19=3,0,IF(O19=1,0,D19-P19-Q19)) -> 0 | S19: =IF(OR(R19<=0,),0,MIN(MAX(введ!$C$11,R19),введ!$C$14)) -> 0 | T19: =ROUND(S19*введ!C$15,0) -> 0 | V19: =ROUND(U19*0.05,0) -> 0 | W19: =IF(D19=0,0,1) -> 0 | Z19: =IF(C19=3,0,IF(O19=1,0,D19-X19)) -> 0 | AA19: =IF(OR(Z19<=0,),0,MIN(MIN(введ!$C$17,Z19),введ!$C$17)) -> 0 | AB19: =AA19*введ!C$18 -> 0 | AC19: =AA19*введ!C$22 -> 0 | AE19: =IF(C19=1,D19,0) -> 0 | AF19: =IF(C19>1,D19,0) -> 0
A20: 7 | E20: =IF(C20>=3,0,IF((D20-P20)>введ!C$11,введ!C$11,IF((D20-P20)<=введ!C$11,D20-P20,0))) -> 0 | F20: =IF(AC20>0,AC20,0) -> 0 | J20: =IF(C20>=3,D20-I20,D20-I20-E20-P20-F20-H20-G20) -> 0 | K20: =IF(C20=0,0,IF(C20>1,0,IF(D20<=введ!C$20*25,J20/100,J20/10))) -> 0 | L20: =IF(C20=0,0,IF(C20=1,0,IF(C20>=3,J20/10,IF(C20=2,IF(D20<=введ!C$20*25,J20/100,J20/10))))) -> 0 | N20: =IF(C20=3,0,IF(O20=1,0,D20-M20)) -> 0 | P20: =N20*10% -> 0 | R20: =IF(C20=3,0,IF(O20=1,0,D20-P20-Q20)) -> 0 | S20: =IF(OR(R20<=0,),0,MIN(MAX(введ!$C$11,R20),введ!$C$14)) -> 0 | T20: =ROUND(S20*введ!C$15,0) -> 0 | V20: =ROUND(U20*0.05,0) -> 0 | W20: =IF(D20=0,0,1) -> 0 | Z20: =IF(C20=3,0,IF(O20=1,0,D20-X20)) -> 0 | AA20: =IF(OR(Z20<=0,),0,MIN(MIN(введ!$C$17,Z20),введ!$C$17)) -> 0 | AB20: =AA20*введ!C$18 -> 0 | AC20: =AA20*введ!C$22 -> 0 | AE20: =IF(C20=1,D20,0) -> 0 | AF20: =IF(C20>1,D20,0) -> 0
A21: 8 | E21: =IF(C21>=3,0,IF((D21-P21)>введ!C$11,введ!C$11,IF((D21-P21)<=введ!C$11,D21-P21,0))) -> 0 | F21: =IF(AC21>0,AC21,0) -> 0 | J21: =IF(C21>=3,D21-I21,D21-I21-E21-P21-F21-H21-G21) -> 0 | K21: =IF(C21=0,0,IF(C21>1,0,IF(D21<=введ!C$20*25,J21/100,J21/10))) -> 0 | L21: =IF(C21=0,0,IF(C21=1,0,IF(C21>=3,J21/10,IF(C21=2,IF(D21<=введ!C$20*25,J21/100,J21/10))))) -> 0 | N21: =IF(C21=3,0,IF(O21=1,0,D21-M21)) -> 0 | P21: =N21*10% -> 0 | R21: =IF(C21=3,0,IF(O21=1,0,D21-P21-Q21)) -> 0 | S21: =IF(OR(R21<=0,),0,MIN(MAX(введ!$C$11,R21),введ!$C$14)) -> 0 | T21: =ROUND(S21*введ!C$15,0) -> 0 | V21: =ROUND(U21*0.05,0) -> 0 | W21: =IF(D21=0,0,1) -> 0 | Z21: =IF(C21=3,0,IF(O21=1,0,D21-X21)) -> 0 | AA21: =IF(OR(Z21<=0,),0,MIN(MIN(введ!$C$17,Z21),введ!$C$17)) -> 0 | AB21: =AA21*введ!C$18 -> 0 | AC21: =AA21*введ!C$22 -> 0 | AE21: =IF(C21=1,D21,0) -> 0 | AF21: =IF(C21>1,D21,0) -> 0
A22: 9 | E22: =IF(C22>=3,0,IF((D22-P22)>введ!C$11,введ!C$11,IF((D22-P22)<=введ!C$11,D22-P22,0))) -> 0 | F22: =IF(AC22>0,AC22,0) -> 0 | J22: =IF(C22>=3,D22-I22,D22-I22-E22-P22-F22-H22-G22) -> 0 | K22: =IF(C22=0,0,IF(C22>1,0,IF(D22<=введ!C$20*25,J22/100,J22/10))) -> 0 | L22: =IF(C22=0,0,IF(C22=1,0,IF(C22>=3,J22/10,IF(C22=2,IF(D22<=введ!C$20*25,J22/100,J22/10))))) -> 0 | N22: =IF(C22=3,0,IF(O22=1,0,D22-M22)) -> 0 | P22: =N22*10% -> 0 | R22: =IF(C22=3,0,IF(O22=1,0,D22-P22-Q22)) -> 0 | S22: =IF(OR(R22<=0,),0,MIN(MAX(введ!$C$11,R22),введ!$C$14)) -> 0 | T22: =ROUND(S22*введ!C$15,0) -> 0 | V22: =ROUND(U22*0.05,0) -> 0 | W22: =IF(D22=0,0,1) -> 0 | Z22: =IF(C22=3,0,IF(O22=1,0,D22-X22)) -> 0 | AA22: =IF(OR(Z22<=0,),0,MIN(MIN(введ!$C$17,Z22),введ!$C$17)) -> 0 | AB22: =AA22*введ!C$18 -> 0 | AC22: =AA22*введ!C$22 -> 0 | AE22: =IF(C22=1,D22,0) -> 0 | AF22: =IF(C22>1,D22,0) -> 0
A23: 10 | E23: =IF(C23>=3,0,IF((D23-P23)>введ!C$11,введ!C$11,IF((D23-P23)<=введ!C$11,D23-P23,0))) -> 0 | F23: =IF(AC23>0,AC23,0) -> 0 | J23: =IF(C23>=3,D23-I23,D23-I23-E23-P23-F23-H23-G23) -> 0 | K23: =IF(C23=0,0,IF(C23>1,0,IF(D23<=введ!C$20*25,J23/100,J23/10))) -> 0 | L23: =IF(C23=0,0,IF(C23=1,0,IF(C23>=3,J23/10,IF(C23=2,IF(D23<=введ!C$20*25,J23/100,J23/10))))) -> 0 | N23: =IF(C23=3,0,IF(O23=1,0,D23-M23)) -> 0 | P23: =N23*10% -> 0 | R23: =IF(C23=3,0,IF(O23=1,0,D23-P23-Q23)) -> 0 | S23: =IF(OR(R23<=0,),0,MIN(MAX(введ!$C$11,R23),введ!$C$14)) -> 0 | T23: =ROUND(S23*введ!C$15,0) -> 0 | V23: =ROUND(U23*0.05,0) -> 0 | W23: =IF(D23=0,0,1) -> 0 | Z23: =IF(C23=3,0,IF(O23=1,0,D23-X23)) -> 0 | AA23: =IF(OR(Z23<=0,),0,MIN(MIN(введ!$C$17,Z23),введ!$C$17)) -> 0 | AB23: =AA23*введ!C$18 -> 0 | AC23: =AA23*введ!C$22 -> 0 | AE23: =IF(C23=1,D23,0) -> 0 | AF23: =IF(C23>1,D23,0) -> 0
A24: 11 | E24: =IF(C24>=3,0,IF((D24-P24)>введ!C$11,введ!C$11,IF((D24-P24)<=введ!C$11,D24-P24,0))) -> 0 | F24: =IF(AC24>0,AC24,0) -> 0 | J24: =IF(C24>=3,D24-I24,D24-I24-E24-P24-F24-H24-G24) -> 0 | K24: =IF(C24=0,0,IF(C24>1,0,IF(D24<=введ!C$20*25,J24/100,J24/10))) -> 0 | L24: =IF(C24=0,0,IF(C24=1,0,IF(C24>=3,J24/10,IF(C24=2,IF(D24<=введ!C$20*25,J24/100,J24/10))))) -> 0 | N24: =IF(C24=3,0,IF(O24=1,0,D24-M24)) -> 0 | P24: =N24*10% -> 0 | R24: =IF(C24=3,0,IF(O24=1,0,D24-P24-Q24)) -> 0 | S24: =IF(OR(R24<=0,),0,MIN(MAX(введ!$C$11,R24),введ!$C$14)) -> 0 | T24: =ROUND(S24*введ!C$15,0) -> 0 | V24: =ROUND(U24*0.05,0) -> 0 | W24: =IF(D24=0,0,1) -> 0 | Z24: =IF(C24=3,0,IF(O24=1,0,D24-X24)) -> 0 | AA24: =IF(OR(Z24<=0,),0,MIN(MIN(введ!$C$17,Z24),введ!$C$17)) -> 0 | AB24: =AA24*введ!C$18 -> 0 | AC24: =AA24*введ!C$22 -> 0 | AE24: =IF(C24=1,D24,0) -> 0 | AF24: =IF(C24>1,D24,0) -> 0
A25: 12 | E25: =IF(C25>=3,0,IF((D25-P25)>введ!C$11,введ!C$11,IF((D25-P25)<=введ!C$11,D25-P25,0))) -> 0 | F25: =IF(AC25>0,AC25,0) -> 0 | J25: =IF(C25>=3,D25-I25,D25-I25-E25-P25-F25-H25-G25) -> 0 | K25: =IF(C25=0,0,IF(C25>1,0,IF(D25<=введ!C$20*25,J25/100,J25/10))) -> 0 | L25: =IF(C25=0,0,IF(C25=1,0,IF(C25>=3,J25/10,IF(C25=2,IF(D25<=введ!C$20*25,J25/100,J25/10))))) -> 0 | N25: =IF(C25=3,0,IF(O25=1,0,D25-M25)) -> 0 | P25: =N25*10% -> 0 | R25: =IF(C25=3,0,IF(O25=1,0,D25-P25-Q25)) -> 0 | S25: =IF(OR(R25<=0,),0,MIN(MAX(введ!$C$11,R25),введ!$C$14)) -> 0 | T25: =ROUND(S25*введ!C$15,0) -> 0 | V25: =ROUND(U25*0.05,0) -> 0 | W25: =IF(D25=0,0,1) -> 0 | Z25: =IF(C25=3,0,IF(O25=1,0,D25-X25)) -> 0 | AA25: =IF(OR(Z25<=0,),0,MIN(MIN(введ!$C$17,Z25),введ!$C$17)) -> 0 | AB25: =AA25*введ!C$18 -> 0 | AC25: =AA25*введ!C$22 -> 0 | AE25: =IF(C25=1,D25,0) -> 0 | AF25: =IF(C25>1,D25,0) -> 0
A26: Итого: | D26: =SUM(D14:D25) -> 630000 | E26: =SUM(E14:E25) -> 85000 | F26: =SUM(F14:F25) -> 8600 | G26: =SUM(G14:G25) -> 0 | H26: =SUM(H14:H25) -> 0 | I26: =SUM(I14:I25) -> 0 | J26: =SUM(J14:J25) -> 493400 | K26: =SUM(K14:K25) -> 29340 | ... AC26: =SUM(AC14:AC25) -> 8600 | AD26: =IF(D26>0,D26/W26,0) -> 210000 | AE26: =SUM(AE14:AE25) -> 430000 | AF26: =SUM(AF14:AF25) -> 200000
A29: (Ф.И.О., подпись руководителя (налогоплательщика), печать)
A32: (Ф.И.О., подпись главного бухгалтера )
A35: (Ф.И.О., подпись лица, ответственного за составление налогового регистра)
A38: (Дата составления налогового регистра)

Sheet 2.2
T2: Форма 910.00
A5: Наименование налогоплательщика
A7: 1 | B7: РНН
A8: 2 | B8: ИИН (БИН) | E8: ='910.00'!D8 -> 111111111111
A9: 3 | B9: Налоговый период: месяц Год | E9: =IF('910.00'!L12=1,"февраль","август") -> февраль | H9: ='910.00'!O12 -> 2021
A11: Налоговый регистр: "Начисленные доходы работникам для целей налогообложения во втором месяце полугодия"
A13: № п/п | B13: Ф.И.О. работника | C13: Признак резиденства: гражданин РК - 1; иностранный гражданин резидент - 2; иностранный гражданин нерезидент - 3; гражданин ЕАЭС - 4 | D13: начисленный доход | E13: примененный вычет 1 МЗП | F13: вычет взносов ОСМС | G13: прочие стандартные вычеты | H13: прочие вычеты | I13: Доходы, не облагаемые ИПН (корректировка) | J13: Доходы, облагаемые ИПН | K13: Индивидуальный подоходный налог с доходов граждан РК | L13: Индивидуальный подоходный налог с доходов иностранцев и лиц без гражданства | M13: Доходы, не облагаемые ОПВ | N13: Доход для исчисления обязательных пенсионных взносов | O13: Пенсионер (если да, то нужно поставить 1) | P13: Обязательные пенсионные взносы | Q13: Доходы не облагаемые СО | R13: Предварительный расчет объекта для исчисления СО | S13: Доход для исчисления социальных очтислений | T13: Обязательные социальные отчисления | U13: Доход для исчисления обязательных профессиональных пенсионных взносов | V13: Обязательные профессиональные пенсионные взносы | W13: Численность работников | X13: Доходы не принимаемые для исчисления ОСМС | Z13: Предварительный расчет объекта для исчисления ОСМС | AA13: Доходы принимаемые для исчисления ОСМС | AB13: Сумма отчислений на обязательное социальное медицинское страхование, к уплате | AC13: Сумма взносов на обязательное социальное медицинское страхование, к уплате | AD13: Среднемесячная заработная плата на одного работника | AE13: Доход граждане РК | AF13: Доход иностранцев
A14: 1 | B14: иванов | C14: 1 | D14: 250000 | E14: =IF(C14>=3,0,IF((D14-P14)>введ!C$11,введ!C$11,IF((D14-P14)<=введ!C$11,D14-P14,0))) -> 42500 | F14: =IF(AC14>0,AC14,0) -> 5000 | J14: =IF(C14>=3,D14-I14,D14-I14-E14-P14-F14-H14-G14) -> 177500 | K14: =IF(C14=0,0,IF(C14>1,0,IF(D14<=введ!C$20*25,J14/100,J14/10))) -> 17750 | L14: =IF(C14=0,0,IF(C14=1,0,IF(C14>=3,J14/10,IF(C14=2,IF(D14<=введ!C$20*25,J14/100,J14/10))))) -> 0 | N14: =IF(C14=3,0,IF(O14=1,0,D14-M14)) -> 250000 | P14: =N14*10% -> 25000 | R14: =IF(C14=3,0,IF(O14=1,0,D14-P14-Q14)) -> 225000 | S14: =IF(OR(R14<=0,),0,MIN(MAX(введ!$C$11,R14),введ!$C$14)) -> 225000 | T14: =ROUND(S14*введ!C$15,0) -> 7875 | V14: =ROUND(U14*0.05,0) -> 0 | W14: =IF(D14=0,0,1) -> 1 | Z14: =IF(C14=3,0,IF(O14=1,0,D14-X14)) -> 250000 | AA14: =IF(OR(Z14<=0,),0,MIN(MIN(введ!$C$17,Z14),введ!$C$17)) -> 250000 | AB14: =AA14*введ!C$18 -> 5000 | AC14: =AA14*введ!C$22 -> 5000 | AE14: =IF(C14=1,D14,0) -> 250000 | AF14: =IF(C14>1,D14,0) -> 0
A15: 2 | B15: петров | C15: 1 | D15: 180000 | E15: =IF(C15>=3,0,IF((D15-P15)>введ!C$11,введ!C$11,IF((D15-P15)<=введ!C$11,D15-P15,0))) -> 42500 | F15: =IF(AC15>0,AC15,0) -> 3600 | J15: =IF(C15>=3,D15-I15,D15-I15-E15-P15-F15-H15-G15) -> 115900 | K15: =IF(C15=0,0,IF(C15>1,0,IF(D15<=введ!C$20*25,J15/100,J15/10))) -> 11590 | L15: =IF(C15=0,0,IF(C15=1,0,IF(C15>=3,J15/10,IF(C15=2,IF(D15<=введ!C$20*25,J15/100,J15/10))))) -> 0 | N15: =IF(C15=3,0,IF(O15=1,0,D15-M15)) -> 180000 | P15: =N15*10% -> 18000 | R15: =IF(C15=3,0,IF(O15=1,0,D15-P15-Q15)) -> 162000 | S15: =IF(OR(R15<=0,),0,MIN(MAX(введ!$C$11,R15),введ!$C$14)) -> 162000 | T15: =ROUND(S15*введ!C$15,0) -> 5670 | V15: =ROUND(U15*0.05,0) -> 0 | W15: =IF(D15=0,0,1) -> 1 | Z15: =IF(C15=3,0,IF(O15=1,0,D15-X15)) -> 180000 | AA15: =IF(OR(Z15<=0,),0,MIN(MIN(введ!$C$17,Z15),введ!$C$17)) -> 180000 | AB15: =AA15*введ!C$18 -> 3600 | AC15: =AA15*введ!C$22 -> 3600 | AE15: =IF(C15=1,D15,0) -> 180000 | AF15: =IF(C15>1,D15,0) -> 0
A16: 3 | B16: сид | C16: 3 | D16: 200000 | E16: =IF(C16>=3,0,IF((D16-P16)>введ!C$11,введ!C$11,IF((D16-P16)<=введ!C$11,D16-P16,0))) -> 0 | F16: =IF(AC16>0,AC16,0) -> 0 | J16: =IF(C16>=3,D16-I16,D16-I16-E16-P16-F16-H16-G16) -> 200000 | K16: =IF(C16=0,0,IF(C16>1,0,IF(D16<=введ!C$20*25,J16/100,J16/10))) -> 0 | L16: =IF(C16=0,0,IF(C16=1,0,IF(C16>=3,J16/10,IF(C16=2,IF(D16<=введ!C$20*25,J16/100,J16/10))))) -> 20000 | N16: =IF(C16=3,0,IF(O16=1,0,D16-M16)) -> 0 | P16: =N16*10% -> 0 | R16: =IF(C16=3,0,IF(O16=1,0,D16-P16-Q16)) -> 0 | S16: =IF(OR(R16<=0,),0,MIN(MAX(введ!$C$11,R16),введ!$C$14)) -> 0 | T16: =ROUND(S16*введ!C$15,0) -> 0 | V16: =ROUND(U16*0.05,0) -> 0 | W16: =IF(D16=0,0,1) -> 1 | Z16: =IF(C16=3,0,IF(O16=1,0,D16-X16)) -> 0 | AA16: =IF(OR(Z16<=0,),0,MIN(MIN(введ!$C$17,Z16),введ!$C$17)) -> 0 | AB16: =AA16*введ!C$18 -> 0 | AC16: =AA16*введ!C$22 -> 0 | AE16: =IF(C16=1,D16,0) -> 0 | AF16: =IF(C16>1,D16,0) -> 200000
A17: 4 | B17: кузнецов | C17: 2 | D17: 220000 | E17: =IF(C17>=3,0,IF((D17-P17)>введ!C$11,введ!C$11,IF((D17-P17)<=введ!C$11,D17-P17,0))) -> 42500 | F17: =IF(AC17>0,AC17,0) -> 4400 | J17: =IF(C17>=3,D17-I17,D17-I17-E17-P17-F17-H17-G17) -> 151100 | K17: =IF(C17=0,0,IF(C17>1,0,IF(D17<=введ!C$20*25,J17/100,J17/10))) -> 0 | L17: =IF(C17=0,0,IF(C17=1,0,IF(C17>=3,J17/10,IF(C17=2,IF(D17<=введ!C$20*25,J17/100,J17/10))))) -> 15110 | N17: =IF(C17=3,0,IF(O17=1,0,D17-M17)) -> 220000 | P17: =N17*10% -> 22000 | R17: =IF(C17=3,0,IF(O17=1,0,D17-P17-Q17)) -> 198000 | S17: =IF(OR(R17<=0,),0,MIN(MAX(введ!$C$11,R17),введ!$C$14)) -> 198000 | T17: =ROUND(S17*введ!C$15,0) -> 6930 | V17: =ROUND(U17*0.05,0) -> 0 | W17: =IF(D17=0,0,1) -> 1 | Z17: =IF(C17=3,0,IF(O17=1,0,D17-X17)) -> 220000 | AA17: =IF(OR(Z17<=0,),0,MIN(MIN(введ!$C$17,Z17),введ!$C$17)) -> 220000 | AB17: =AA17*введ!C$18 -> 4400 | AC17: =AA17*введ!C$22 -> 4400 | AE17: =IF(C17=1,D17,0) -> 0 | AF17: =IF(C17>1,D17,0) -> 220000
A18: 5 | E18: =IF(C18>=3,0,IF((D18-P18)>введ!C$11,введ!C$11,IF((D18-P18)<=введ!C$11,D18-P18,0))) -> 0 | F18: =IF(AC18>0,AC18,0) -> 0 | J18: =IF(C18>=3,D18-I18,D18-I18-E18-P18-F18-H18-G18) -> 0 | K18: =IF(C18=0,0,IF(C18>1,0,IF(D18<=введ!C$20*25,J18/100,J18/10))) -> 0 | L18: =IF(C18=0,0,IF(C18=1,0,IF(C18>=3,J18/10,IF(C18=2,IF(D18<=введ!C$20*25,J18/100,J18/10))))) -> 0 | N18: =IF(C18=3,0,IF(O18=1,0,D18-M18)) -> 0 | P18: =N18*10% -> 0 | R18: =IF(C18=3,0,IF(O18=1,0,D18-P18-Q18)) -> 0 | S18: =IF(OR(R18<=0,),0,MIN(MAX(введ!$C$11,R18),введ!$C$14)) -> 0 | T18: =ROUND(S18*введ!C$15,0) -> 0 | V18: =ROUND(U18*0.05,0) -> 0 | W18: =IF(D18=0,0,1) -> 0 | Z18: =IF(C18=3,0,IF(O18=1,0,D18-X18)) -> 0 | AA18: =IF(OR(Z18<=0,),0,MIN(MIN(введ!$C$17,Z18),введ!$C$17)) -> 0 | AB18: =AA18*введ!C$18 -> 0 | AC18: =AA18*введ!C$22 -> 0 | AE18: =IF(C18=1,D18,0) -> 0 | AF18: =IF(C18>1,D18,0) -> 0
A19: 6 | E19: =IF(C19>=3,0,IF((D19-P19)>введ!C$11,введ!C$11,IF((D19-P19)<=введ!C$11,D19-P19,0))) -> 0 | F19: =IF(AC19>0,AC19,0) -> 0 | J19: =IF(C19>=3,D19-I19,D19-I19-E19-P19-F19-H19-G19) -> 0 | K19: =IF(C19=0,0,IF(C19>1,0,IF(D19<=введ!C$20*25,J19/100,J19/10))) -> 0 | L19: =IF(C19=0,0,IF(C19=1,0,IF(C19>=3,J19/10,IF(C19=2,IF(D19<=введ!C$20*25,J19/100,J19/10))))) -> 0 | N19: =IF(C19=3,0,IF(O19=1,0,D19-M19)) -> 0 | P19: =N19*10% -> 0 | R19: =IF(C19=3,0,IF(O19=1,0,D19-P19-Q19)) -> 0 | S19: =IF(OR(R19<=0,),0,MIN(MAX(введ!$C$11,R19),введ!$C$14)) -> 0 | T19: =ROUND(S19*введ!C$15,0) -> 0 | V19: =ROUND(U19*0.05,0) -> 0 | W19: =IF(D19=0,0,1) -> 0 | Z19: =IF(C19=3,0,IF(O19=1,0,D19-X19)) -> 0 | AA19: =IF(OR(Z19<=0,),0,MIN(MIN(введ!$C$17,Z19),введ!$C$17)) -> 0 | AB19: =AA19*введ!C$18 -> 0 | AC19: =AA19*введ!C$22 -> 0 | AE19: =IF(C19=1,D19,0) -> 0 | AF19: =IF(C19>1,D19,0) -> 0
A20: 7 | E20: =IF(C20>=3,0,IF((D20-P20)>введ!C$11,введ!C$11,IF((D20-P20)<=введ!C$11,D20-P20,0))) -> 0 | F20: =IF(AC20>0,AC20,0) -> 0 | J20: =IF(C20>=3,D20-I20,D20-I20-E20-P20-F20-H20-G20) -> 0 | K20: =IF(C20=0,0,IF(C20>1,0,IF(D20<=введ!C$20*25,J20/100,J20/10))) -> 0 | L20: =IF(C20=0,0,IF(C20=1,0,IF(C20>=3,J20/10,IF(C20=2,IF(D20<=введ!C$20*25,J20/100,J20/10))))) -> 0 | N20: =IF(C20=3,0,IF(O20=1,0,D20-M20)) -> 0 | P20: =N20*10% -> 0 | R20: =IF(C20=3,0,IF(O20=1,0,D20-P20-Q20)) -> 0 | S20: =IF(OR(R20<=0,),0,MIN(MAX(введ!$C$11,R20),введ!$C$14)) -> 0 | T20: =ROUND(S20*введ!C$15,0) -> 0 | V20: =ROUND(U20*0.05,0) -> 0 | W20: =IF(D20=0,0,1) -> 0 | Z20: =IF(C20=3,0,IF(O20=1,0,D20-X20)) -> 0 | AA20: =IF(OR(Z20<=0,),0,MIN(MIN(введ!$C$17,Z20),введ!$C$17)) -> 0 | AB20: =AA20*введ!C$18 -> 0 | AC20: =AA20*введ!C$22 -> 0 | AE20: =IF(C20=1,D20,0) -> 0 | AF20: =IF(C20>1,D20,0) -> 0
A21: 8 | E21: =IF(C21>=3,0,IF((D21-P21)>введ!C$11,введ!C$11,IF((D21-P21)<=введ!C$11,D21-P21,0))) -> 0 | F21: =IF(AC21>0,AC21,0) -> 0 | J21: =IF(C21>=3,D21-I21,D21-I21-E21-P21-F21-H21-G21) -> 0 | K21: =IF(C21=0,0,IF(C21>1,0,IF(D21<=введ!C$20*25,J21/100,J21/10))) -> 0 | L21: =IF(C21=0,0,IF(C21=1,0,IF(C21>=3,J21/10,IF(C21=2,IF(D21<=введ!C$20*25,J21/100,J21/10))))) -> 0 | N21: =IF(C21=3,0,IF(O21=1,0,D21-M21)) -> 0 | P21: =N21*10% -> 0 | R21: =IF(C21=3,0,IF(O21=1,0,D21-P21-Q21)) -> 0 | S21: =IF(OR(R21<=0,),0,MIN(MAX(введ!$C$11,R21),введ!$C$14)) -> 0 | T21: =ROUND(S21*введ!C$15,0) -> 0 | V21: =ROUND(U21*0.05,0) -> 0 | W21: =IF(D21=0,0,1) -> 0 | Z21: =IF(C21=3,0,IF(O21=1,0,D21-X21)) -> 0 | AA21: =IF(OR(Z21<=0,),0,MIN(MIN(введ!$C$17,Z21),введ!$C$17)) -> 0 | AB21: =AA21*введ!C$18 -> 0 | AC21: =AA21*введ!C$22 -> 0 | AE21: =IF(C21=1,D21,0) -> 0 | AF21: =IF(C21>1,D21,0) -> 0
A22: 9 | E22: =IF(C22>=3,0,IF((D22-P22)>введ!C$11,введ!C$11,IF((D22-P22)<=введ!C$11,D22-P22,0))) -> 0 | F22: =IF(AC22>0,AC22,0) -> 0 | J22: =IF(C22>=3,D22-I22,D22-I22-E22-P22-F22-H22-G22) -> 0 | K22: =IF(C22=0,0,IF(C22>1,0,IF(D22<=введ!C$20*25,J22/100,J22/10))) -> 0 | L22: =IF(C22=0,0,IF(C22=1,0,IF(C22>=3,J22/10,IF(C22=2,IF(D22<=введ!C$20*25,J22/100,J22/10))))) -> 0 | N22: =IF(C22=3,0,IF(O22=1,0,D22-M22)) -> 0 | P22: =N22*10% -> 0 | R22: =IF(C22=3,0,IF(O22=1,0,D22-P22-Q22)) -> 0 | S22: =IF(OR(R22<=0,),0,MIN(MAX(введ!$C$11,R22),введ!$C$14)) -> 0 | T22: =ROUND(S22*введ!C$15,0) -> 0 | V22: =ROUND(U22*0.05,0) -> 0 | W22: =IF(D22=0,0,1) -> 0 | Z22: =IF(C22=3,0,IF(O22=1,0,D22-X22)) -> 0 | AA22: =IF(OR(Z22<=0,),0,MIN(MIN(введ!$C$17,Z22),введ!$C$17)) -> 0 | AB22: =AA22*введ!C$18 -> 0 | AC22: =AA22*введ!C$22 -> 0 | AE22: =IF(C22=1,D22,0) -> 0 | AF22: =IF(C22>1,D22,0) -> 0
A23: 10 | E23: =IF(C23>=3,0,IF((D23-P23)>введ!C$11,введ!C$11,IF((D23-P23)<=введ!C$11,D23-P23,0))) -> 0 | F23: =IF(AC23>0,AC23,0) -> 0 | J23: =IF(C23>=3,D23-I23,D23-I23-E23-P23-F23-H23-G23) -> 0 | K23: =IF(C23=0,0,IF(C23>1,0,IF(D23<=введ!C$20*25,J23/100,J23/10))) -> 0 | L23: =IF(C23=0,0,IF(C23=1,0,IF(C23>=3,J23/10,IF(C23=2,IF(D23<=введ!C$20*25,J23/100,J23/10))))) -> 0 | N23: =IF(C23=3,0,IF(O23=1,0,D23-M23)) -> 0 | P23: =N23*10% -> 0 | R23: =IF(C23=3,0,IF(O23=1,0,D23-P23-Q23)) -> 0 | S23: =IF(OR(R23<=0,),0,MIN(MAX(введ!$C$11,R23),введ!$C$14)) -> 0 | T23: =ROUND(S23*введ!C$15,0) -> 0 | V23: =ROUND(U23*0.05,0) -> 0 | W23: =IF(D23=0,0,1) -> 0 | Z23: =IF(C23=3,0,IF(O23=1,0,D23-X23)) -> 0 | AA23: =IF(OR(Z23<=0,),0,MIN(MIN(введ!$C$17,Z23),введ!$C$17)) -> 0 | AB23: =AA23*введ!C$18 -> 0 | AC23: =AA23*введ!C$22 -> 0 | AE23: =IF(C23=1,D23,0) -> 0 | AF23: =IF(C23>1,D23,0) -> 0
A24: 11 | E24: =IF(C24>=3,0,IF((D24-P24)>введ!C$11,введ!C$11,IF((D24-P24)<=введ!C$11,D24-P24,0))) -> 0 | F24: =IF(AC24>0,AC24,0) -> 0 | J24: =IF(C24>=3,D24-I24,D24-I24-E24-P24-F24-H24-G24) -> 0 | K24: =IF(C24=0,0,IF(C24>1,0,IF(D24<=введ!C$20*25,J24/100,J24/10))) -> 0 | L24: =IF(C24=0,0,IF(C24=1,0,IF(C24>=3,J24/10,IF(C24=2,IF(D24<=введ!C$20*25,J24/100,J24/10))))) -> 0 | N24: =IF(C24=3,0,IF(O24=1,0,D24-M24)) -> 0 | P24: =N24*10% -> 0 | R24: =IF(C24=3,0,IF(O24=1,0,D24-P24-Q24)) -> 0 | S24: =IF(OR(R24<=0,),0,MIN(MAX(введ!$C$11,R24),введ!$C$14)) -> 0 | T24: =ROUND(S24*введ!C$15,0) -> 0 | V24: =ROUND(U24*0.05,0) -> 0 | W24: =IF(D24=0,0,1) -> 0 | Z24: =IF(C24=3,0,IF(O24=1,0,D24-X24)) -> 0 | AA24: =IF(OR(Z24<=0,),0,MIN(MIN(введ!$C$17,Z24),введ!$C$17)) -> 0 | AB24: =AA24*введ!C$18 -> 0 | AC24: =AA24*введ!C$22 -> 0 | AE24: =IF(C24=1,D24,0) -> 0 | AF24: =IF(C24>1,D24,0) -> 0
A25: 12 | E25: =IF(C25>=3,0,IF((D25-P25)>введ!C$11,введ!C$11,IF((D25-P25)<=введ!C$11,D25-P25,0))) -> 0 | F25: =IF(AC25>0,AC25,0) -> 0 | J25: =IF(C25>=3,D25-I25,D25-I25-E25-P25-F25-H25-G25) -> 0 | K25: =IF(C25=0,0,IF(C25>1,0,IF(D25<=введ!C$20*25,J25/100,J25/10))) -> 0 | L25: =IF(C25=0,0,IF(C25=1,0,IF(C25>=3,J25/10,IF(C25=2,IF(D25<=введ!C$20*25,J25/100,J25/10))))) -> 0 | N25: =IF(C25=3,0,IF(O25=1,0,D25-M25)) -> 0 | P25: =N25*10% -> 0 | R25: =IF(C25=3,0,IF(O25=1,0,D25-P25-Q25)) -> 0 | S25: =IF(OR(R25<=0,),0,MIN(MAX(введ!$C$11,R25),введ!$C$14)) -> 0 | T25: =ROUND(S25*введ!C$15,0) -> 0 | V25: =ROUND(U25*0.05,0) -> 0 | W25: =IF(D25=0,0,1) -> 0 | Z25: =IF(C25=3,0,IF(O25=1,0,D25-X25)) -> 0 | AA25: =IF(OR(Z25<=0,),0,MIN(MIN(введ!$C$17,Z25),введ!$C$17)) -> 0 | AB25: =AA25*введ!C$18 -> 0 | AC25: =AA25*введ!C$22 -> 0 | AE25: =IF(C25=1,D25,0) -> 0 | AF25: =IF(C25>1,D25,0) -> 0
A26: Итого: | D26: =SUM(D14:D25) -> 850000 | E26: =SUM(E14:E25) -> 127500 | F26: =SUM(F14:F25) -> 13000 | G26: =SUM(G14:G25) -> 0 | H26: =SUM(H14:H25) -> 0 | I26: =SUM(I14:I25) -> 0 | J26: =SUM(J14:J25) -> 644500 | K26: =SUM(K14:K25) -> 29340 | ... AC26: =SUM(AC14:AC25) -> 13000 | AD26: =IF(D26>0,D26/W26,0) -> 212500 | AE26: =SUM(AE14:AE25) -> 430000 | AF26: =SUM(AF14:AF25) -> 420000
A28: (Ф.И.О., подпись руководителя (налогоплательщика), печать)
A31: (Ф.И.О., подпись главного бухгалтера )
A34: (Ф.И.О., подпись лица, ответственного за составление налогового регистра)
A37: (Дата составления налогового регистра)

Sheet 2.3
S2: Форма 910.00
A5: Наименование налогоплательщика
A7: 1 | B7: РНН
A8: 2 | B8: ИИН (БИН) | D8: ='910.00'!D8 -> 111111111111
A9: 3 | B9: Налоговый период: месяц Год | D9: =IF('910.00'!L12=1,"март","сентябрь") -> март | E9: ='910.00'!O12 -> 2021
A11: Налоговый регистр: "Начисленные доходы работникам для целей налогообложения в третьем месяце полугодия"
A13: № п/п | B13: Ф.И.О. работника | C13: Признак резиденства: гражданин РК - 1; иностранный гражданин резидент - 2; иностранный гражданин нерезидент - 3; гражданин ЕАЭС - 4 | D13: начисленный доход | E13: примененный вычет 1 МЗП | F13: вычет взносов ОСМС | G13: прочие стандартные вычеты | H13: прочие вычеты | I13: Доходы, не облагаемые ИПН (корректировка) | J13: Доходы, облагаемые ИПН | K13: Индивидуальный подоходный налог с доходов граждан РК | L13: Индивидуальный подоходный налог с доходов иностранцев и лиц без гражданства | M13: Доходы, не облагаемые ОПВ | N13: Доход для исчисления обязательных пенсионных взносов | O13: Пенсионер (если да, то нужно поставить 1) | P13: Обязательные пенсионные взносы | Q13: Доходы не облагаемые СО | R13: Предварительный расчет объекта для исчисления СО | S13: Доход для исчисления социальных очтислений | T13: Обязательные социальные отчисления | U13: Доход для исчисления обязательных профессиональных пенсионных взносов | V13: Обязательные профессиональные пенсионные взносы | W13: Численность работников | X13: Доходы не принимаемые для исчисления ОСМС | Z13: Предварительный расчет объекта для исчисления ОСМС | AA13: Доходы принимаемые для исчисления ОСМС | AB13: Сумма отчислений на обязательное социальное медицинское страхование, к уплате | AC13: Сумма взносов на обязательное социальное медицинское страхование, к уплате | AD13: Среднемесячная заработная плата на одного работника | AE13: Доход граждане РК | AF13: Доход иностранцев
A14: 1 | B14: иванов | C14: 1 | D14: 250000 | E14: =IF(C14>=3,0,IF((D14-P14)>введ!C$11,введ!C$11,IF((D14-P14)<=введ!C$11,D14-P14,0))) -> 42500 | F14: =IF(AC14>0,AC14,0) -> 5000 | J14: =IF(C14>=3,D14-I14,D14-I14-E14-P14-F14-H14-G14) -> 177500 | K14: =IF(C14=0,0,IF(C14>1,0,IF(D14<=введ!C$20*25,J14/100,J14/10))) -> 17750 | L14: =IF(C14=0,0,IF(C14=1,0,IF(C14>=3,J14/10,IF(C14=2,IF(D14<=введ!C$20*25,J14/100,J14/10))))) -> 0 | N14: =IF(C14=3,0,IF(O14=1,0,D14-M14)) -> 250000 | P14: =N14*10% -> 25000 | R14: =IF(C14=3,0,IF(O14=1,0,D14-P14-Q14)) -> 225000 | S14: =IF(OR(R14<=0,),0,MIN(MAX(введ!$C$11,R14),введ!$C$14)) -> 225000 | T14: =ROUND(S14*введ!C$15,0) -> 7875 | V14: =ROUND(U14*0.05,0) -> 0 | W14: =IF(D14=0,0,1) -> 1 | Z14: =IF(C14=3,0,IF(O14=1,0,D14-X14)) -> 250000 | AA14: =IF(OR(Z14<=0,),0,MIN(MIN(введ!$C$17,Z14),введ!$C$17)) -> 250000 | AB14: =AA14*введ!C$18 -> 5000 | AC14: =AA14*введ!C$22 -> 5000 | AE14: =IF(C14=1,D14,0) -> 250000 | AF14: =IF(C14>1,D14,0) -> 0
A15: 2 | B15: петров | C15: 1 | D15: 180000 | E15: =IF(C15>=3,0,IF((D15-P15)>введ!C$11,введ!C$11,IF((D15-P15)<=введ!C$11,D15-P15,0))) -> 42500 | F15: =IF(AC15>0,AC15,0) -> 3600 | J15: =IF(C15>=3,D15-I15,D15-I15-E15-P15-F15-H15-G15) -> 115900 | K15: =IF(C15=0,0,IF(C15>1,0,IF(D15<=введ!C$20*25,J15/100,J15/10))) -> 11590 | L15: =IF(C15=0,0,IF(C15=1,0,IF(C15>=3,J15/10,IF(C15=2,IF(D15<=введ!C$20*25,J15/100,J15/10))))) -> 0 | N15: =IF(C15=3,0,IF(O15=1,0,D15-M15)) -> 180000 | P15: =N15*10% -> 18000 | R15: =IF(C15=3,0,IF(O15=1,0,D15-P15-Q15)) -> 162000 | S15: =IF(OR(R15<=0,),0,MIN(MAX(введ!$C$11,R15),введ!$C$14)) -> 162000 | T15: =ROUND(S15*введ!C$15,0) -> 5670 | V15: =ROUND(U15*0.05,0) -> 0 | W15: =IF(D15=0,0,1) -> 1 | Z15: =IF(C15=3,0,IF(O15=1,0,D15-X15)) -> 180000 | AA15: =IF(OR(Z15<=0,),0,MIN(MIN(введ!$C$17,Z15),введ!$C$17)) -> 180000 | AB15: =AA15*введ!C$18 -> 3600 | AC15: =AA15*введ!C$22 -> 3600 | AE15: =IF(C15=1,D15,0) -> 180000 | AF15: =IF(C15>1,D15,0) -> 0
A16: 3 | B16: сид | C16: 3 | D16: 200000 | E16: =IF(C16>=3,0,IF((D16-P16)>введ!C$11,введ!C$11,IF((D16-P16)<=введ!C$11,D16-P16,0))) -> 0 | F16: =IF(AC16>0,AC16,0) -> 0 | J16: =IF(C16>=3,D16-I16,D16-I16-E16-P16-F16-H16-G16) -> 200000 | K16: =IF(C16=0,0,IF(C16>1,0,IF(D16<=введ!C$20*25,J16/100,J16/10))) -> 0 | L16: =IF(C16=0,0,IF(C16=1,0,IF(C16>=3,J16/10,IF(C16=2,IF(D16<=введ!C$20*25,J16/100,J16/10))))) -> 20000 | N16: =IF(C16=3,0,IF(O16=1,0,D16-M16)) -> 0 | P16: =N16*10% -> 0 | R16: =IF(C16=3,0,IF(O16=1,0,D16-P16-Q16)) -> 0 | S16: =IF(OR(R16<=0,),0,MIN(MAX(введ!$C$11,R16),введ!$C$14)) -> 0 | T16: =ROUND(S16*введ!C$15,0) -> 0 | V16: =ROUND(U16*0.05,0) -> 0 | W16: =IF(D16=0,0,1) -> 1 | Z16: =IF(C16=3,0,IF(O16=1,0,D16-X16)) -> 0 | AA16: =IF(OR(Z16<=0,),0,MIN(MIN(введ!$C$17,Z16),введ!$C$17)) -> 0 | AB16: =AA16*введ!C$18 -> 0 | AC16: =AA16*введ!C$22 -> 0 | AE16: =IF(C16=1,D16,0) -> 0 | AF16: =IF(C16>1,D16,0) -> 200000
A17: 4 | B17: кузнецов | C17: 2 | D17: 220000 | E17: =IF(C17>=3,0,IF((D17-P17)>введ!C$11,введ!C$11,IF((D17-P17)<=введ!C$11,D17-P17,0))) -> 42500 | F17: =IF(AC17>0,AC17,0) -> 4400 | J17: =IF(C17>=3,D17-I17,D17-I17-E17-P17-F17-H17-G17) -> 151100 | K17: =IF(C17=0,0,IF(C17>1,0,IF(D17<=введ!C$20*25,J17/100,J17/10))) -> 0 | L17: =IF(C17=0,0,IF(C17=1,0,IF(C17>=3,J17/10,IF(C17=2,IF(D17<=введ!C$20*25,J17/100,J17/10))))) -> 15110 | N17: =IF(C17=3,0,IF(O17=1,0,D17-M17)) -> 220000 | P17: =N17*10% -> 22000 | R17: =IF(C17=3,0,IF(O17=1,0,D17-P17-Q17)) -> 198000 | S17: =IF(OR(R17<=0,),0,MIN(MAX(введ!$C$11,R17),введ!$C$14)) -> 198000 | T17: =ROUND(S17*введ!C$15,0) -> 6930 | V17: =ROUND(U17*0.05,0) -> 0 | W17: =IF(D17=0,0,1) -> 1 | Z17: =IF(C17=3,0,IF(O17=1,0,D17-X17)) -> 220000 | AA17: =IF(OR(Z17<=0,),0,MIN(MIN(введ!$C$17,Z17),введ!$C$17)) -> 220000 | AB17: =AA17*введ!C$18 -> 4400 | AC17: =AA17*введ!C$22 -> 4400 | AE17: =IF(C17=1,D17,0) -> 0 | AF17: =IF(C17>1,D17,0) -> 220000
A18: 5 | E18: =IF(C18>=3,0,IF((D18-P18)>введ!C$11,введ!C$11,IF((D18-P18)<=введ!C$11,D18-P18,0))) -> 0 | F18: =IF(AC18>0,AC18,0) -> 0 | J18: =IF(C18>=3,D18-I18,D18-I18-E18-P18-F18-H18-G18) -> 0 | K18: =IF(C18=0,0,IF(C18>1,0,IF(D18<=введ!C$20*25,J18/100,J18/10))) -> 0 | L18: =IF(C18=0,0,IF(C18=1,0,IF(C18>=3,J18/10,IF(C18=2,IF(D18<=введ!C$20*25,J18/100,J18/10))))) -> 0 | N18: =IF(C18=3,0,IF(O18=1,0,D18-M18)) -> 0 | P18: =N18*10% -> 0 | R18: =IF(C18=3,0,IF(O18=1,0,D18-P18-Q18)) -> 0 | S18: =IF(OR(R18<=0,),0,MIN(MAX(введ!$C$11,R18),введ!$C$14)) -> 0 | T18: =ROUND(S18*введ!C$15,0) -> 0 | V18: =ROUND(U18*0.05,0) -> 0 | W18: =IF(D18=0,0,1) -> 0 | Z18: =IF(C18=3,0,IF(O18=1,0,D18-X18)) -> 0 | AA18: =IF(OR(Z18<=0,),0,MIN(MIN(введ!$C$17,Z18),введ!$C$17)) -> 0 | AB18: =AA18*введ!C$18 -> 0 | AC18: =AA18*введ!C$22 -> 0 | AE18: =IF(C18=1,D18,0) -> 0 | AF18: =IF(C18>1,D18,0) -> 0
A19: 6 | E19: =IF(C19>=3,0,IF((D19-P19)>введ!C$11,введ!C$11,IF((D19-P19)<=введ!C$11,D19-P19,0))) -> 0 | F19: =IF(AC19>0,AC19,0) -> 0 | J19: =IF(C19>=3,D19-I19,D19-I19-E19-P19-F19-H19-G19) -> 0 | K19: =IF(C19=0,0,IF(C19>1,0,IF(D19<=введ!C$20*25,J19/100,J19/10))) -> 0 | L19: =IF(C19=0,0,IF(C19=1,0,IF(C19>=3,J19/10,IF(C19=2,IF(D19<=введ!C$20*25,J19/100,J19/10))))) -> 0 | N19: =IF(C19=3,0,IF(O19=1,0,D19-M19)) -> 0 | P19: =N19*10% -> 0 | R19: =IF(C19=3,0,IF(O19=1,0,D19-P19-Q19)) -> 0 | S19: =IF(OR(R19<=0,),0,MIN(MAX(введ!$C$11,R19),введ!$C$14)) -> 0 | T19: =ROUND(S19*введ!C$15,0) -> 0 | V19: =ROUND(U19*0.05,0) -> 0 | W19: =IF(D19=0,0,1) -> 0 | Z19: =IF(C19=3,0,IF(O19=1,0,D19-X19)) -> 0 | AA19: =IF(OR(Z19<=0,),0,MIN(MIN(введ!$C$17,Z19),введ!$C$17)) -> 0 | AB19: =AA19*введ!C$18 -> 0 | AC19: =AA19*введ!C$22 -> 0 | AE19: =IF(C19=1,D19,0) -> 0 | AF19: =IF(C19>1,D19,0) -> 0
A20: 7 | E20: =IF(C20>=3,0,IF((D20-P20)>введ!C$11,введ!C$11,IF((D20-P20)<=введ!C$11,D20-P20,0))) -> 0 | F20: =IF(AC20>0,AC20,0) -> 0 | J20: =IF(C20>=3,D20-I20,D20-I20-E20-P20-F20-H20-G20) -> 0 | K20: =IF(C20=0,0,IF(C20>1,0,IF(D20<=введ!C$20*25,J20/100,J20/10))) -> 0 | L20: =IF(C20=0,0,IF(C20=1,0,IF(C20>=3,J20/10,IF(C20=2,IF(D20<=введ!C$20*25,J20/100,J20/10))))) -> 0 | N20: =IF(C20=3,0,IF(O20=1,0,D20-M20)) -> 0 | P20: =N20*10% -> 0 | R20: =IF(C20=3,0,IF(O20=1,0,D20-P20-Q20)) -> 0 | S20: =IF(OR(R20<=0,),0,MIN(MAX(введ!$C$11,R20),введ!$C$14)) -> 0 | T20: =ROUND(S20*введ!C$15,0) -> 0 | V20: =ROUND(U20*0.05,0) -> 0 | W20: =IF(D20=0,0,1) -> 0 | Z20: =IF(C20=3,0,IF(O20=1,0,D20-X20)) -> 0 | AA20: =IF(OR(Z20<=0,),0,MIN(MIN(введ!$C$17,Z20),введ!$C$17)) -> 0 | AB20: =AA20*введ!C$18 -> 0 | AC20: =AA20*введ!C$22 -> 0 | AE20: =IF(C20=1,D20,0) -> 0 | AF20: =IF(C20>1,D20,0) -> 0
A21: 8 | E21: =IF(C21>=3,0,IF((D21-P21)>введ!C$11,введ!C$11,IF((D21-P21)<=введ!C$11,D21-P21,0))) -> 0 | F21: =IF(AC21>0,AC21,0) -> 0 | J21: =IF(C21>=3,D21-I21,D21-I21-E21-P21-F21-H21-G21) -> 0 | K21: =IF(C21=0,0,IF(C21>1,0,IF(D21<=введ!C$20*25,J21/100,J21/10))) -> 0 | L21: =IF(C21=0,0,IF(C21=1,0,IF(C21>=3,J21/10,IF(C21=2,IF(D21<=введ!C$20*25,J21/100,J21/10))))) -> 0 | N21: =IF(C21=3,0,IF(O21=1,0,D21-M21)) -> 0 | P21: =N21*10% -> 0 | R21: =IF(C21=3,0,IF(O21=1,0,D21-P21-Q21)) -> 0 | S21: =IF(OR(R21<=0,),0,MIN(MAX(введ!$C$11,R21),введ!$C$14)) -> 0 | T21: =ROUND(S21*введ!C$15,0) -> 0 | V21: =ROUND(U21*0.05,0) -> 0 | W21: =IF(D21=0,0,1) -> 0 | Z21: =IF(C21=3,0,IF(O21=1,0,D21-X21)) -> 0 | AA21: =IF(OR(Z21<=0,),0,MIN(MIN(введ!$C$17,Z21),введ!$C$17)) -> 0 | AB21: =AA21*введ!C$18 -> 0 | AC21: =AA21*введ!C$22 -> 0 | AE21: =IF(C21=1,D21,0) -> 0 | AF21: =IF(C21>1,D21,0) -> 0
A22: 9 | E22: =IF(C22>=3,0,IF((D22-P22)>введ!C$11,введ!C$11,IF((D22-P22)<=введ!C$11,D22-P22,0))) -> 0 | F22: =IF(AC22>0,AC22,0) -> 0 | J22: =IF(C22>=3,D22-I22,D22-I22-E22-P22-F22-H22-G22) -> 0 | K22: =IF(C22=0,0,IF(C22>1,0,IF(D22<=введ!C$20*25,J22/100,J22/10))) -> 0 | L22: =IF(C22=0,0,IF(C22=1,0,IF(C22>=3,J22/10,IF(C22=2,IF(D22<=введ!C$20*25,J22/100,J22/10))))) -> 0 | N22: =IF(C22=3,0,IF(O22=1,0,D22-M22)) -> 0 | P22: =N22*10% -> 0 | R22: =IF(C22=3,0,IF(O22=1,0,D22-P22-Q22)) -> 0 | S22: =IF(OR(R22<=0,),0,MIN(MAX(введ!$C$11,R22),введ!$C$14)) -> 0 | T22: =ROUND(S22*введ!C$15,0) -> 0 | V22: =ROUND(U22*0.05,0) -> 0 | W22: =IF(D22=0,0,1) -> 0 | Z22: =IF(C22=3,0,IF(O22=1,0,D22-X22)) -> 0 | AA22: =IF(OR(Z22<=0,),0,MIN(MIN(введ!$C$17,Z22),введ!$C$17)) -> 0 | AB22: =AA22*введ!C$18 -> 0 | AC22: =AA22*введ!C$22 -> 0 | AE22: =IF(C22=1,D22,0) -> 0 | AF22: =IF(C22>1,D22,0) -> 0
A23: 10 | E23: =IF(C23>=3,0,IF((D23-P23)>введ!C$11,введ!C$11,IF((D23-P23)<=введ!C$11,D23-P23,0))) -> 0 | F23: =IF(AC23>0,AC23,0) -> 0 | J23: =IF(C23>=3,D23-I23,D23-I23-E23-P23-F23-H23-G23) -> 0 | K23: =IF(C23=0,0,IF(C23>1,0,IF(D23<=введ!C$20*25,J23/100,J23/10))) -> 0 | L23: =IF(C23=0,0,IF(C23=1,0,IF(C23>=3,J23/10,IF(C23=2,IF(D23<=введ!C$20*25,J23/100,J23/10))))) -> 0 | N23: =IF(C23=3,0,IF(O23=1,0,D23-M23)) -> 0 | P23: =N23*10% -> 0 | R23: =IF(C23=3,0,IF(O23=1,0,D23-P23-Q23)) -> 0 | S23: =IF(OR(R23<=0,),0,MIN(MAX(введ!$C$11,R23),введ!$C$14)) -> 0 | T23: =ROUND(S23*введ!C$15,0) -> 0 | V23: =ROUND(U23*0.05,0) -> 0 | W23: =IF(D23=0,0,1) -> 0 | Z23: =IF(C23=3,0,IF(O23=1,0,D23-X23)) -> 0 | AA23: =IF(OR(Z23<=0,),0,MIN(MIN(введ!$C$17,Z23),введ!$C$17)) -> 0 | AB23: =AA23*введ!C$18 -> 0 | AC23: =AA23*введ!C$22 -> 0 | AE23: =IF(C23=1,D23,0) -> 0 | AF23: =IF(C23>1,D23,0) -> 0
A24: 11 | E24: =IF(C24>=3,0,IF((D24-P24)>введ!C$11,введ!C$11,IF((D24-P24)<=введ!C$11,D24-P24,0))) -> 0 | F24: =IF(AC24>0,AC24,0) -> 0 | J24: =IF(C24>=3,D24-I24,D24-I24-E24-P24-F24-H24-G24) -> 0 | K24: =IF(C24=0,0,IF(C24>1,0,IF(D24<=введ!C$20*25,J24/100,J24/10))) -> 0 | L24: =IF(C24=0,0,IF(C24=1,0,IF(C24>=3,J24/10,IF(C24=2,IF(D24<=введ!C$20*25,J24/100,J24/10))))) -> 0 | N24: =IF(C24=3,0,IF(O24=1,0,D24-M24)) -> 0 | P24: =N24*10% -> 0 | R24: =IF(C24=3,0,IF(O24=1,0,D24-P24-Q24)) -> 0 | S24: =IF(OR(R24<=0,),0,MIN(MAX(введ!$C$11,R24),введ!$C$14)) -> 0 | T24: =ROUND(S24*введ!C$15,0) -> 0 | V24: =ROUND(U24*0.05,0) -> 0 | W24: =IF(D24=0,0,1) -> 0 | Z24: =IF(C24=3,0,IF(O24=1,0,D24-X24)) -> 0 | AA24: =IF(OR(Z24<=0,),0,MIN(MIN(введ!$C$17,Z24),введ!$C$17)) -> 0 | AB24: =AA24*введ!C$18 -> 0 | AC24: =AA24*введ!C$22 -> 0 | AE24: =IF(C24=1,D24,0) -> 0 | AF24: =IF(C24>1,D24,0) -> 0
A25: 12 | E25: =IF(C25>=3,0,IF((D25-P25)>введ!C$11,введ!C$11,IF((D25-P25)<=введ!C$11,D25-P25,0))) -> 0 | F25: =IF(AC25>0,AC25,0) -> 0 | J25: =IF(C25>=3,D25-I25,D25-I25-E25-P25-F25-H25-G25) -> 0 | K25: =IF(C25=0,0,IF(C25>1,0,IF(D25<=введ!C$20*25,J25/100,J25/10))) -> 0 | L25: =IF(C25=0,0,IF(C25=1,0,IF(C25>=3,J25/10,IF(C25=2,IF(D25<=введ!C$20*25,J25/100,J25/10))))) -> 0 | N25: =IF(C25=3,0,IF(O25=1,0,D25-M25)) -> 0 | P25: =N25*10% -> 0 | R25: =IF(C25=3,0,IF(O25=1,0,D25-P25-Q25)) -> 0 | S25: =IF(OR(R25<=0,),0,MIN(MAX(введ!$C$11,R25),введ!$C$14)) -> 0 | T25: =ROUND(S25*введ!C$15,0) -> 0 | V25: =ROUND(U25*0.05,0) -> 0 | W25: =IF(D25=0,0,1) -> 0 | Z25: =IF(C25=3,0,IF(O25=1,0,D25-X25)) -> 0 | AA25: =IF(OR(Z25<=0,),0,MIN(MIN(введ!$C$17,Z25),введ!$C$17)) -> 0 | AB25: =AA25*введ!C$18 -> 0 | AC25: =AA25*введ!C$22 -> 0 | AE25: =IF(C25=1,D25,0) -> 0 | AF25: =IF(C25>1,D25,0) -> 0
A26: Итого: | D26: =SUM(D14:D25) -> 850000 | E26: =SUM(E14:E25) -> 127500 | F26: =SUM(F14:F25) -> 13000 | G26: =SUM(G14:G25) -> 0 | H26: =SUM(H14:H25) -> 0 | I26: =SUM(I14:I25) -> 0 | J26: =SUM(J14:J25) -> 644500 | K26: =SUM(K14:K25) -> 29340 | ... AC26: =SUM(AC14:AC25) -> 13000 | AD26: =IF(D26>0,D26/W26,0) -> 212500 | AE26: =SUM(AE14:AE25) -> 430000 | AF26: =SUM(AF14:AF25) -> 420000
A28: (Ф.И.О., подпись руководителя (налогоплательщика), печать)
A31: (Ф.И.О., подпись главного бухгалтера )
A34: (Ф.И.О., подпись лица, ответственного за составление налогового регистра)
A37: (Дата составления налогового регистра)

Sheet 2.4
S2: Форма 910.00
A5: Наименование налогоплательщика
A7: 1 | B7: РНН
A8: 2 | B8: ИИН (БИН) | D8: ='910.00'!D8 -> 111111111111
A9: 3 | B9: Налоговый период: месяц Год | D9: =IF('910.00'!L12=1,"апрель","октябрь") -> апрель | E9: ='910.00'!O12 -> 2021
A11: Налоговый регистр: "Начисленные доходы работникам для целей налогообложения в четвертом месяце полугодия"
A13: № п/п | B13: Ф.И.О. работника | C13: Признак резиденства: гражданин РК - 1; иностранный гражданин резидент - 2; иностранный гражданин нерезидент - 3; гражданин ЕАЭС - 4 | D13: начисленный доход | E13: примененный вычет 1 МЗП | F13: вычет взносов ОСМС | G13: прочие стандартные вычеты | H13: прочие вычеты | I13: Доходы, не облагаемые ИПН (корректировка) | J13: Доходы, облагаемые ИПН | K13: Индивидуальный подоходный налог с доходов граждан РК | L13: Индивидуальный подоходный налог с доходов иностранцев и лиц без гражданства | M13: Доходы, не облагаемые ОПВ | N13: Доход для исчисления обязательных пенсионных взносов | O13: Пенсионер (если да, то нужно поставить 1) | P13: Обязательные пенсионные взносы | Q13: Доходы не облагаемые СО | R13: Предварительный расчет объекта для исчисления СО | S13: Доход для исчисления социальных очтислений | T13: Обязательные социальные отчисления | U13: Доход для исчисления обязательных профессиональных пенсионных взносов | V13: Обязательные профессиональные пенсионные взносы | W13: Численность работников | X13: Доходы не принимаемые для исчисления ОСМС | Z13: Предварительный расчет объекта для исчисления ОСМС | AA13: Доходы принимаемые для исчисления ОСМС | AB13: Сумма отчислений на обязательное социальное медицинское страхование, к уплате | AC13: Сумма взносов на обязательное социальное медицинское страхование, к уплате | AD13: Среднемесячная заработная плата на одного работника | AE13: Доход граждане РК | AF13: Доход иностранцев
A14: 1 | B14: петров | C14: 1 | D14: 180000 | E14: =IF(C14>=3,0,IF((D14-P14)>введ!C$11,введ!C$11,IF((D14-P14)<=введ!C$11,D14-P14,0))) -> 42500 | F14: =IF(AC14>0,AC14,0) -> 3600 | J14: =IF(C14>=3,D14-I14,D14-I14-E14-P14-F14-H14-G14) -> 115900 | K14: =IF(C14=0,0,IF(C14>1,0,IF(D14<=введ!C$20*25,J14/100,J14/10))) -> 11590 | L14: =IF(C14=0,0,IF(C14=1,0,IF(C14>=3,J14/10,IF(C14=2,IF(D14<=введ!C$20*25,J14/100,J14/10))))) -> 0 | N14: =IF(C14=3,0,IF(O14=1,0,D14-M14)) -> 180000 | P14: =N14*10% -> 18000 | R14: =IF(C14=3,0,IF(O14=1,0,D14-P14-Q14)) -> 162000 | S14: =IF(OR(R14<=0,),0,MIN(MAX(введ!$C$11,R14),введ!$C$14)) -> 162000 | T14: =ROUND(S14*введ!C$15,0) -> 5670 | V14: =ROUND(U14*0.05,0) -> 0 | W14: =IF(D14=0,0,1) -> 1 | Z14: =IF(C14=3,0,IF(O14=1,0,D14-X14)) -> 180000 | AA14: =IF(OR(Z14<=0,),0,MIN(MIN(введ!$C$17,Z14),введ!$C$17)) -> 180000 | AB14: =AA14*введ!C$18 -> 3600 | AC14: =AA14*введ!C$22 -> 3600 | AE14: =IF(C14=1,D14,0) -> 180000 | AF14: =IF(C14>1,D14,0) -> 0
A15: 2 | B15: сид | C15: 3 | D15: 200000 | E15: =IF(C15>=3,0,IF((D15-P15)>введ!C$11,введ!C$11,IF((D15-P15)<=введ!C$11,D15-P15,0))) -> 0 | F15: =IF(AC15>0,AC15,0) -> 0 | J15: =IF(C15>=3,D15-I15,D15-I15-E15-P15-F15-H15-G15) -> 200000 | K15: =IF(C15=0,0,IF(C15>1,0,IF(D15<=введ!C$20*25,J15/100,J15/10))) -> 0 | L15: =IF(C15=0,0,IF(C15=1,0,IF(C15>=3,J15/10,IF(C15=2,IF(D15<=введ!C$20*25,J15/100,J15/10))))) -> 20000 | N15: =IF(C15=3,0,IF(O15=1,0,D15-M15)) -> 0 | P15: =N15*10% -> 0 | R15: =IF(C15=3,0,IF(O15=1,0,D15-P15-Q15)) -> 0 | S15: =IF(OR(R15<=0,),0,MIN(MAX(введ!$C$11,R15),введ!$C$14)) -> 0 | T15: =ROUND(S15*введ!C$15,0) -> 0 | V15: =ROUND(U15*0.05,0) -> 0 | W15: =IF(D15=0,0,1) -> 1 | Z15: =IF(C15=3,0,IF(O15=1,0,D15-X15)) -> 0 | AA15: =IF(OR(Z15<=0,),0,MIN(MIN(введ!$C$17,Z15),введ!$C$17)) -> 0 | AB15: =AA15*введ!C$18 -> 0 | AC15: =AA15*введ!C$22 -> 0 | AE15: =IF(C15=1,D15,0) -> 0 | AF15: =IF(C15>1,D15,0) -> 200000
A16: 3 | B16: кузнецов | C16: 2 | D16: 220000 | E16: =IF(C16>=3,0,IF((D16-P16)>введ!C$11,введ!C$11,IF((D16-P16)<=введ!C$11,D16-P16,0))) -> 42500 | F16: =IF(AC16>0,AC16,0) -> 4400 | J16: =IF(C16>=3,D16-I16,D16-I16-E16-P16-F16-H16-G16) -> 151100 | K16: =IF(C16=0,0,IF(C16>1,0,IF(D16<=введ!C$20*25,J16/100,J16/10))) -> 0 | L16: =IF(C16=0,0,IF(C16=1,0,IF(C16>=3,J16/10,IF(C16=2,IF(D16<=введ!C$20*25,J16/100,J16/10))))) -> 15110 | N16: =IF(C16=3,0,IF(O16=1,0,D16-M16)) -> 220000 | P16: =N16*10% -> 22000 | R16: =IF(C16=3,0,IF(O16=1,0,D16-P16-Q16)) -> 198000 | S16: =IF(OR(R16<=0,),0,MIN(MAX(введ!$C$11,R16),введ!$C$14)) -> 198000 | T16: =ROUND(S16*введ!C$15,0) -> 6930 | V16: =ROUND(U16*0.05,0) -> 0 | W16: =IF(D16=0,0,1) -> 1 | Z16: =IF(C16=3,0,IF(O16=1,0,D16-X16)) -> 220000 | AA16: =IF(OR(Z16<=0,),0,MIN(MIN(введ!$C$17,Z16),введ!$C$17)) -> 220000 | AB16: =AA16*введ!C$18 -> 4400 | AC16: =AA16*введ!C$22 -> 4400 | AE16: =IF(C16=1,D16,0) -> 0 | AF16: =IF(C16>1,D16,0) -> 220000
A17: 4 | E17: =IF(C17>=3,0,IF((D17-P17)>введ!C$11,введ!C$11,IF((D17-P17)<=введ!C$11,D17-P17,0))) -> 0 | F17: =IF(AC17>0,AC17,0) -> 0 | J17: =IF(C17>=3,D17-I17,D17-I17-E17-P17-F17-H17-G17) -> 0 | K17: =IF(C17=0,0,IF(C17>1,0,IF(D17<=введ!C$20*25,J17/100,J17/10))) -> 0 | L17: =IF(C17=0,0,IF(C17=1,0,IF(C17>=3,J17/10,IF(C17=2,IF(D17<=введ!C$20*25,J17/100,J17/10))))) -> 0 | N17: =IF(C17=3,0,IF(O17=1,0,D17-M17)) -> 0 | P17: =N17*10% -> 0 | R17: =IF(C17=3,0,IF(O17=1,0,D17-P17-Q17)) -> 0 | S17: =IF(OR(R17<=0,),0,MIN(MAX(введ!$C$11,R17),введ!$C$14)) -> 0 | T17: =ROUND(S17*введ!C$15,0) -> 0 | V17: =ROUND(U17*0.05,0) -> 0 | W17: =IF(D17=0,0,1) -> 0 | Z17: =IF(C17=3,0,IF(O17=1,0,D17-X17)) -> 0 | AA17: =IF(OR(Z17<=0,),0,MIN(MIN(введ!$C$17,Z17),введ!$C$17)) -> 0 | AB17: =AA17*введ!C$18 -> 0 | AC17: =AA17*введ!C$22 -> 0 | AE17: =IF(C17=1,D17,0) -> 0 | AF17: =IF(C17>1,D17,0) -> 0
A18: 5 | E18: =IF(C18>=3,0,IF((D18-P18)>введ!C$11,введ!C$11,IF((D18-P18)<=введ!C$11,D18-P18,0))) -> 0 | F18: =IF(AC18>0,AC18,0) -> 0 | J18: =IF(C18>=3,D18-I18,D18-I18-E18-P18-F18-H18-G18) -> 0 | K18: =IF(C18=0,0,IF(C18>1,0,IF(D18<=введ!C$20*25,J18/100,J18/10))) -> 0 | L18: =IF(C18=0,0,IF(C18=1,0,IF(C18>=3,J18/10,IF(C18=2,IF(D18<=введ!C$20*25,J18/100,J18/10))))) -> 0 | N18: =IF(C18=3,0,IF(O18=1,0,D18-M18)) -> 0 | P18: =N18*10% -> 0 | R18: =IF(C18=3,0,IF(O18=1,0,D18-P18-Q18)) -> 0 | S18: =IF(OR(R18<=0,),0,MIN(MAX(введ!$C$11,R18),введ!$C$14)) -> 0 | T18: =ROUND(S18*введ!C$15,0) -> 0 | V18: =ROUND(U18*0.05,0) -> 0 | W18: =IF(D18=0,0,1) -> 0 | Z18: =IF(C18=3,0,IF(O18=1,0,D18-X18)) -> 0 | AA18: =IF(OR(Z18<=0,),0,MIN(MIN(введ!$C$17,Z18),введ!$C$17)) -> 0 | AB18: =AA18*введ!C$18 -> 0 | AC18: =AA18*введ!C$22 -> 0 | AE18: =IF(C18=1,D18,0) -> 0 | AF18: =IF(C18>1,D18,0) -> 0
A19: 6 | E19: =IF(C19>=3,0,IF((D19-P19)>введ!C$11,введ!C$11,IF((D19-P19)<=введ!C$11,D19-P19,0))) -> 0 | F19: =IF(AC19>0,AC19,0) -> 0 | J19: =IF(C19>=3,D19-I19,D19-I19-E19-P19-F19-H19-G19) -> 0 | K19: =IF(C19=0,0,IF(C19>1,0,IF(D19<=введ!C$20*25,J19/100,J19/10))) -> 0 | L19: =IF(C19=0,0,IF(C19=1,0,IF(C19>=3,J19/10,IF(C19=2,IF(D19<=введ!C$20*25,J19/100,J19/10))))) -> 0 | N19: =IF(C19=3,0,IF(O19=1,0,D19-M19)) -> 0 | P19: =N19*10% -> 0 | R19: =IF(C19=3,0,IF(O19=1,0,D19-P19-Q19)) -> 0 | S19: =IF(OR(R19<=0,),0,MIN(MAX(введ!$C$11,R19),введ!$C$14)) -> 0 | T19: =ROUND(S19*введ!C$15,0) -> 0 | V19: =ROUND(U19*0.05,0) -> 0 | W19: =IF(D19=0,0,1) -> 0 | Z19: =IF(C19=3,0,IF(O19=1,0,D19-X19)) -> 0 | AA19: =IF(OR(Z19<=0,),0,MIN(MIN(введ!$C$17,Z19),введ!$C$17)) -> 0 | AB19: =AA19*введ!C$18 -> 0 | AC19: =AA19*введ!C$22 -> 0 | AE19: =IF(C19=1,D19,0) -> 0 | AF19: =IF(C19>1,D19,0) -> 0
A20: 7 | E20: =IF(C20>=3,0,IF((D20-P20)>введ!C$11,введ!C$11,IF((D20-P20)<=введ!C$11,D20-P20,0))) -> 0 | F20: =IF(AC20>0,AC20,0) -> 0 | J20: =IF(C20>=3,D20-I20,D20-I20-E20-P20-F20-H20-G20) -> 0 | K20: =IF(C20=0,0,IF(C20>1,0,IF(D20<=введ!C$20*25,J20/100,J20/10))) -> 0 | L20: =IF(C20=0,0,IF(C20=1,0,IF(C20>=3,J20/10,IF(C20=2,IF(D20<=введ!C$20*25,J20/100,J20/10))))) -> 0 | N20: =IF(C20=3,0,IF(O20=1,0,D20-M20)) -> 0 | P20: =N20*10% -> 0 | R20: =IF(C20=3,0,IF(O20=1,0,D20-P20-Q20)) -> 0 | S20: =IF(OR(R20<=0,),0,MIN(MAX(введ!$C$11,R20),введ!$C$14)) -> 0 | T20: =ROUND(S20*введ!C$15,0) -> 0 | V20: =ROUND(U20*0.05,0) -> 0 | W20: =IF(D20=0,0,1) -> 0 | Z20: =IF(C20=3,0,IF(O20=1,0,D20-X20)) -> 0 | AA20: =IF(OR(Z20<=0,),0,MIN(MIN(введ!$C$17,Z20),введ!$C$17)) -> 0 | AB20: =AA20*введ!C$18 -> 0 | AC20: =AA20*введ!C$22 -> 0 | AE20: =IF(C20=1,D20,0) -> 0 | AF20: =IF(C20>1,D20,0) -> 0
A21: 8 | E21: =IF(C21>=3,0,IF((D21-P21)>введ!C$11,введ!C$11,IF((D21-P21)<=введ!C$11,D21-P21,0))) -> 0 | F21: =IF(AC21>0,AC21,0) -> 0 | J21: =IF(C21>=3,D21-I21,D21-I21-E21-P21-F21-H21-G21) -> 0 | K21: =IF(C21=0,0,IF(C21>1,0,IF(D21<=введ!C$20*25,J21/100,J21/10))) -> 0 | L21: =IF(C21=0,0,IF(C21=1,0,IF(C21>=3,J21/10,IF(C21=2,IF(D21<=введ!C$20*25,J21/100,J21/10))))) -> 0 | N21: =IF(C21=3,0,IF(O21=1,0,D21-M21)) -> 0 | P21: =N21*10% -> 0 | R21: =IF(C21=3,0,IF(O21=1,0,D21-P21-Q21)) -> 0 | S21: =IF(OR(R21<=0,),0,MIN(MAX(введ!$C$11,R21),введ!$C$14)) -> 0 | T21: =ROUND(S21*введ!C$15,0) -> 0 | V21: =ROUND(U21*0.05,0) -> 0 | W21: =IF(D21=0,0,1) -> 0 | Z21: =IF(C21=3,0,IF(O21=1,0,D21-X21)) -> 0 | AA21: =IF(OR(Z21<=0,),0,MIN(MIN(введ!$C$17,Z21),введ!$C$17)) -> 0 | AB21: =AA21*введ!C$18 -> 0 | AC21: =AA21*введ!C$22 -> 0 | AE21: =IF(C21=1,D21,0) -> 0 | AF21: =IF(C21>1,D21,0) -> 0
A22: 9 | E22: =IF(C22>=3,0,IF((D22-P22)>введ!C$11,введ!C$11,IF((D22-P22)<=введ!C$11,D22-P22,0))) -> 0 | F22: =IF(AC22>0,AC22,0) -> 0 | J22: =IF(C22>=3,D22-I22,D22-I22-E22-P22-F22-H22-G22) -> 0 | K22: =IF(C22=0,0,IF(C22>1,0,IF(D22<=введ!C$20*25,J22/100,J22/10))) -> 0 | L22: =IF(C22=0,0,IF(C22=1,0,IF(C22>=3,J22/10,IF(C22=2,IF(D22<=введ!C$20*25,J22/100,J22/10))))) -> 0 | N22: =IF(C22=3,0,IF(O22=1,0,D22-M22)) -> 0 | P22: =N22*10% -> 0 | R22: =IF(C22=3,0,IF(O22=1,0,D22-P22-Q22)) -> 0 | S22: =IF(OR(R22<=0,),0,MIN(MAX(введ!$C$11,R22),введ!$C$14)) -> 0 | T22: =ROUND(S22*введ!C$15,0) -> 0 | V22: =ROUND(U22*0.05,0) -> 0 | W22: =IF(D22=0,0,1) -> 0 | Z22: =IF(C22=3,0,IF(O22=1,0,D22-X22)) -> 0 | AA22: =IF(OR(Z22<=0,),0,MIN(MIN(введ!$C$17,Z22),введ!$C$17)) -> 0 | AB22: =AA22*введ!C$18 -> 0 | AC22: =AA22*введ!C$22 -> 0 | AE22: =IF(C22=1,D22,0) -> 0 | AF22: =IF(C22>1,D22,0) -> 0
A23: 10 | E23: =IF(C23>=3,0,IF((D23-P23)>введ!C$11,введ!C$11,IF((D23-P23)<=введ!C$11,D23-P23,0))) -> 0 | F23: =IF(AC23>0,AC23,0) -> 0 | J23: =IF(C23>=3,D23-I23,D23-I23-E23-P23-F23-H23-G23) -> 0 | K23: =IF(C23=0,0,IF(C23>1,0,IF(D23<=введ!C$20*25,J23/100,J23/10))) -> 0 | L23: =IF(C23=0,0,IF(C23=1,0,IF(C23>=3,J23/10,IF(C23=2,IF(D23<=введ!C$20*25,J23/100,J23/10))))) -> 0 | N23: =IF(C23=3,0,IF(O23=1,0,D23-M23)) -> 0 | P23: =N23*10% -> 0 | R23: =IF(C23=3,0,IF(O23=1,0,D23-P23-Q23)) -> 0 | S23: =IF(OR(R23<=0,),0,MIN(MAX(введ!$C$11,R23),введ!$C$14)) -> 0 | T23: =ROUND(S23*введ!C$15,0) -> 0 | V23: =ROUND(U23*0.05,0) -> 0 | W23: =IF(D23=0,0,1) -> 0 | Z23: =IF(C23=3,0,IF(O23=1,0,D23-X23)) -> 0 | AA23: =IF(OR(Z23<=0,),0,MIN(MIN(введ!$C$17,Z23),введ!$C$17)) -> 0 | AB23: =AA23*введ!C$18 -> 0 | AC23: =AA23*введ!C$22 -> 0 | AE23: =IF(C23=1,D23,0) -> 0 | AF23: =IF(C23>1,D23,0) -> 0
A24: 11 | E24: =IF(C24>=3,0,IF((D24-P24)>введ!C$11,введ!C$11,IF((D24-P24)<=введ!C$11,D24-P24,0))) -> 0 | F24: =IF(AC24>0,AC24,0) -> 0 | J24: =IF(C24>=3,D24-I24,D24-I24-E24-P24-F24-H24-G24) -> 0 | K24: =IF(C24=0,0,IF(C24>1,0,IF(D24<=введ!C$20*25,J24/100,J24/10))) -> 0 | L24: =IF(C24=0,0,IF(C24=1,0,IF(C24>=3,J24/10,IF(C24=2,IF(D24<=введ!C$20*25,J24/100,J24/10))))) -> 0 | N24: =IF(C24=3,0,IF(O24=1,0,D24-M24)) -> 0 | P24: =N24*10% -> 0 | R24: =IF(C24=3,0,IF(O24=1,0,D24-P24-Q24)) -> 0 | S24: =IF(OR(R24<=0,),0,MIN(MAX(введ!$C$11,R24),введ!$C$14)) -> 0 | T24: =ROUND(S24*введ!C$15,0) -> 0 | V24: =ROUND(U24*0.05,0) -> 0 | W24: =IF(D24=0,0,1) -> 0 | Z24: =IF(C24=3,0,IF(O24=1,0,D24-X24)) -> 0 | AA24: =IF(OR(Z24<=0,),0,MIN(MIN(введ!$C$17,Z24),введ!$C$17)) -> 0 | AB24: =AA24*введ!C$18 -> 0 | AC24: =AA24*введ!C$22 -> 0 | AE24: =IF(C24=1,D24,0) -> 0 | AF24: =IF(C24>1,D24,0) -> 0
A25: 12 | E25: =IF(C25>=3,0,IF((D25-P25)>введ!C$11,введ!C$11,IF((D25-P25)<=введ!C$11,D25-P25,0))) -> 0 | F25: =IF(AC25>0,AC25,0) -> 0 | J25: =IF(C25>=3,D25-I25,D25-I25-E25-P25-F25-H25-G25) -> 0 | K25: =IF(C25=0,0,IF(C25>1,0,IF(D25<=введ!C$20*25,J25/100,J25/10))) -> 0 | L25: =IF(C25=0,0,IF(C25=1,0,IF(C25>=3,J25/10,IF(C25=2,IF(D25<=введ!C$20*25,J25/100,J25/10))))) -> 0 | N25: =IF(C25=3,0,IF(O25=1,0,D25-M25)) -> 0 | P25: =N25*10% -> 0 | R25: =IF(C25=3,0,IF(O25=1,0,D25-P25-Q25)) -> 0 | S25: =IF(OR(R25<=0,),0,MIN(MAX(введ!$C$11,R25),введ!$C$14)) -> 0 | T25: =ROUND(S25*введ!C$15,0) -> 0 | V25: =ROUND(U25*0.05,0) -> 0 | W25: =IF(D25=0,0,1) -> 0 | Z25: =IF(C25=3,0,IF(O25=1,0,D25-X25)) -> 0 | AA25: =IF(OR(Z25<=0,),0,MIN(MIN(введ!$C$17,Z25),введ!$C$17)) -> 0 | AB25: =AA25*введ!C$18 -> 0 | AC25: =AA25*введ!C$22 -> 0 | AE25: =IF(C25=1,D25,0) -> 0 | AF25: =IF(C25>1,D25,0) -> 0
