Workbook

Sheet 913.00
U1: форма 913.00 стр. 01
A2: Декларация для налогоплательщиков, применяющих специальный налоговый режим розничного налога
A4: Раздел. Общая информация о налогоплательщике
A6: 1 | B6: БИН (ИИН) | D6: 111111111111
A8: 2 | B8: Наименование налогоплательщика | G8: ААА
A10: 3 | B10: Налоговый период, за который представляется налоговая отчетность | P10: квартал | S10: 1 | U10: год | V10: 2021
A12: 4 | B12: Организационно-правовая форма налогоплательщика (Укажите Х в соответствующей ячейке)
B14: Юридическое лицо | J14: х | M14: Индивидуальный предприниматель
A15: 5 | B15: Вид декларации (Укажите Х в соответствующей ячейке) | N15: Первоначальная | S15: х | U15: Очередная
F17: Дополнительная | K17: По уведомлению | S17: Ликвидационная
A19: 6 | B19: Номер и дата уведомления (Заполняется в случае предоставления дополнительной декларации по уведомлению) | J19: А | K19: Номер | Q19: В | R19: Дата
A21: 7 | B21: Отдельные категории налогоплательщика в соответствии со статьей 40 Налогового кодекса (укажите Х)
A23: А | B23: доверительный управляющий | L23: В | M23: учредитель доверительного управления
A25: 8 | B25: Код валюты | E25: KZT
A27: Раздел. Доход за налоговый период
A29: Код строки | C29: Наименование
A30: 913.00.001 | C30: Доход от реализации | Q30: ='913.001.'!M7 -> 25000000
A32: 913.00.002 | C32: Доход от прироста стоимости юридических лиц | Q32: ='913.002'!E10 -> 3900000
A34: 913.00.003 | C34: Доход от списания обязательств | Q34: ='913.003'!I11 -> 100000
A36: 913.00.004 | C36: Доход по сомнительным обязательствам | Q36: ='913.004'!I10 -> 200000
A38: 913.00.005 | C38: Доход от уступки права требования: | Q38: =Q40+Q41 -> 3000
A40: I | C40: по приобретенному праву требования | Q40: ='913.005.1'!K15 -> 1000
A41: II | C41: по уступленному праву требования | Q41: ='913.005.2'!K15 -> 2000
A43: 913.00.006 | C43: Доходы, не отраженные в строках с 913.00.001 по 913.00.005 | Q43: =Q45+Q46+Q47 -> 35000
A45: I | Q45: ='913.006'!E8 -> 5000
A46: II | Q46: ='913.006'!E9 -> 6000
A47: III | Q47: ='913.006'!E10+'913.006'!E11+'913.006'!E12 -> 24000
A49: 913.00.007 | C49: Общая сумма совокупного годового дохода | Q49: =Q30+Q32+Q34+Q36+Q38+Q43 -> 29238000
A51: Раздел. Корректировка дохода
A53: 913.00.008 | C53: Корректировка дохода в соответствии с п.1 ст. 241 Налогового кодекса, в том числе: | Q53: =Q55+Q56+Q57 -> 19000
A55: I | Q55: ='913.008'!F10 -> 9000
A56: II | Q56: ='913.008'!F11 -> 10000
A57: III | Q57: ='913.008'!F12 -> 0
A59: 913.00.009 | C59: Корректировка дохода в соответствии с п.3 ст. 241 Налогового кодекса | Q59: ='913.009'!K12 -> 2000
A61: 913.00.010 | C61: Доход с учетом корректировок (913.00.007-913.00.008+ или - 913.00.009) | Q61: =Q49-Q53+Q59 -> 29221000
U62: форма 913.00 стр. 02
A64: БИН (ИИН) | C64: =D6 -> 111111111111
B66: Налоговый период, за который представляется налоговая отчетность | P66: квартал | S66: =S10 -> 1 | U66: год | V66: =V10 -> 2021
A68: Раздел. Расчет налогового обязательства
A70: 913.00.011 | C70: ВСЕГО КПН / ИПН (913.00.010 * 3%) | Q70: =Q61*0.03 -> 876630
...

Sheet 913.001.
A1: Налогоплательщик | E1: ='913.00'!G8 -> ААА
A2: ИИН | B2: ='913.00'!D6 -> 111111111111
A3: Налоговый период | D3: квартал | E3: ='913.00'!S10 -> 1 | F3: год | G3: ='913.00'!V10 -> 2021
A4: НАЛОГОВЫЙ РЕГИСТР
A5: к строке 913.00.001 "Доход от реализации"
A6: №№ | B6: Вид дохода | G6: Показатели | M6: Сумма, тенге
A7: ВСЕГО доходов от реализации (Строка 913.00.001) | M7: =SUM(M8:M25) -> 25000000
A8: 1 | B8: Реализация товаров | M8: 25000000
A9: 2 | B9: Реализация услуг
A10: 3
A11: 4
A12: 5
A13: 6
A14: 7
A15: 8
A16: 9
A17: 10
A18: 11
A19: 12
A20: 13
A21: 14
... A25: 18
A27: Исполнитель
F28: подпись | M28: Ф.И.О.

Sheet 913.002
A1: ='913.001.'!A1 -> Налогоплательщик | D1: ='913.00'!G8 -> ААА
A2: ИИН | B2: ='913.00'!D6 -> 111111111111
A3: Налоговый период | C3: квартал | D3: ='913.00'!S10 -> 1 | E3: год | F3: ='913.00'!V10 -> 2021
A5: НАЛОГОВЫЙ РЕГИСТР
A6: к строке 913.00.002 "Доход от прироста стоимости "
A7: I. "Доход от прироста стоимости (кроме долговых ЦБ)"
A8: № пп | B8: Вид дохода, наименование показателей (наименование контрагента, № и дата документа) | C8: Стоимость реализации (стоимость вклада) | D8: Первоначальная стоимость | E8: Доход от прироста стоимости (гр.2 –гр.3, при положительном результате | F8: Убыток от реализации (гр.2 – гр.3, при отрицательном результате)
A9: 0 | B9: 1 | C9: 2 | D9: 3 | E9: 4 | F9: 5
B10: ВСЕГО доход от прироста стоимости (итоги таблиц I и II) (Строка 913.00.002) | E10: =E11+G27 -> 3900000
B11: ИТОГО доход от прироста стоимости (кроме долговых ценных бумаг) | E11: =E12+E14+E21 -> 3900000
A12: 1 | B12: Реализация активов, указанных в пп 1-3) п.2.ст.228 НК РК - ВСЕГО | E12: =E13 -> 0
B13: в т.ч. Земельный участок по адресу: ------------, кадастровый № --------------------- | E13: =C13-D13 -> 0
A14: 2 | B14: Реализация ЦБ (кроме долговых ЦБ) и доли участия – ВСЕГО (1+2+3) | E14: =E15+E17+E19 -> 3900000
B15: в т.ч.:1. Акции и доли участия в юр.лице -всего | E15: =SUM(E16) -> 3900000
B16: из них:- доля в юрид.лице | C16: 5900000 | D16: 2000000 | E16: =C16-D16 -> 3900000
B17: 2.Ценные бумаги, реализованные на открытых торгах, находящихся на ФБ, функционирующей на территории РК -всего | E17: 0
B18: из них:-
B19: 3. Прочие ценные бумаги - всего | E19: 0
B20: из них:-
A21: 3 | B21: Передача активов, указанных в пп 1-3) п.2.ст.228 НК РК, в качестве вклада в уставной капитал- ВСЕГО | E21: =E22 -> 0
B22: в т.ч.:- Передача неустановленного оборудования в УК ТОО | E22: =C22-D22 -> 0
A25: № пп | B25: Вид дохода, наименование показателей (наименование контрагента, № и дата документа) | C25: Стоимость реализации | D25: Первоначальная стоимость (стоимость вклада) | E25: Амортизация дисконта (премии) | F25: Балансовая стоимость (гр.3 –гр.4) | G25: Доход от прироста стоимости (гр.2 –гр.5, при положительном результате | H25: Убыток от реализации (гр.2 – гр.5, при отрицательном результате)
A26: 0 | B26: 1 | C26: 2 | D26: 3 | E26: 4 | F26: 5 | G26: 6 | H26: 7
B27: ИТОГО доход от прироста стоимости долговых ценных бумаг | G27: =G28+G37 -> 0
A28: 1 | B28: Реализация долговых ценных бумаг – ВСЕГО (1+2+3+4) | G28: =G29+G31+G33+G35 -> 0
B29: в т.ч.:1. Облигации, реализованные на открытых торгах, находящихся на ФБ, функционирующей на территории РК -всего | G29: =G30 -> 0
B30: из них:- (перечисляется по каждому контрагенту)
B31: 2. Государственные эмиссионные ценные бумаги -всего | G31: =G32 -> 0
B32: из них:- (перечисляется по каждому контрагенту)
B33: 3. Агентские облигации - всего | G33: =G34 -> 0
B34: из них:- (перечисляется по каждому контрагенту)
B35: 4. Прочие долговые ценные бумаги - всего | G35: =G36 -> 0
B36: из них:- (перечисляется по каждому контрагенту)
A37: 2 | B37: Передача долговых ценных бумаг в качестве вклада в уставный капитал -ВСЕГО | G37: =G38 -> 0
B38: в т.ч.:- (перечисляется по каждому контрагенту)
B40: Исполнитель
C41: подпись | D41: Фамилия,И.О.

Sheet 913.003
J2: Форма 913.00
B3: Налоговый регистр "ДОХОД ОТ СПИСАНИЯ ОБЯЗАТЕЛЬСТВ"
B5: Раздел. Общая информация о налогоплательщике
A6: 1 | B6: БИН | C6: ='913.00'!D6 -> 111111111111
A7: 2 | B7: Налоговый период, за который предоставляется налоговая отчетность: | G7: квартал | H7: ='913.00'!S10 -> 1 | I7: год | J7: ='913.00'!V10 -> 2021
A9: № | B9: Наименование показателей
B10: Дата возникновения задолженности | C10: Наименование кредитора | F10: БИН | G10: За что | H10: Сумма обязательства | I10: Сумма дохода от списания обязательств, включаемая в СГД,
A11: 1 | B11: Итого дохода от списания обязательств (стр.1+стр.2+стр.3+стр.4) | I11: =I12+I16+I20+I24 -> 100000
A12: 2 | B12: Доход от списания обязательств с налогоплательщика его кредитором | I12: =SUM(I13:I15) -> 30000
A13: 1 | H13: 30000 | I13: =H13 -> 30000
A14: 2 | I14: =H14 -> 0
A15: 3 | I15: =H15 -> 0
A16: 3 | B16: Доход от списания обязательств, не востребованных кредиторами на момент утверждения ликвидационного баланса при ликвидации налогоплательщика | I16: =SUM(I17:I19) -> 0
A17: 1 | I17: =H17 -> 0
A18: 2 | I18: =H18 -> 0
A19: 3 | I19: =H19 -> 0
A20: 4 | B20: Доход от списания обязательств в связи с истечением срока исковой давности, установленного законодательными актами Республики Казахстан | I20: =SUM(I21:I23) -> 70000
A21: 1 | H21: 70000 | I21: =H21 -> 70000
A22: 2 | I22: =H22 -> 0
A23: 3 | I23: =H23 -> 0
A24: 4 | B24: Доход от списания обязательств по вступившему в законную силу решению суда | I24: =SUM(I25:I27) -> 0
A25: 1 | I25: =H25 -> 0
A26: 2 | I26: =H26 -> 0
A27: 3 | I27: =H27 -> 0
A29: Примечание. | C29: строка 1 переносится в 913.00.003

Sheet 913.004
J2: Форма 913.00
B3: Налоговый регистр "ДОХОД ПО СОМНИТЕЛЬНЫМ ОБЯЗАТЕЛЬСТВАМ"
B5: Раздел. Общая информация о налогоплательщике
A6: 1 | B6: БИН | C6: ='913.00'!D6 -> 111111111111
A7: 2 | B7: Налоговый период, за который предоставляется налоговая отчетность: | G7: квартал | H7: ='913.00'!S10 -> 1 | I7: год | J7: ='913.00'!V10 -> 2021
A9: № | B9: Наименование показателей | I9: Сумма
A10: 1 | B10: Доход по сомнительным обязательствам, в том числе: (стр.2+стр.3) | I10: =I11+I24 -> 200000
A11: 2 | B11: Сомнительные обязательства по товарам (работам, услугам) | I11: =SUM(I13:I22) -> 125000
B12: Дата возникновения задолженности | C12: Наименование кредитора | F12: БИН | G12: За что | H12: Общая сумма | I12: Сумма дохода
A13: 1 | H13: 125000 | I13: =H13 -> 125000
A14: 2 | I14: =H14 -> 0
A15: 3 | I15: =H15 -> 0
A16: 4 | I16: =H16 -> 0
A17: 5 | I17: =H17 -> 0
A18: 6 | I18: =H18 -> 0
A19: 7 | I19: =H19 -> 0
A20: 8 | I20: =H20 -> 0
A21: 9 | I21: =H21 -> 0
A22: 10 | I22: =H22 -> 0
A24: 3 | B24: Сомнительные обязательства по доходам работников | I24: =SUM(I26:I35) -> 75000
B25: Дата возникновения задолженности | C25: ФИО работника | F25: ИИН | G25: За что | H25: Общая сумма | I25: Сумма дохода
A26: 1 | H26: 75000 | I26: =H26 -> 75000
A27: 2 | I27: =H27 -> 0
A28: 3 | I28: =H28 -> 0
A29: 4 | I29: =H29 -> 0
A30: 5 | I30: =H30 -> 0
A31: 6 | I31: =H31 -> 0
A32: 7 | I32: =H32 -> 0
A33: 8 | I33: =H33 -> 0
A34: 9 | I34: =H34 -> 0
A35: 10 | I35: =H35 -> 0
A38: Примечание. | C38: строка 1 переносится в 913.00.004

Sheet 913.005.1
A1: Налогоплательщик | D1: ='913.00'!G8 -> ААА
A2: ИИН | B2: ='913.00'!D6 -> 111111111111
A3: Налоговый период | D3: квартал | E3: ='913.00'!S10 -> 1 | F3: год | G3: ='913.00'!V10 -> 2021
A4: НАЛОГОВЫЙ РЕГИСТР
A5: к строке 913.00.005 "Доходы от уступки права требования"
A6: Доход от уступки права требования (приобретение дебиторской задолженности)
A7: №пп | B7: Наименование контрагента, его БИН/ИИН | E7: Дебитор, его БИН/ИИН | F7: Дата образования дебиторской задолженности | G7: Дата списания дебиторской задолженности | H7: Дата признания дохода от уступки права требования | I7: Сумма задолженности дебитора | J7: Сумма приобретения долга | K7: Сумма дохода, включаемого в СГД
A8: 1 | B8: 2 | E8: 3 | F8: 4 | G8: 5 | H8: 6 | I8: 7 | J8: 8 | K8: 9
A9: 1 | I9: 16000 | J9: 15000 | K9: =I9-J9 -> 1000
K10: =I10-J10 -> 0
K11: =I11-J11 -> 0
K12: =I12-J12 -> 0
K13: =I13-J13 -> 0
K14: =I14-J14 -> 0
B15: ВСЕГО доходов от уступки права требования (включается в строку 913.00.005 I) | K15: =SUM(K9:K14) -> 1000
E17: Исполнитель
F18: подпись | G18: Фамилия,И.О.

Sheet 913.005.2
A1: Налогоплательщик | D1: ='913.00'!G8 -> ААА
A2: ИИН | B2: ='913.00'!D6 -> 111111111111
A3: Налоговый период | D3: квартал | E3: ='913.00'!S10 -> 1 | F3: год | G3: ='913.00'!V10 -> 2021
A4: НАЛОГОВЫЙ РЕГИСТР
A5: к строке 913.00.005 "Доходы от уступки права требования"
A6: Доход от уступки права требования (уступка дебиторской задолженности)
A7: №пп | B7: Наименование контрагента, его БИН/ИИН | E7: Дебитор, его БИН/ИИН | F7: Дата образования дебиторской задолженности | G7: Дата списания дебиторской задолженности | H7: Дата признания дохода от уступки права требования | I7: Сумма уступки долга | J7: Сумма задолженности дебитора | K7: Сумма дохода, включаемого в СГД
A8: 1 | B8: 2 | E8: 3 | F8: 4 | G8: 5 | H8: 6 | I8: 7 | J8: 8 | K8: 9
A9: 1 | I9: 26000 | J9: 24000 | K9: =I9-J9 -> 2000
K10: =I10-J10 -> 0
K11: =I11-J11 -> 0
K12: =I12-J12 -> 0
K13: =I13-J13 -> 0
K14: =I14-J14 -> 0
B15: ВСЕГО доходов от уступки права требования (включается в строку 913.00.005 II) | K15: =SUM(K9:K14) -> 2000
E17: Исполнитель
F18: подпись | G18: Фамилия,И.О.

Sheet 913.006
A1: Налогоплательщик | D1: ='913.00'!G8 -> ААА
A2: ИИН | B2: ='913.00'!D6 -> 111111111111
A3: Налоговый период | C3: квартал | D3: ='913.00'!S10 -> 1 | E3: год | F3: ='913.00'!V10 -> 2021
A4: СВОДНЫЙ НАЛОГОВЫЙ РЕГИСТР
A5: к строке 913.00.006 "Прочие доходы"
A7: №пп | B7: Вид доходов | E7: Сумма
A8: 1 | B8: Доход от присужденных или признанных должником штрафов, пени и других экономических санкций | E8: 5000
A9: 2 | B9: Доход от дивидендов; вознаграждений по депозиту, долговой ценной бумаге, векселю, исламскому арендному сертификату; выигрышей | E9: 6000
A10: 3 | B10: Доход от превышения положительной курсовой разницы | E10: 7000
A11: 4 | B11: Доход от безвозмездно полученного имущества | E11: 8000
A12: 5 | B12: Прочие доходы, не перечисленные выше | E12: 9000
B13: ВСЕГО прочих доходов (Строка 913.00.006) | E13: =SUM(E8:E12) -> 35000
C15: Исполнитель
D16: подпись | E16: Фамилия,И.О.

Sheet 913.008
A1: Налогоплательщик | D1: ='913.00'!G8 -> ААА
A2: ИИН | B2: ='913.00'!D6 -> 111111111111
A3: Налоговый период | D3: ='913.006'!D3 -> 1
A4: НАЛОГОВЫЙ РЕГИСТР
A5: к строке 913.00.008 "Корректировка доходов в соответствии с п.1 ст. 241 НК РК"
A7: №№ п/п | B7: Вид корректировки | C7: Наименование контрагента, плательщика дохода, его БИН/ИИН или наименование дохода | D7: № и дата документа, по которому начислен доход | F7: Начисленная сумма дохода
A8: 1 | B8: 2 | C8: 3 | D8: 4 | F8: 5
B9: Корректировка доходов | F9: =SUM(F10:F12) -> 19000
A10: 1 | B10: дивиденды от других юридических лиц | F10: 9000
A11: 2 | B11: чистый доход от доверительного управления имуществом, полученный (подлежащий получению) учредителем доверительного управления | F11: 10000
A12: 3 | B12: прочие доходы п.1 ст. 241 НК РК
B15: Исполнитель
C16: подпись | D16: Фамилия,И.О.

Sheet 913.009
K2: Форма 913.00
B3: Налоговый регистр "КОРРЕКТИРОВКА ДОХОДА п.3 ст. 241 НК"
B5: Раздел. Общая информация о налогоплательщике
A6: 1 | B6: БИН | C6: ='913.00'!D6 -> 111111111111
A7: 2 | B7: Налоговый период, за который предоставляется налоговая отчетность: | H7: квартал | I7: ='913.00'!S10 -> 1 | J7: год | K7: ='913.00'!V10 -> 2021
A9: № | B9: Наименование показателей | K9: Сумма
A10: 1 | B10: Сальдо ТМЗ на начало налогового периода по старому методу оценки | K10: 1500000
A11: 2 | B11: Сальдо ТМЗ на начало налогового периода по новому методу оценки | K11: 1502000
A12: 3 | B12: Положительная / отрицательная разница, образовавшаяся в результате применения нового метода оценки ТМЗ | K12: =K11-K10 -> 2000
A15: Примечание. | C15: строка 3 переносится в стр.913.00.009

Sheet Лист1
