Workbook
Name _SUB100: введение!$A$3
Name sub1002163307: введение!$A$4

Sheet введение
B3: Уважаемые пользователи ИС §«Бухгалтер»!
B6: Данная форма призвана оказать Вам помощь при заполнении упрощенной декларации для субъектов малого бизнеса ИП по форме 910.00 за 2-е полугодие 2020 года. В форме № 910 Декларации ничего заполнять вручную нельзя, все данные заполняются автомотически из приложений №1, №2.1, №2.2, №2.3, №2.4, №2.5, №2.6, №3. В приложениях нужно заполнять только те строки, которые выделены желтым цветом, все остальное считается автоматически.
B10: Справочник
B11: МЗП = | C11: 42500 | E11: тенге
B12: Доход для ОПВ max = | C12: 2125000 | E12: тенге
B13: ОПВ max = | C13: =C12*0.1 -> 212500 | E13: тенге
B14: Доход для СО max = | C14: 297500 | E14: тенге
B15: ставка для СО= | C15: 0.035
B16: СО max = | C16: =C14*C15 -> 10412.5 | E16: тенге
B17: Доход для ОСМС отчислений max = | C17: 425000
B18: ставка для ООСМС= | C18: 0.02
B19: ООСМС max = | C19: =C17*C18 -> 8500
B20: Месячный расчетный показатель = | C20: 2778 | E20: тенге
B21: Доход для взносов ОСМС max = | C21: 425000
B22: ставка для ВОСМС= | C22: 0.01
B23: ООСМС max = | C23: =C21*C22 -> 4250

Sheet № 910 Декларация 
N2: Форма 910.00
B4: УПРОЩЕННАЯ ДЕКЛАРАЦИЯ ДЛЯ СУБЪЕКТОВ МАЛОГО БИЗНЕСА (910.00) за 2020 год для ИП
B6: Раздел. Общая информация о налогоплательщике
A8: 1 | B8: ИИН (БИН)
A10: 2 | B10: Ф.И.О. или наименование налогоплательщика
A12: 3 | B12: Налоговый период, за который представляется налоговая отчетность: | J12: полугодие | L12: 2 | N12: год | O12: 2020
A14: 4 | B14: Категория налогоплательщика | E14: (укажите | F14: Х | I14: в соответствующей ячейке)
C16: А | D16: доверительный управляющий в соответствии со статьей 40 Налогового кодекса | M16: С | N16: ведет бухгалтерский учет в соответствии с пунктом 2 статьи 2 Закона Республики Казахстан "О бухгалтерском учете и финансовой отчетности" | P16: х
C18: В | D18: учредитель доверительного управления в соответствии со статьей 40 Налогового кодекса | M18: D | N18: не ведет бухгалтерский учет в соответствии с пунктом 2 статьи 2 Закона Республики Казахстан "О бухгалтерском учете и финансовой отчетности"
A20: 5 | B20: Вид декларации | D20: (укажите | E20: Х | G20: в соответствующей ячейке)
B22: первоначальная | E22: очередная | H22: дополнительная | J22: дополнительная по уведомлению | N22: ликвидационная
A24: 6 | B24: Номер и дата уведомления (заполняется в случае представления дополнительной декларации по уведомлению)
C26: А | D26: номер | M26: В | N26: Дата
A29: 7 | B29: Код валюты | D29: KZT
A31: 8 | B31: Признак резидентства: | E31: А | G31: резидент РК | J31: X | N31: В | O31: нерезидент РК
B32: (укажите | C32: Х | E32: в соответствующей ячейке)
A33: Раздел. Исчисление налогов
A35: Код строки | C35: Наименование показателей | M35: Сумма
A36: 910.00.001 | C36: Доход | M36: ='№ 1 доход ИП '!C21 -> 25300600
C38: A | D38: доходы полученные путем безналичных расчетов | M38: 22800600
D39: I | E39: в том числе, с применением трехкомпонентной системы | M39: 22800600
C40: B | D40: доходы полученные путем наличных расчетов | M40: 2500000
D41: I | E41: в том числе, с применением трехкомпонентной системы | M41: 2500000
A42: 910.00.002 | C42: в том числе доход от корректировки в соответствии с Законом о трансферном ценообразовании
A44: 910.00.003 | C44: Среднемесячная численность работников | M44: =ROUND(('№ 2.1 Начис. доходы работников'!V26+'№ 2.2 Начис.доходы работников'!V26+'№ 2.3 Начис. доходы работ'!V26+'№ 2.4 Начис. доходы работ'!V26+'№ 2.5 Начис. доходы работ. '!V26+'№ 2.6 Начис. доходы работ. '!V26)/6,0) -> 3
C46: А | D46: пенсионеры | M46: =ROUND(('№ 2.1 Начис. доходы работников'!N26+'№ 2.2 Начис.доходы работников'!M25+'№ 2.3 Начис. доходы работ'!L25+'№ 2.4 Начис. доходы работ'!L25+'№ 2.5 Начис. доходы работ. '!L25+'№ 2.6 Начис. доходы работ. '!L25)/6,0) -> 0 | Q46: указывается среднесписочная численность работников-пенсионеров
C48: В | D48: инвалиды | Q48: указывается среднесписочная численность работников-инвалидов
A50: 910.00.004 | C50: Среднемесячная заработная плата на одного работника (Х26 2.1+2.2+2.3+2.4+2.5+2.6)/6 | M50: =('№ 2.1 Начис. доходы работников'!AC26+'№ 2.2 Начис.доходы работников'!AC26+'№ 2.3 Начис. доходы работ'!AC26+'№ 2.4 Начис. доходы работ'!AC26+'№ 2.5 Начис. доходы работ. '!AC26+'№ 2.6 Начис. доходы работ. '!AC26)/6 -> 90000
A52: 910.00.005 | C52: Сумма исчисленных налогов (910.00.001*3%) | M52: =ROUND(M36*3%,0) -> 759018
A54: 910.00.006 | C54: Корректировка суммы налогов в соответствии с пунктом 2 статьи 687 Налогового кодекса | M54: =ROUND((IF(M50>=23*введение!C20,M52*(M44)*0.015,0)),0) -> 34156
A56: 910.00.007 | C56: Сумма налогов после корректировки (910.00.005-910.00.006) | M56: =M52-M54 -> 724862
A58: 910.00.008 | C58: Сумма индивидуального (корпоративного) подоходного налога, подлежащего уплате в бюджет (910.00.007*0,5) | M58: =ROUND(M56*0.5,0) -> 362431
A60: 910.00.009 | C60: Сумма социального налога, подлежащего уплате в бюджет ((910.00.007*0,5)-910.00.011 VII-910.00.018 VII) | M60: =ROUND((IF((M56*0.5-M77-M114)>0,M56*0.5-M77-M114,0)),0) -> 295021 | Q60: Если в 2020-2022 гг. ИП вправе уменьшить сумму ИПН и социального налога, исчисленных в соответствии со статьей 687 Налогового кодекса на основании статьи 57-4 Закона РК от 25 декабря 2017 года № 121-VI «О введении в действие Кодекса РК «О налогах и других обязательных платежах в бюджет» (Налоговый кодекс)», то в строках 910.00.008, 910.00.009, 910.00.011 будут указываться нулевые суммы ИПН и социального налога.
A62: 910.00.010 | C62: Уменьшение индивидуальным предпринимателем суммы ИПН, подлежащего уплате в бюджет в соответствии с пунктом 2-1 статьи 687 Налогового кодекса (на сумму 60 000 тенге, но не более чем на 50 процентов от исчисленной суммы ИПН) за текущий календарный год | M62: 60000
A64: 910.00.011 | C64: Сумма ИПН (КПН), подлежащего уплате в бюджет за налоговый период, 910.00.008-910.00.010 | M64: =M58-M62 -> 302431
A66: Раздел. Исчисление социальных отчислений и обязательных пенсионных взносов за индивидуального предпринимателя
A68: 910.00.012 | C68: Доход, для исчисления социальных отчислений
A69: 1 мес | C69: I | D69: ='№ 1 доход ИП '!G14 -> 150000 | J69: 4 мес | L69: IV | M69: ='№ 1 доход ИП '!G17 -> 150000
A70: 2 мес | C70: II | D70: ='№ 1 доход ИП '!G15 -> 150000 | J70: 5 мес | L70: V | M70: ='№ 1 доход ИП '!G18 -> 150000
A71: 3 мес | C71: III | D71: ='№ 1 доход ИП '!G16 -> 150000 | J71: 6 мес | L71: VI | M71: ='№ 1 доход ИП '!G19 -> 150000
...

Sheet № 1 доход ИП 
F2: Форма 910.00
B3: Реализация товаров, выполнение работ, оказание услуг
B5: Раздел. Общая информация о налогоплательщике
A7: 1 | B7: ИИН (БИН) | C7: ='№ 910 Декларация '!D8 -> 0
A8: 2 | B8: Налоговый период, за который предоставляется налоговая отчетность: полугодие | F8: ='№ 910 Декларация '!L12 -> 2 | G8: год | H8: ='№ 910 Декларация '!O12 -> 2020
B12: период | C12: реализация товаров | D12: выполнение работ, оказание услуг | E12: прочий доход | F12: доход, заявленный для исчисления ОПВ за себя | G12: доход, заявленный для исчисления социальных отчислений в свою пользу
B13: 1 | C13: 2 | D13: 3 | E13: 4 | F13: 5 | G13: 6
A14: 1 | B14: 1 месяц полугодия | F14: 200000 | G14: 150000
A15: 2 | B15: 2 месяц полугодия | F15: 200000 | G15: 150000
A16: 2 | B16: 3 месяц полугодия | F16: 200000 | G16: 150000
A17: 4 | B17: 4 месяц полугодия | F17: 200000 | G17: 150000
A18: 5 | B18: 5 месяц полугодия | F18: 200000 | G18: 150000
A19: 6 | B19: 6 месяц полугодия | C19: 22800600 | D19: 2500000 | F19: 200000 | G19: 150000
A20: 13 | B20: Итого | C20: =SUM(C14:C19) -> 22800600 | D20: =SUM(D14:D19) -> 2500000 | E20: =SUM(E14:E19) -> 0 | F20: =SUM(F14:F19) -> 1200000 | G20: =SUM(G14:G19) -> 900000
A21: 14 | B21: Итого | C21: =C20+D20+E20 -> 25300600
B24: Ограничения по доходам ТОО согласно п. 2 ст.683 НК | E24: =IF(C21<2800*введение!C11,"Может применять текущий налоговый режим","НЕОБХОДИМО СМЕНИТЬ НАЛОГОВЫЙ РЕЖИМ!!!!") -> Может применять текущий налоговый режим
A30: (Ф.И.О., подпись руководителя (налогоплательщика), печать)
A33: (Ф.И.О., подпись главного бухгалтера )
A36: (Дата составления налогового регистра)
A39: Примечание. | C39: строка 14 переносится в № 910.00 по строке 910.00.003

Sheet № 2.1 Начис. доходы работников
V1: Форма 910.00
A4: Наименование налогоплательщика
A6: 1 | B6: РНН
A7: 2 | B7: ИИН (БИН) | E7: ='№ 910 Декларация '!D8 -> 0
A8: 3 | B8: Налоговый период: месяц Год | E8: =IF('№ 910 Декларация '!L12=1,"январь","июль") -> июль | H8: ='№ 910 Декларация '!O12 -> 2020
A10: Налоговый регистр: "Начисленные доходы работникам для целей налогообложения в первом месяце полугодия"
A13: № п/п | B13: Ф.И.О. работника | C13: Признак резиденства: гражданин РК - 1; иностранный гражданин резидент - 2; иностранный гражданин нерезидент - 3 | D13: начисленный доход | E13: примененный вычет 1 МЗП | F13: вычет взносов ОСМС | G13: прочие вычеты | H13: Доходы, не облагаемые ИПН | I13: Доходы, облагаемые ИПН | J13: Индивидуальный подоходный налог с доходов граждан РК | K13: Индивидуальный подоходный налог с доходов иностранцев и лиц без гражданства | L13: Доходы, не облагаемые ОПВ | M13: Доход для исчисления обязательных пенсионных взносов | N13: Пенсионер (если да, то нужно поставить 1) | O13: Обязательные пенсионные взносы | P13: Доходы не облагаемые СО | Q13: Предварительный расчет объекта для исчисления СО | R13: Доход для исчисления социальных отчислений | S13: Обязательные социальные отчисления | T13: Доход для исчисления обязательных профессиональных пенсионных взносов | U13: Обязательные профессиональные пенсионные взносы | V13: Численность работников | W13: Доходы не принимаемые для исчисления ОСМС | X13: Корректировка дохода 90% | Y13: Предварительный расчет объекта для исчисления ОСМС | Z13: Доходы принимаемые для исчисления ОСМС | AA13: Сумма отчислений на обязательное социальное медицинское страхование, к уплате | AB13: Сумма взносов на обязательное социальное медицинское страхование, к уплате | AC13: Среднемесячная заработная плата на одного работника
A14: 1 | B14: РК | C14: 1 | D14: 110000 | E14: =IF(C14=3,0,IF((D14-O14)>введение!C$11,введение!C$11,IF((D14-O14)<=введение!C$11,D14-O14,0))) -> 42500 | F14: =IF(AB14>0,AB14,0) -> 1100 | I14: =IF(C14=3,D14-H14,D14-H14-E14-O14-F14-G14) -> 55400 | J14: =IF(C14=0,0,IF(C14>1,0,IF(D14<=введение!C$20*25,I14/100,I14/10))) -> 5540 | K14: =IF(C14=0,0,IF(C14=1,0,IF(C14=3,I14/10,IF(C14=2,IF(D14<=введение!C$20*25,I14/100,I14/10))))) -> 0 | M14: =IF(C14=3,0,IF(N14=1,0,D14-L14)) -> 110000 | O14: =M14*10% -> 11000 | Q14: =IF(C14=3,0,IF(N14=1,0,D14-O14-P14)) -> 99000 | R14: =IF(OR(Q14<=0,),0,MIN(MAX(введение!$C$11,Q14),введение!$C$14)) -> 99000 | S14: =ROUND(R14*введение!C$15,0) -> 3465 | U14: =ROUND(T14*0.05,0) -> 0 | V14: =IF(D14=0,0,1) -> 1 | X14: =IF(C14=3,0,IF(D14<=введение!C$20*25,0,0)) -> 0 | Y14: =IF(C14=3,0,IF(N14=1,0,D14-W14-X14)) -> 110000 | Z14: =IF(OR(Y14<=0,),0,MIN(MIN(введение!$C$17,Y14),введение!$C$17)) -> 110000 | AA14: =Z14*введение!C$18 -> 2200 | AB14: =Z14*введение!C$22 -> 1100
A15: 2 | B15: РФ | C15: 2 | D15: 80000 | E15: =IF(C15=3,0,IF((D15-O15)>введение!C$11,введение!C$11,IF((D15-O15)<=введение!C$11,D15-O15,0))) -> 42500 | F15: =IF(AB15>0,AB15,0) -> 800 | I15: =IF(C15=3,D15-H15,D15-H15-E15-O15-F15-G15) -> 28700 | J15: =IF(C15=0,0,IF(C15>1,0,IF(D15<=введение!C$20*25,I15/100,I15/10))) -> 0 | K15: =IF(C15=0,0,IF(C15=1,0,IF(C15=3,I15/10,IF(C15=2,IF(D15<=введение!C$20*25,I15/100,I15/10))))) -> 2870 | M15: =IF(C15=3,0,IF(N15=1,0,D15-L15)) -> 80000 | O15: =M15*10% -> 8000 | Q15: =IF(C15=3,0,IF(N15=1,0,D15-O15-P15)) -> 72000 | R15: =IF(OR(Q15<=0,),0,MIN(MAX(введение!$C$11,Q15),введение!$C$14)) -> 72000 | S15: =ROUND(R15*введение!C$15,0) -> 2520 | U15: =ROUND(T15*0.05,0) -> 0 | V15: =IF(D15=0,0,1) -> 1 | X15: =IF(C15=3,0,IF(D15<=введение!C$20*25,0,0)) -> 0 | Y15: =IF(C15=3,0,IF(N15=1,0,D15-W15-X15)) -> 80000 | Z15: =IF(OR(Y15<=0,),0,MIN(MIN(введение!$C$17,Y15),введение!$C$17)) -> 80000 | AA15: =Z15*введение!C$18 -> 1600 | AB15: =Z15*введение!C$22 -> 800
A16: 3 | B16: Тур | C16: 3 | D16: 80000 | E16: =IF(C16=3,0,IF((D16-O16)>введение!C$11,введение!C$11,IF((D16-O16)<=введение!C$11,D16-O16,0))) -> 0 | F16: =IF(AB16>0,AB16,0) -> 0 | I16: =IF(C16=3,D16-H16,D16-H16-E16-O16-F16-G16) -> 80000 | J16: =IF(C16=0,0,IF(C16>1,0,IF(D16<=введение!C$20*25,I16/100,I16/10))) -> 0 | K16: =IF(C16=0,0,IF(C16=1,0,IF(C16=3,I16/10,IF(C16=2,IF(D16<=введение!C$20*25,I16/100,I16/10))))) -> 8000 | M16: =IF(C16=3,0,IF(N16=1,0,D16-L16)) -> 0 | O16: =M16*10% -> 0 | Q16: =IF(C16=3,0,IF(N16=1,0,D16-O16-P16)) -> 0 | R16: =IF(OR(Q16<=0,),0,MIN(MAX(введение!$C$11,Q16),введение!$C$14)) -> 0 | S16: =ROUND(R16*введение!C$15,0) -> 0 | U16: =ROUND(T16*0.05,0) -> 0 | V16: =IF(D16=0,0,1) -> 1 | X16: =IF(C16=3,0,IF(D16<=введение!C$20*25,0,0)) -> 0 | Y16: =IF(C16=3,0,IF(N16=1,0,D16-W16-X16)) -> 0 | Z16: =IF(OR(Y16<=0,),0,MIN(MIN(введение!$C$17,Y16),введение!$C$17)) -> 0 | AA16: =Z16*введение!C$18 -> 0 | AB16: =Z16*введение!C$22 -> 0
A17: 4 | E17: =IF(C17=3,0,IF((D17-O17)>введение!C$11,введение!C$11,IF((D17-O17)<=введение!C$11,D17-O17,0))) -> 0 | F17: =IF(AB17>0,AB17,0) -> 0 | I17: =IF(C17=3,D17-H17,D17-H17-E17-O17-F17-G17) -> 0 | J17: =IF(C17=0,0,IF(C17>1,0,IF(D17<=введение!C$20*25,I17/100,I17/10))) -> 0 | K17: =IF(C17=0,0,IF(C17=1,0,IF(C17=3,I17/10,IF(C17=2,IF(D17<=введение!C$20*25,I17/100,I17/10))))) -> 0 | M17: =IF(C17=3,0,IF(N17=1,0,D17-L17)) -> 0 | O17: =M17*10% -> 0 | Q17: =IF(C17=3,0,IF(N17=1,0,D17-O17-P17)) -> 0 | R17: =IF(OR(Q17<=0,),0,MIN(MAX(введение!$C$11,Q17),введение!$C$14)) -> 0 | S17: =ROUND(R17*введение!C$15,0) -> 0 | U17: =ROUND(T17*0.05,0) -> 0 | V17: =IF(D17=0,0,1) -> 0 | X17: =IF(C17=3,0,IF(D17<=введение!C$20*25,0,0)) -> 0 | Y17: =IF(C17=3,0,IF(N17=1,0,D17-W17-X17)) -> 0 | Z17: =IF(OR(Y17<=0,),0,MIN(MIN(введение!$C$17,Y17),введение!$C$17)) -> 0 | AA17: =Z17*введение!C$18 -> 0 | AB17: =Z17*введение!C$22 -> 0
A18: 5 | E18: =IF(C18=3,0,IF((D18-O18)>введение!C$11,введение!C$11,IF((D18-O18)<=введение!C$11,D18-O18,0))) -> 0 | F18: =IF(AB18>0,AB18,0) -> 0 | I18: =IF(C18=3,D18-H18,D18-H18-E18-O18-F18-G18) -> 0 | J18: =IF(C18=0,0,IF(C18>1,0,IF(D18<=введение!C$20*25,I18/100,I18/10))) -> 0 | K18: =IF(C18=0,0,IF(C18=1,0,IF(C18=3,I18/10,IF(C18=2,IF(D18<=введение!C$20*25,I18/100,I18/10))))) -> 0 | M18: =IF(C18=3,0,IF(N18=1,0,D18-L18)) -> 0 | O18: =M18*10% -> 0 | Q18: =IF(C18=3,0,IF(N18=1,0,D18-O18-P18)) -> 0 | R18: =IF(OR(Q18<=0,),0,MIN(MAX(введение!$C$11,Q18),введение!$C$14)) -> 0 | S18: =ROUND(R18*введение!C$15,0) -> 0 | U18: =ROUND(T18*0.05,0) -> 0 | V18: =IF(D18=0,0,1) -> 0 | X18: =IF(C18=3,0,IF(D18<=введение!C$20*25,0,0)) -> 0 | Y18: =IF(C18=3,0,IF(N18=1,0,D18-W18-X18)) -> 0 | Z18: =IF(OR(Y18<=0,),0,MIN(MIN(введение!$C$17,Y18),введение!$C$17)) -> 0 | AA18: =Z18*введение!C$18 -> 0 | AB18: =Z18*введение!C$22 -> 0
A19: 6 | E19: =IF(C19=3,0,IF((D19-O19)>введение!C$11,введение!C$11,IF((D19-O19)<=введение!C$11,D19-O19,0))) -> 0 | F19: =IF(AB19>0,AB19,0) -> 0 | I19: =IF(C19=3,D19-H19,D19-H19-E19-O19-F19-G19) -> 0 | J19: =IF(C19=0,0,IF(C19>1,0,IF(D19<=введение!C$20*25,I19/100,I19/10))) -> 0 | K19: =IF(C19=0,0,IF(C19=1,0,IF(C19=3,I19/10,IF(C19=2,IF(D19<=введение!C$20*25,I19/100,I19/10))))) -> 0 | M19: =IF(C19=3,0,IF(N19=1,0,D19-L19)) -> 0 | O19: =M19*10% -> 0 | Q19: =IF(C19=3,0,IF(N19=1,0,D19-O19-P19)) -> 0 | R19: =IF(OR(Q19<=0,),0,MIN(MAX(введение!$C$11,Q19),введение!$C$14)) -> 0 | S19: =ROUND(R19*введение!C$15,0) -> 0 | U19: =ROUND(T19*0.05,0) -> 0 | V19: =IF(D19=0,0,1) -> 0 | X19: =IF(C19=3,0,IF(D19<=введение!C$20*25,0,0)) -> 0 | Y19: =IF(C19=3,0,IF(N19=1,0,D19-W19-X19)) -> 0 | Z19: =IF(OR(Y19<=0,),0,MIN(MIN(введение!$C$17,Y19),введение!$C$17)) -> 0 | AA19: =Z19*введение!C$18 -> 0 | AB19: =Z19*введение!C$22 -> 0
A20: 7 | E20: =IF(C20=3,0,IF((D20-O20)>введение!C$11,введение!C$11,IF((D20-O20)<=введение!C$11,D20-O20,0))) -> 0 | F20: =IF(AB20>0,AB20,0) -> 0 | I20: =IF(C20=3,D20-H20,D20-H20-E20-O20-F20-G20) -> 0 | J20: =IF(C20=0,0,IF(C20>1,0,IF(D20<=введение!C$20*25,I20/100,I20/10))) -> 0 | K20: =IF(C20=0,0,IF(C20=1,0,IF(C20=3,I20/10,IF(C20=2,IF(D20<=введение!C$20*25,I20/100,I20/10))))) -> 0 | M20: =IF(C20=3,0,IF(N20=1,0,D20-L20)) -> 0 | O20: =M20*10% -> 0 | Q20: =IF(C20=3,0,IF(N20=1,0,D20-O20-P20)) -> 0 | R20: =IF(OR(Q20<=0,),0,MIN(MAX(введение!$C$11,Q20),введение!$C$14)) -> 0 | S20: =ROUND(R20*введение!C$15,0) -> 0 | U20: =ROUND(T20*0.05,0) -> 0 | V20: =IF(D20=0,0,1) -> 0 | X20: =IF(C20=3,0,IF(D20<=введение!C$20*25,0,0)) -> 0 | Y20: =IF(C20=3,0,IF(N20=1,0,D20-W20-X20)) -> 0 | Z20: =IF(OR(Y20<=0,),0,MIN(MIN(введение!$C$17,Y20),введение!$C$17)) -> 0 | AA20: =Z20*введение!C$18 -> 0 | AB20: =Z20*введение!C$22 -> 0
A21: 8 | E21: =IF(C21=3,0,IF((D21-O21)>введение!C$11,введение!C$11,IF((D21-O21)<=введение!C$11,D21-O21,0))) -> 0 | F21: =IF(AB21>0,AB21,0) -> 0 | I21: =IF(C21=3,D21-H21,D21-H21-E21-O21-F21-G21) -> 0 | J21: =IF(C21=0,0,IF(C21>1,0,IF(D21<=введение!C$20*25,I21/100,I21/10))) -> 0 | K21: =IF(C21=0,0,IF(C21=1,0,IF(C21=3,I21/10,IF(C21=2,IF(D21<=введение!C$20*25,I21/100,I21/10))))) -> 0 | M21: =IF(C21=3,0,IF(N21=1,0,D21-L21)) -> 0 | O21: =M21*10% -> 0 | Q21: =IF(C21=3,0,IF(N21=1,0,D21-O21-P21)) -> 0 | R21: =IF(OR(Q21<=0,),0,MIN(MAX(введение!$C$11,Q21),введение!$C$14)) -> 0 | S21: =ROUND(R21*введение!C$15,0) -> 0 | U21: =ROUND(T21*0.05,0) -> 0 | V21: =IF(D21=0,0,1) -> 0 | X21: =IF(C21=3,0,IF(D21<=введение!C$20*25,0,0)) -> 0 | Y21: =IF(C21=3,0,IF(N21=1,0,D21-W21-X21)) -> 0 | Z21: =IF(OR(Y21<=0,),0,MIN(MIN(введение!$C$17,Y21),введение!$C$17)) -> 0 | AA21: =Z21*введение!C$18 -> 0 | AB21: =Z21*введение!C$22 -> 0
A22: 9 | E22: =IF(C22=3,0,IF((D22-O22)>введение!C$11,введение!C$11,IF((D22-O22)<=введение!C$11,D22-O22,0))) -> 0 | F22: =IF(AB22>0,AB22,0) -> 0 | I22: =IF(C22=3,D22-H22,D22-H22-E22-O22-F22-G22) -> 0 | J22: =IF(C22=0,0,IF(C22>1,0,IF(D22<=введение!C$20*25,I22/100,I22/10))) -> 0 | K22: =IF(C22=0,0,IF(C22=1,0,IF(C22=3,I22/10,IF(C22=2,IF(D22<=введение!C$20*25,I22/100,I22/10))))) -> 0 | M22: =IF(C22=3,0,IF(N22=1,0,D22-L22)) -> 0 | O22: =M22*10% -> 0 | Q22: =IF(C22=3,0,IF(N22=1,0,D22-O22-P22)) -> 0 | R22: =IF(OR(Q22<=0,),0,MIN(MAX(введение!$C$11,Q22),введение!$C$14)) -> 0 | S22: =ROUND(R22*введение!C$15,0) -> 0 | U22: =ROUND(T22*0.05,0) -> 0 | V22: =IF(D22=0,0,1) -> 0 | X22: =IF(C22=3,0,IF(D22<=введение!C$20*25,0,0)) -> 0 | Y22: =IF(C22=3,0,IF(N22=1,0,D22-W22-X22)) -> 0 | Z22: =IF(OR(Y22<=0,),0,MIN(MIN(введение!$C$17,Y22),введение!$C$17)) -> 0 | AA22: =Z22*введение!C$18 -> 0 | AB22: =Z22*введение!C$22 -> 0
A23: 10 | E23: =IF(C23=3,0,IF((D23-O23)>введение!C$11,введение!C$11,IF((D23-O23)<=введение!C$11,D23-O23,0))) -> 0 | F23: =IF(AB23>0,AB23,0) -> 0 | I23: =IF(C23=3,D23-H23,D23-H23-E23-O23-F23-G23) -> 0 | J23: =IF(C23=0,0,IF(C23>1,0,IF(D23<=введение!C$20*25,I23/100,I23/10))) -> 0 | K23: =IF(C23=0,0,IF(C23=1,0,IF(C23=3,I23/10,IF(C23=2,IF(D23<=введение!C$20*25,I23/100,I23/10))))) -> 0 | M23: =IF(C23=3,0,IF(N23=1,0,D23-L23)) -> 0 | O23: =M23*10% -> 0 | Q23: =IF(C23=3,0,IF(N23=1,0,D23-O23-P23)) -> 0 | R23: =IF(OR(Q23<=0,),0,MIN(MAX(введение!$C$11,Q23),введение!$C$14)) -> 0 | S23: =ROUND(R23*введение!C$15,0) -> 0 | U23: =ROUND(T23*0.05,0) -> 0 | V23: =IF(D23=0,0,1) -> 0 | X23: =IF(C23=3,0,IF(D23<=введение!C$20*25,0,0)) -> 0 | Y23: =IF(C23=3,0,IF(N23=1,0,D23-W23-X23)) -> 0 | Z23: =IF(OR(Y23<=0,),0,MIN(MIN(введение!$C$17,Y23),введение!$C$17)) -> 0 | AA23: =Z23*введение!C$18 -> 0 | AB23: =Z23*введение!C$22 -> 0
A24: 11 | E24: =IF(C24=3,0,IF((D24-O24)>введение!C$11,введение!C$11,IF((D24-O24)<=введение!C$11,D24-O24,0))) -> 0 | F24: =IF(AB24>0,AB24,0) -> 0 | I24: =IF(C24=3,D24-H24,D24-H24-E24-O24-F24-G24) -> 0 | J24: =IF(C24=0,0,IF(C24>1,0,IF(D24<=введение!C$20*25,I24/100,I24/10))) -> 0 | K24: =IF(C24=0,0,IF(C24=1,0,IF(C24=3,I24/10,IF(C24=2,IF(D24<=введение!C$20*25,I24/100,I24/10))))) -> 0 | M24: =IF(C24=3,0,IF(N24=1,0,D24-L24)) -> 0 | O24: =M24*10% -> 0 | Q24: =IF(C24=3,0,IF(N24=1,0,D24-O24-P24)) -> 0 | R24: =IF(OR(Q24<=0,),0,MIN(MAX(введение!$C$11,Q24),введение!$C$14)) -> 0 | S24: =ROUND(R24*введение!C$15,0) -> 0 | U24: =ROUND(T24*0.05,0) -> 0 | V24: =IF(D24=0,0,1) -> 0 | X24: =IF(C24=3,0,IF(D24<=введение!C$20*25,0,0)) -> 0 | Y24: =IF(C24=3,0,IF(N24=1,0,D24-W24-X24)) -> 0 | Z24: =IF(OR(Y24<=0,),0,MIN(MIN(введение!$C$17,Y24),введение!$C$17)) -> 0 | AA24: =Z24*введение!C$18 -> 0 | AB24: =Z24*введение!C$22 -> 0
A25: 12 | E25: =IF(C25=3,0,IF((D25-O25)>введение!C$11,введение!C$11,IF((D25-O25)<=введение!C$11,D25-O25,0))) -> 0 | F25: =IF(AB25>0,AB25,0) -> 0 | I25: =IF(C25=3,D25-H25,D25-H25-E25-O25-F25-G25) -> 0 | J25: =IF(C25=0,0,IF(C25>1,0,IF(D25<=введение!C$20*25,I25/100,I25/10))) -> 0 | K25: =IF(C25=0,0,IF(C25=1,0,IF(C25=3,I25/10,IF(C25=2,IF(D25<=введение!C$20*25,I25/100,I25/10))))) -> 0 | M25: =IF(C25=3,0,IF(N25=1,0,D25-L25)) -> 0 | O25: =M25*10% -> 0 | Q25: =IF(C25=3,0,IF(N25=1,0,D25-O25-P25)) -> 0 | R25: =IF(OR(Q25<=0,),0,MIN(MAX(введение!$C$11,Q25),введение!$C$14)) -> 0 | S25: =ROUND(R25*введение!C$15,0) -> 0 | U25: =ROUND(T25*0.05,0) -> 0 | V25: =IF(D25=0,0,1) -> 0 | X25: =IF(C25=3,0,IF(D25<=введение!C$20*25,0,0)) -> 0 | Y25: =IF(C25=3,0,IF(N25=1,0,D25-W25-X25)) -> 0 | Z25: =IF(OR(Y25<=0,),0,MIN(MIN(введение!$C$17,Y25),введение!$C$17)) -> 0 | AA25: =Z25*введение!C$18 -> 0 | AB25: =Z25*введение!C$22 -> 0
A26: Итого: | D26: =SUM(D14:D25) -> 270000 | E26: =SUM(E14:E25) -> 85000 | F26: =SUM(F14:F25) -> 1900 | G26: =SUM(G14:G25) -> 0 | H26: =SUM(H14:H25) -> 0 | I26: =SUM(I14:I25) -> 164100 | J26: =SUM(J14:J25) -> 5540 | K26: =SUM(K14:K25) -> 10870 | ... AB26: =SUM(AB14:AB25) -> 1900 | AC26: =IF(D26>0,D26/V26,0) -> 90000
A29: (Ф.И.О., подпись руководителя (налогоплательщика), печать)
A32: (Ф.И.О., подпись главного бухгалтера )
A35: (Ф.И.О., подпись лица, ответственного за составление налогового регистра)
A38: (Дата составления налогового регистра)

Sheet № 2.2 Начис.доходы работников
T2: Форма 910.00
A5: Наименование налогоплательщика
A7: 1 | B7: РНН
A8: 2 | B8: ИИН (БИН) | E8: ='№ 910 Декларация '!D8 -> 0
A9: 3 | B9: Налоговый период: месяц Год | E9: =IF('№ 910 Декларация '!L12=1,"февраль","август") -> август | H9: ='№ 910 Декларация '!O12 -> 2020
A11: Налоговый регистр: "Начисленные доходы работникам для целей налогообложения во втором месяце полугодия"
A13: № п/п | B13: Ф.И.О. работника | C13: Признак резиденства: гражданин РК - 1; иностранный гражданин резидент - 2; иностранный гражданин нерезидент - 3 | D13: начисленный доход | E13: примененный вычет 1 МЗП | F13: вычет взносов ОСМС | G13: прочие вычеты | H13: Доходы, не облагаемые ИПН | I13: Доходы, облагаемые ИПН | J13: Индивидуальный подоходный налог с доходов граждан РК | K13: Индивидуальный подоходный налог с доходов иностранцев и лиц без гражданства | L13: Доходы, не облагаемые ОПВ | M13: Доход для исчисления обязательных пенсионных взносов | N13: Пенсионер (если да, то нужно поставить 1) | O13: Обязательные пенсионные взносы | P13: Доходы не облагаемые СО | Q13: Предварительный расчет объекта для исчисления СО | R13: Доход для исчисления социальных очтислений | S13: Обязательные социальные отчисления | T13: Доход для исчисления обязательных профессиональных пенсионных взносов | U13: Обязательные профессиональные пенсионные взносы | V13: Численность работников | W13: Доходы не принимаемые для исчисления ОСМС | X13: Корректировка дохода 90% | Y13: Предварительный расчет объекта для исчисления ОСМС | Z13: Доходы принимаемые для исчисления ОСМС | AA13: Сумма отчислений на обязательное социальное медицинское страхование, к уплате | AB13: Сумма взносов на обязательное социальное медицинское страхование, к уплате | AC13: Среднемесячная заработная плата на одного работника
A14: 1 | B14: РК | C14: 1 | D14: 110000 | E14: =IF(C14=3,0,IF((D14-O14)>введение!C$11,введение!C$11,IF((D14-O14)<=введение!C$11,D14-O14,0))) -> 42500 | F14: =IF(AB14>0,AB14,0) -> 1100 | I14: =IF(C14=3,D14-H14,D14-H14-E14-O14-F14-G14) -> 55400 | J14: =IF(C14=0,0,IF(C14>1,0,IF(D14<=введение!C$20*25,I14/100,I14/10))) -> 5540 | K14: =IF(C14=0,0,IF(C14=1,0,IF(C14=3,I14/10,IF(C14=2,IF(D14<=введение!C$20*25,I14/100,I14/10))))) -> 0 | M14: =IF(C14=3,0,IF(N14=1,0,D14-L14)) -> 110000 | O14: =M14*10% -> 11000 | Q14: =IF(C14=3,0,IF(N14=1,0,D14-O14-P14)) -> 99000 | R14: =IF(OR(Q14<=0,),0,MIN(MAX(введение!$C$11,Q14),введение!$C$14)) -> 99000 | S14: =ROUND(R14*введение!C$15,0) -> 3465 | U14: =ROUND(T14*0.05,0) -> 0 | V14: =IF(D14=0,0,1) -> 1 | X14: =IF(C14=3,0,IF(D14<=введение!C$20*25,0,0)) -> 0 | Y14: =IF(C14=3,0,IF(N14=1,0,D14-W14-X14)) -> 110000 | Z14: =IF(OR(Y14<=0,),0,MIN(MIN(введение!$C$17,Y14),введение!$C$17)) -> 110000 | AA14: =Z14*введение!C$18 -> 2200 | AB14: =Z14*введение!C$22 -> 1100
A15: 2 | B15: РФ | C15: 2 | D15: 80000 | E15: =IF(C15=3,0,IF((D15-O15)>введение!C$11,введение!C$11,IF((D15-O15)<=введение!C$11,D15-O15,0))) -> 42500 | F15: =IF(AB15>0,AB15,0) -> 800 | I15: =IF(C15=3,D15-H15,D15-H15-E15-O15-F15-G15) -> 28700 | J15: =IF(C15=0,0,IF(C15>1,0,IF(D15<=введение!C$20*25,I15/100,I15/10))) -> 0 | K15: =IF(C15=0,0,IF(C15=1,0,IF(C15=3,I15/10,IF(C15=2,IF(D15<=введение!C$20*25,I15/100,I15/10))))) -> 2870 | M15: =IF(C15=3,0,IF(N15=1,0,D15-L15)) -> 80000 | O15: =M15*10% -> 8000 | Q15: =IF(C15=3,0,IF(N15=1,0,D15-O15-P15)) -> 72000 | R15: =IF(OR(Q15<=0,),0,MIN(MAX(введение!$C$11,Q15),введение!$C$14)) -> 72000 | S15: =ROUND(R15*введение!C$15,0) -> 2520 | U15: =ROUND(T15*0.05,0) -> 0 | V15: =IF(D15=0,0,1) -> 1 | X15: =IF(C15=3,0,IF(D15<=введение!C$20*25,0,0)) -> 0 | Y15: =IF(C15=3,0,IF(N15=1,0,D15-W15-X15)) -> 80000 | Z15: =IF(OR(Y15<=0,),0,MIN(MIN(введение!$C$17,Y15),введение!$C$17)) -> 80000 | AA15: =Z15*введение!C$18 -> 1600 | AB15: =Z15*введение!C$22 -> 800
A16: 3 | B16: Тур | C16: 3 | D16: 80000 | E16: =IF(C16=3,0,IF((D16-O16)>введение!C$11,введение!C$11,IF((D16-O16)<=введение!C$11,D16-O16,0))) -> 0 | F16: =IF(AB16>0,AB16,0) -> 0 | I16: =IF(C16=3,D16-H16,D16-H16-E16-O16-F16-G16) -> 80000 | J16: =IF(C16=0,0,IF(C16>1,0,IF(D16<=введение!C$20*25,I16/100,I16/10))) -> 0 | K16: =IF(C16=0,0,IF(C16=1,0,IF(C16=3,I16/10,IF(C16=2,IF(D16<=введение!C$20*25,I16/100,I16/10))))) -> 8000 | M16: =IF(C16=3,0,IF(N16=1,0,D16-L16)) -> 0 | O16: =M16*10% -> 0 | Q16: =IF(C16=3,0,IF(N16=1,0,D16-O16-P16)) -> 0 | R16: =IF(OR(Q16<=0,),0,MIN(MAX(введение!$C$11,Q16),введение!$C$14)) -> 0 | S16: =ROUND(R16*введение!C$15,0) -> 0 | U16: =ROUND(T16*0.05,0) -> 0 | V16: =IF(D16=0,0,1) -> 1 | X16: =IF(C16=3,0,IF(D16<=введение!C$20*25,0,0)) -> 0 | Y16: =IF(C16=3,0,IF(N16=1,0,D16-W16-X16)) -> 0 | Z16: =IF(OR(Y16<=0,),0,MIN(MIN(введение!$C$17,Y16),введение!$C$17)) -> 0 | AA16: =Z16*введение!C$18 -> 0 | AB16: =Z16*введение!C$22 -> 0
A17: 4 | E17: =IF(C17=3,0,IF((D17-O17)>введение!C$11,введение!C$11,IF((D17-O17)<=введение!C$11,D17-O17,0))) -> 0 | F17: =IF(AB17>0,AB17,0) -> 0 | I17: =IF(C17=3,D17-H17,D17-H17-E17-O17-F17-G17) -> 0 | J17: =IF(C17=0,0,IF(C17>1,0,IF(D17<=введение!C$20*25,I17/100,I17/10))) -> 0 | K17: =IF(C17=0,0,IF(C17=1,0,IF(C17=3,I17/10,IF(C17=2,IF(D17<=введение!C$20*25,I17/100,I17/10))))) -> 0 | M17: =IF(C17=3,0,IF(N17=1,0,D17-L17)) -> 0 | O17: =M17*10% -> 0 | Q17: =IF(C17=3,0,IF(N17=1,0,D17-O17-P17)) -> 0 | R17: =IF(OR(Q17<=0,),0,MIN(MAX(введение!$C$11,Q17),введение!$C$14)) -> 0 | S17: =ROUND(R17*введение!C$15,0) -> 0 | U17: =ROUND(T17*0.05,0) -> 0 | V17: =IF(D17=0,0,1) -> 0 | X17: =IF(C17=3,0,IF(D17<=введение!C$20*25,0,0)) -> 0 | Y17: =IF(C17=3,0,IF(N17=1,0,D17-W17-X17)) -> 0 | Z17: =IF(OR(Y17<=0,),0,MIN(MIN(введение!$C$17,Y17),введение!$C$17)) -> 0 | AA17: =Z17*введение!C$18 -> 0 | AB17: =Z17*введение!C$22 -> 0
A18: 5 | E18: =IF(C18=3,0,IF((D18-O18)>введение!C$11,введение!C$11,IF((D18-O18)<=введение!C$11,D18-O18,0))) -> 0 | F18: =IF(AB18>0,AB18,0) -> 0 | I18: =IF(C18=3,D18-H18,D18-H18-E18-O18-F18-G18) -> 0 | J18: =IF(C18=0,0,IF(C18>1,0,IF(D18<=введение!C$20*25,I18/100,I18/10))) -> 0 | K18: =IF(C18=0,0,IF(C18=1,0,IF(C18=3,I18/10,IF(C18=2,IF(D18<=введение!C$20*25,I18/100,I18/10))))) -> 0 | M18: =IF(C18=3,0,IF(N18=1,0,D18-L18)) -> 0 | O18: =M18*10% -> 0 | Q18: =IF(C18=3,0,IF(N18=1,0,D18-O18-P18)) -> 0 | R18: =IF(OR(Q18<=0,),0,MIN(MAX(введение!$C$11,Q18),введение!$C$14)) -> 0 | S18: =ROUND(R18*введение!C$15,0) -> 0 | U18: =ROUND(T18*0.05,0) -> 0 | V18: =IF(D18=0,0,1) -> 0 | X18: =IF(C18=3,0,IF(D18<=введение!C$20*25,0,0)) -> 0 | Y18: =IF(C18=3,0,IF(N18=1,0,D18-W18-X18)) -> 0 | Z18: =IF(OR(Y18<=0,),0,MIN(MIN(введение!$C$17,Y18),введение!$C$17)) -> 0 | AA18: =Z18*введение!C$18 -> 0 | AB18: =Z18*введение!C$22 -> 0
A19: 6 | E19: =IF(C19=3,0,IF((D19-O19)>введение!C$11,введение!C$11,IF((D19-O19)<=введение!C$11,D19-O19,0))) -> 0 | F19: =IF(AB19>0,AB19,0) -> 0 | I19: =IF(C19=3,D19-H19,D19-H19-E19-O19-F19-G19) -> 0 | J19: =IF(C19=0,0,IF(C19>1,0,IF(D19<=введение!C$20*25,I19/100,I19/10))) -> 0 | K19: =IF(C19=0,0,IF(C19=1,0,IF(C19=3,I19/10,IF(C19=2,IF(D19<=введение!C$20*25,I19/100,I19/10))))) -> 0 | M19: =IF(C19=3,0,IF(N19=1,0,D19-L19)) -> 0 | O19: =M19*10% -> 0 | Q19: =IF(C19=3,0,IF(N19=1,0,D19-O19-P19)) -> 0 | R19: =IF(OR(Q19<=0,),0,MIN(MAX(введение!$C$11,Q19),введение!$C$14)) -> 0 | S19: =ROUND(R19*введение!C$15,0) -> 0 | U19: =ROUND(T19*0.05,0) -> 0 | V19: =IF(D19=0,0,1) -> 0 | X19: =IF(C19=3,0,IF(D19<=введение!C$20*25,0,0)) -> 0 | Y19: =IF(C19=3,0,IF(N19=1,0,D19-W19-X19)) -> 0 | Z19: =IF(OR(Y19<=0,),0,MIN(MIN(введение!$C$17,Y19),введение!$C$17)) -> 0 | AA19: =Z19*введение!C$18 -> 0 | AB19: =Z19*введение!C$22 -> 0
A20: 7 | E20: =IF(C20=3,0,IF((D20-O20)>введение!C$11,введение!C$11,IF((D20-O20)<=введение!C$11,D20-O20,0))) -> 0 | F20: =IF(AB20>0,AB20,0) -> 0 | I20: =IF(C20=3,D20-H20,D20-H20-E20-O20-F20-G20) -> 0 | J20: =IF(C20=0,0,IF(C20>1,0,IF(D20<=введение!C$20*25,I20/100,I20/10))) -> 0 | K20: =IF(C20=0,0,IF(C20=1,0,IF(C20=3,I20/10,IF(C20=2,IF(D20<=введение!C$20*25,I20/100,I20/10))))) -> 0 | M20: =IF(C20=3,0,IF(N20=1,0,D20-L20)) -> 0 | O20: =M20*10% -> 0 | Q20: =IF(C20=3,0,IF(N20=1,0,D20-O20-P20)) -> 0 | R20: =IF(OR(Q20<=0,),0,MIN(MAX(введение!$C$11,Q20),введение!$C$14)) -> 0 | S20: =ROUND(R20*введение!C$15,0) -> 0 | U20: =ROUND(T20*0.05,0) -> 0 | V20: =IF(D20=0,0,1) -> 0 | X20: =IF(C20=3,0,IF(D20<=введение!C$20*25,0,0)) -> 0 | Y20: =IF(C20=3,0,IF(N20=1,0,D20-W20-X20)) -> 0 | Z20: =IF(OR(Y20<=0,),0,MIN(MIN(введение!$C$17,Y20),введение!$C$17)) -> 0 | AA20: =Z20*введение!C$18 -> 0 | AB20: =Z20*введение!C$22 -> 0
A21: 8 | E21: =IF(C21=3,0,IF((D21-O21)>введение!C$11,введение!C$11,IF((D21-O21)<=введение!C$11,D21-O21,0))) -> 0 | F21: =IF(AB21>0,AB21,0) -> 0 | I21: =IF(C21=3,D21-H21,D21-H21-E21-O21-F21-G21) -> 0 | J21: =IF(C21=0,0,IF(C21>1,0,IF(D21<=введение!C$20*25,I21/100,I21/10))) -> 0 | K21: =IF(C21=0,0,IF(C21=1,0,IF(C21=3,I21/10,IF(C21=2,IF(D21<=введение!C$20*25,I21/100,I21/10))))) -> 0 | M21: =IF(C21=3,0,IF(N21=1,0,D21-L21)) -> 0 | O21: =M21*10% -> 0 | Q21: =IF(C21=3,0,IF(N21=1,0,D21-O21-P21)) -> 0 | R21: =IF(OR(Q21<=0,),0,MIN(MAX(введение!$C$11,Q21),введение!$C$14)) -> 0 | S21: =ROUND(R21*введение!C$15,0) -> 0 | U21: =ROUND(T21*0.05,0) -> 0 | V21: =IF(D21=0,0,1) -> 0 | X21: =IF(C21=3,0,IF(D21<=введение!C$20*25,0,0)) -> 0 | Y21: =IF(C21=3,0,IF(N21=1,0,D21-W21-X21)) -> 0 | Z21: =IF(OR(Y21<=0,),0,MIN(MIN(введение!$C$17,Y21),введение!$C$17)) -> 0 | AA21: =Z21*введение!C$18 -> 0 | AB21: =Z21*введение!C$22 -> 0
A22: 9 | E22: =IF(C22=3,0,IF((D22-O22)>введение!C$11,введение!C$11,IF((D22-O22)<=введение!C$11,D22-O22,0))) -> 0 | F22: =IF(AB22>0,AB22,0) -> 0 | I22: =IF(C22=3,D22-H22,D22-H22-E22-O22-F22-G22) -> 0 | J22: =IF(C22=0,0,IF(C22>1,0,IF(D22<=введение!C$20*25,I22/100,I22/10))) -> 0 | K22: =IF(C22=0,0,IF(C22=1,0,IF(C22=3,I22/10,IF(C22=2,IF(D22<=введение!C$20*25,I22/100,I22/10))))) -> 0 | M22: =IF(C22=3,0,IF(N22=1,0,D22-L22)) -> 0 | O22: =M22*10% -> 0 | Q22: =IF(C22=3,0,IF(N22=1,0,D22-O22-P22)) -> 0 | R22: =IF(OR(Q22<=0,),0,MIN(MAX(введение!$C$11,Q22),введение!$C$14)) -> 0 | S22: =ROUND(R22*введение!C$15,0) -> 0 | U22: =ROUND(T22*0.05,0) -> 0 | V22: =IF(D22=0,0,1) -> 0 | X22: =IF(C22=3,0,IF(D22<=введение!C$20*25,0,0)) -> 0 | Y22: =IF(C22=3,0,IF(N22=1,0,D22-W22-X22)) -> 0 | Z22: =IF(OR(Y22<=0,),0,MIN(MIN(введение!$C$17,Y22),введение!$C$17)) -> 0 | AA22: =Z22*введение!C$18 -> 0 | AB22: =Z22*введение!C$22 -> 0
A23: 10 | E23: =IF(C23=3,0,IF((D23-O23)>введение!C$11,введение!C$11,IF((D23-O23)<=введение!C$11,D23-O23,0))) -> 0 | F23: =IF(AB23>0,AB23,0) -> 0 | I23: =IF(C23=3,D23-H23,D23-H23-E23-O23-F23-G23) -> 0 | J23: =IF(C23=0,0,IF(C23>1,0,IF(D23<=введение!C$20*25,I23/100,I23/10))) -> 0 | K23: =IF(C23=0,0,IF(C23=1,0,IF(C23=3,I23/10,IF(C23=2,IF(D23<=введение!C$20*25,I23/100,I23/10))))) -> 0 | M23: =IF(C23=3,0,IF(N23=1,0,D23-L23)) -> 0 | O23: =M23*10% -> 0 | Q23: =IF(C23=3,0,IF(N23=1,0,D23-O23-P23)) -> 0 | R23: =IF(OR(Q23<=0,),0,MIN(MAX(введение!$C$11,Q23),введение!$C$14)) -> 0 | S23: =ROUND(R23*введение!C$15,0) -> 0 | U23: =ROUND(T23*0.05,0) -> 0 | V23: =IF(D23=0,0,1) -> 0 | X23: =IF(C23=3,0,IF(D23<=введение!C$20*25,0,0)) -> 0 | Y23: =IF(C23=3,0,IF(N23=1,0,D23-W23-X23)) -> 0 | Z23: =IF(OR(Y23<=0,),0,MIN(MIN(введение!$C$17,Y23),введение!$C$17)) -> 0 | AA23: =Z23*введение!C$18 -> 0 | AB23: =Z23*введение!C$22 -> 0
A24: 11 | E24: =IF(C24=3,0,IF((D24-O24)>введение!C$11,введение!C$11,IF((D24-O24)<=введение!C$11,D24-O24,0))) -> 0 | F24: =IF(AB24>0,AB24,0) -> 0 | I24: =IF(C24=3,D24-H24,D24-H24-E24-O24-F24-G24) -> 0 | J24: =IF(C24=0,0,IF(C24>1,0,IF(D24<=введение!C$20*25,I24/100,I24/10))) -> 0 | K24: =IF(C24=0,0,IF(C24=1,0,IF(C24=3,I24/10,IF(C24=2,IF(D24<=введение!C$20*25,I24/100,I24/10))))) -> 0 | M24: =IF(C24=3,0,IF(N24=1,0,D24-L24)) -> 0 | O24: =M24*10% -> 0 | Q24: =IF(C24=3,0,IF(N24=1,0,D24-O24-P24)) -> 0 | R24: =IF(OR(Q24<=0,),0,MIN(MAX(введение!$C$11,Q24),введение!$C$14)) -> 0 | S24: =ROUND(R24*введение!C$15,0) -> 0 | U24: =ROUND(T24*0.05,0) -> 0 | V24: =IF(D24=0,0,1) -> 0 | X24: =IF(C24=3,0,IF(D24<=введение!C$20*25,0,0)) -> 0 | Y24: =IF(C24=3,0,IF(N24=1,0,D24-W24-X24)) -> 0 | Z24: =IF(OR(Y24<=0,),0,MIN(MIN(введение!$C$17,Y24),введение!$C$17)) -> 0 | AA24: =Z24*введение!C$18 -> 0 | AB24: =Z24*введение!C$22 -> 0
A25: 12 | E25: =IF(C25=3,0,IF((D25-O25)>введение!C$11,введение!C$11,IF((D25-O25)<=введение!C$11,D25-O25,0))) -> 0 | F25: =IF(AB25>0,AB25,0) -> 0 | I25: =IF(C25=3,D25-H25,D25-H25-E25-O25-F25-G25) -> 0 | J25: =IF(C25=0,0,IF(C25>1,0,IF(D25<=введение!C$20*25,I25/100,I25/10))) -> 0 | K25: =IF(C25=0,0,IF(C25=1,0,IF(C25=3,I25/10,IF(C25=2,IF(D25<=введение!C$20*25,I25/100,I25/10))))) -> 0 | M25: =IF(C25=3,0,IF(N25=1,0,D25-L25)) -> 0 | O25: =M25*10% -> 0 | Q25: =IF(C25=3,0,IF(N25=1,0,D25-O25-P25)) -> 0 | R25: =IF(OR(Q25<=0,),0,MIN(MAX(введение!$C$11,Q25),введение!$C$14)) -> 0 | S25: =ROUND(R25*введение!C$15,0) -> 0 | U25: =ROUND(T25*0.05,0) -> 0 | V25: =IF(D25=0,0,1) -> 0 | X25: =IF(C25=3,0,IF(D25<=введение!C$20*25,0,0)) -> 0 | Y25: =IF(C25=3,0,IF(N25=1,0,D25-W25-X25)) -> 0 | Z25: =IF(OR(Y25<=0,),0,MIN(MIN(введение!$C$17,Y25),введение!$C$17)) -> 0 | AA25: =Z25*введение!C$18 -> 0 | AB25: =Z25*введение!C$22 -> 0
A26: Итого: | D26: =SUM(D14:D25) -> 270000 | E26: =SUM(E14:E25) -> 85000 | F26: =SUM(F14:F25) -> 1900 | G26: =SUM(G14:G25) -> 0 | H26: =SUM(H14:H25) -> 0 | I26: =SUM(I14:I25) -> 164100 | J26: =SUM(J14:J25) -> 5540 | K26: =SUM(K14:K25) -> 10870 | ... AB26: =SUM(AB14:AB25) -> 1900 | AC26: =IF(D26>0,D26/V26,0) -> 90000
A28: (Ф.И.О., подпись руководителя (налогоплательщика), печать)
A31: (Ф.И.О., подпись главного бухгалтера )
A34: (Ф.И.О., подпись лица, ответственного за составление налогового регистра)
A37: (Дата составления налогового регистра)

Sheet № 2.3 Начис. доходы работ
S2: Форма 910.00
A5: Наименование налогоплательщика
A7: 1 | B7: РНН
A8: 2 | B8: ИИН (БИН) | D8: ='№ 910 Декларация '!D8 -> 0
A9: 3 | B9: Налоговый период: месяц Год | D9: =IF('№ 910 Декларация '!L12=1,"март","сентябрь") -> сентябрь | E9: ='№ 910 Декларация '!O12 -> 2020
A11: Налоговый регистр: "Начисленные доходы работникам для целей налогообложения в третьем месяце полугодия"
A13: № п/п | B13: Ф.И.О. работника | C13: Признак резиденства: гражданин РК - 1; иностранный гражданин резидент - 2; иностранный гражданин нерезидент - 3 | D13: начисленный доход | E13: примененный вычет 1 МЗП | F13: вычет взносов ОСМС | G13: прочие вычеты | H13: Доходы, не облагаемые ИПН | I13: Доходы, облагаемые ИПН | J13: Индивидуальный подоходный налог с доходов граждан РК | K13: Индивидуальный подоходный налог с доходов иностранцев и лиц без гражданства | L13: Доходы, не облагаемые ОПВ | M13: Доход для исчисления обязательных пенсионных взносов | N13: Пенсионер (если да, то нужно поставить 1) | O13: Обязательные пенсионные взносы | P13: Доходы не облагаемые СО | Q13: Предварительный расчет объекта для исчисления СО | R13: Доход для исчисления социальных очтислений | S13: Обязательные социальные отчисления | T13: Доход для исчисления обязательных профессиональных пенсионных взносов | U13: Обязательные профессиональные пенсионные взносы | V13: Численность работников | W13: Доходы не принимаемые для исчисления ОСМС | X13: Корректировка дохода 90% | Y13: Предварительный расчет объекта для исчисления ОСМС | Z13: Доходы принимаемые для исчисления ОСМС | AA13: Сумма отчислений на обязательное социальное медицинское страхование, к уплате | AB13: Сумма взносов на обязательное социальное медицинское страхование, к уплате | AC13: Среднемесячная заработная плата на одного работника
A14: 1 | B14: РК | C14: 1 | D14: 110000 | E14: =IF(C14=3,0,IF((D14-O14)>введение!C$11,введение!C$11,IF((D14-O14)<=введение!C$11,D14-O14,0))) -> 42500 | F14: =IF(AB14>0,AB14,0) -> 1100 | I14: =IF(C14=3,D14-H14,D14-H14-E14-O14-F14-G14) -> 55400 | J14: =IF(C14=0,0,IF(C14>1,0,IF(D14<=введение!C$20*25,I14/100,I14/10))) -> 5540 | K14: =IF(C14=0,0,IF(C14=1,0,IF(C14=3,I14/10,IF(C14=2,IF(D14<=введение!C$20*25,I14/100,I14/10))))) -> 0 | M14: =IF(C14=3,0,IF(N14=1,0,D14-L14)) -> 110000 | O14: =M14*10% -> 11000 | Q14: =IF(C14=3,0,IF(N14=1,0,D14-O14-P14)) -> 99000 | R14: =IF(OR(Q14<=0,),0,MIN(MAX(введение!$C$11,Q14),введение!$C$14)) -> 99000 | S14: =ROUND(R14*введение!C$15,0) -> 3465 | U14: =ROUND(T14*0.05,0) -> 0 | V14: =IF(D14=0,0,1) -> 1 | X14: =IF(C14=3,0,IF(D14<=введение!C$20*25,0,0)) -> 0 | Y14: =IF(C14=3,0,IF(N14=1,0,D14-W14-X14)) -> 110000 | Z14: =IF(OR(Y14<=0,),0,MIN(MIN(введение!$C$17,Y14),введение!$C$17)) -> 110000 | AA14: =Z14*введение!C$18 -> 2200 | AB14: =Z14*введение!C$22 -> 1100
A15: 2 | B15: РФ | C15: 2 | D15: 80000 | E15: =IF(C15=3,0,IF((D15-O15)>введение!C$11,введение!C$11,IF((D15-O15)<=введение!C$11,D15-O15,0))) -> 42500 | F15: =IF(AB15>0,AB15,0) -> 800 | I15: =IF(C15=3,D15-H15,D15-H15-E15-O15-F15-G15) -> 28700 | J15: =IF(C15=0,0,IF(C15>1,0,IF(D15<=введение!C$20*25,I15/100,I15/10))) -> 0 | K15: =IF(C15=0,0,IF(C15=1,0,IF(C15=3,I15/10,IF(C15=2,IF(D15<=введение!C$20*25,I15/100,I15/10))))) -> 2870 | M15: =IF(C15=3,0,IF(N15=1,0,D15-L15)) -> 80000 | O15: =M15*10% -> 8000 | Q15: =IF(C15=3,0,IF(N15=1,0,D15-O15-P15)) -> 72000 | R15: =IF(OR(Q15<=0,),0,MIN(MAX(введение!$C$11,Q15),введение!$C$14)) -> 72000 | S15: =ROUND(R15*введение!C$15,0) -> 2520 | U15: =ROUND(T15*0.05,0) -> 0 | V15: =IF(D15=0,0,1) -> 1 | X15: =IF(C15=3,0,IF(D15<=введение!C$20*25,0,0)) -> 0 | Y15: =IF(C15=3,0,IF(N15=1,0,D15-W15-X15)) -> 80000 | Z15: =IF(OR(Y15<=0,),0,MIN(MIN(введение!$C$17,Y15),введение!$C$17)) -> 80000 | AA15: =Z15*введение!C$18 -> 1600 | AB15: =Z15*введение!C$22 -> 800
A16: 3 | B16: Тур | C16: 3 | D16: 80000 | E16: =IF(C16=3,0,IF((D16-O16)>введение!C$11,введение!C$11,IF((D16-O16)<=введение!C$11,D16-O16,0))) -> 0 | F16: =IF(AB16>0,AB16,0) -> 0 | I16: =IF(C16=3,D16-H16,D16-H16-E16-O16-F16-G16) -> 80000 | J16: =IF(C16=0,0,IF(C16>1,0,IF(D16<=введение!C$20*25,I16/100,I16/10))) -> 0 | K16: =IF(C16=0,0,IF(C16=1,0,IF(C16=3,I16/10,IF(C16=2,IF(D16<=введение!C$20*25,I16/100,I16/10))))) -> 8000 | M16: =IF(C16=3,0,IF(N16=1,0,D16-L16)) -> 0 | O16: =M16*10% -> 0 | Q16: =IF(C16=3,0,IF(N16=1,0,D16-O16-P16)) -> 0 | R16: =IF(OR(Q16<=0,),0,MIN(MAX(введение!$C$11,Q16),введение!$C$14)) -> 0 | S16: =ROUND(R16*введение!C$15,0) -> 0 | U16: =ROUND(T16*0.05,0) -> 0 | V16: =IF(D16=0,0,1) -> 1 | X16: =IF(C16=3,0,IF(D16<=введение!C$20*25,0,0)) -> 0 | Y16: =IF(C16=3,0,IF(N16=1,0,D16-W16-X16)) -> 0 | Z16: =IF(OR(Y16<=0,),0,MIN(MIN(введение!$C$17,Y16),введение!$C$17)) -> 0 | AA16: =Z16*введение!C$18 -> 0 | AB16: =Z16*введение!C$22 -> 0
A17: 4 | E17: =IF(C17=3,0,IF((D17-O17)>введение!C$11,введение!C$11,IF((D17-O17)<=введение!C$11,D17-O17,0))) -> 0 | F17: =IF(AB17>0,AB17,0) -> 0 | I17: =IF(C17=3,D17-H17,D17-H17-E17-O17-F17-G17) -> 0 | J17: =IF(C17=0,0,IF(C17>1,0,IF(D17<=введение!C$20*25,I17/100,I17/10))) -> 0 | K17: =IF(C17=0,0,IF(C17=1,0,IF(C17=3,I17/10,IF(C17=2,IF(D17<=введение!C$20*25,I17/100,I17/10))))) -> 0 | M17: =IF(C17=3,0,IF(N17=1,0,D17-L17)) -> 0 | O17: =M17*10% -> 0 | Q17: =IF(C17=3,0,IF(N17=1,0,D17-O17-P17)) -> 0 | R17: =IF(OR(Q17<=0,),0,MIN(MAX(введение!$C$11,Q17),введение!$C$14)) -> 0 | S17: =ROUND(R17*введение!C$15,0) -> 0 | U17: =ROUND(T17*0.05,0) -> 0 | V17: =IF(D17=0,0,1) -> 0 | X17: =IF(C17=3,0,IF(D17<=введение!C$20*25,0,0)) -> 0 | Y17: =IF(C17=3,0,IF(N17=1,0,D17-W17-X17)) -> 0 | Z17: =IF(OR(Y17<=0,),0,MIN(MIN(введение!$C$17,Y17),введение!$C$17)) -> 0 | AA17: =Z17*введение!C$18 -> 0 | AB17: =Z17*введение!C$22 -> 0
A18: 5 | E18: =IF(C18=3,0,IF((D18-O18)>введение!C$11,введение!C$11,IF((D18-O18)<=введение!C$11,D18-O18,0))) -> 0 | F18: =IF(AB18>0,AB18,0) -> 0 | I18: =IF(C18=3,D18-H18,D18-H18-E18-O18-F18-G18) -> 0 | J18: =IF(C18=0,0,IF(C18>1,0,IF(D18<=введение!C$20*25,I18/100,I18/10))) -> 0 | K18: =IF(C18=0,0,IF(C18=1,0,IF(C18=3,I18/10,IF(C18=2,IF(D18<=введение!C$20*25,I18/100,I18/10))))) -> 0 | M18: =IF(C18=3,0,IF(N18=1,0,D18-L18)) -> 0 | O18: =M18*10% -> 0 | Q18: =IF(C18=3,0,IF(N18=1,0,D18-O18-P18)) -> 0 | R18: =IF(OR(Q18<=0,),0,MIN(MAX(введение!$C$11,Q18),введение!$C$14)) -> 0 | S18: =ROUND(R18*введение!C$15,0) -> 0 | U18: =ROUND(T18*0.05,0) -> 0 | V18: =IF(D18=0,0,1) -> 0 | X18: =IF(C18=3,0,IF(D18<=введение!C$20*25,0,0)) -> 0 | Y18: =IF(C18=3,0,IF(N18=1,0,D18-W18-X18)) -> 0 | Z18: =IF(OR(Y18<=0,),0,MIN(MIN(введение!$C$17,Y18),введение!$C$17)) -> 0 | AA18: =Z18*введение!C$18 -> 0 | AB18: =Z18*введение!C$22 -> 0
A19: 6 | E19: =IF(C19=3,0,IF((D19-O19)>введение!C$11,введение!C$11,IF((D19-O19)<=введение!C$11,D19-O19,0))) -> 0 | F19: =IF(AB19>0,AB19,0) -> 0 | I19: =IF(C19=3,D19-H19,D19-H19-E19-O19-F19-G19) -> 0 | J19: =IF(C19=0,0,IF(C19>1,0,IF(D19<=введение!C$20*25,I19/100,I19/10))) -> 0 | K19: =IF(C19=0,0,IF(C19=1,0,IF(C19=3,I19/10,IF(C19=2,IF(D19<=введение!C$20*25,I19/100,I19/10))))) -> 0 | M19: =IF(C19=3,0,IF(N19=1,0,D19-L19)) -> 0 | O19: =M19*10% -> 0 | Q19: =IF(C19=3,0,IF(N19=1,0,D19-O19-P19)) -> 0 | R19: =IF(OR(Q19<=0,),0,MIN(MAX(введение!$C$11,Q19),введение!$C$14)) -> 0 | S19: =ROUND(R19*введение!C$15,0) -> 0 | U19: =ROUND(T19*0.05,0) -> 0 | V19: =IF(D19=0,0,1) -> 0 | X19: =IF(C19=3,0,IF(D19<=введение!C$20*25,0,0)) -> 0 | Y19: =IF(C19=3,0,IF(N19=1,0,D19-W19-X19)) -> 0 | Z19: =IF(OR(Y19<=0,),0,MIN(MIN(введение!$C$17,Y19),введение!$C$17)) -> 0 | AA19: =Z19*введение!C$18 -> 0 | AB19: =Z19*введение!C$22 -> 0
A20: 7 | E20: =IF(C20=3,0,IF((D20-O20)>введение!C$11,введение!C$11,IF((D20-O20)<=введение!C$11,D20-O20,0))) -> 0 | F20: =IF(AB20>0,AB20,0) -> 0 | I20: =IF(C20=3,D20-H20,D20-H20-E20-O20-F20-G20) -> 0 | J20: =IF(C20=0,0,IF(C20>1,0,IF(D20<=введение!C$20*25,I20/100,I20/10))) -> 0 | K20: =IF(C20=0,0,IF(C20=1,0,IF(C20=3,I20/10,IF(C20=2,IF(D20<=введение!C$20*25,I20/100,I20/10))))) -> 0 | M20: =IF(C20=3,0,IF(N20=1,0,D20-L20)) -> 0 | O20: =M20*10% -> 0 | Q20: =IF(C20=3,0,IF(N20=1,0,D20-O20-P20)) -> 0 | R20: =IF(OR(Q20<=0,),0,MIN(MAX(введение!$C$11,Q20),введение!$C$14)) -> 0 | S20: =ROUND(R20*введение!C$15,0) -> 0 | U20: =ROUND(T20*0.05,0) -> 0 | V20: =IF(D20=0,0,1) -> 0 | X20: =IF(C20=3,0,IF(D20<=введение!C$20*25,0,0)) -> 0 | Y20: =IF(C20=3,0,IF(N20=1,0,D20-W20-X20)) -> 0 | Z20: =IF(OR(Y20<=0,),0,MIN(MIN(введение!$C$17,Y20),введение!$C$17)) -> 0 | AA20: =Z20*введение!C$18 -> 0 | AB20: =Z20*введение!C$22 -> 0
A21: 8 | E21: =IF(C21=3,0,IF((D21-O21)>введение!C$11,введение!C$11,IF((D21-O21)<=введение!C$11,D21-O21,0))) -> 0 | F21: =IF(AB21>0,AB21,0) -> 0 | I21: =IF(C21=3,D21-H21,D21-H21-E21-O21-F21-G21) -> 0 | J21: =IF(C21=0,0,IF(C21>1,0,IF(D21<=введение!C$20*25,I21/100,I21/10))) -> 0 | K21: =IF(C21=0,0,IF(C21=1,0,IF(C21=3,I21/10,IF(C21=2,IF(D21<=введение!C$20*25,I21/100,I21/10))))) -> 0 | M21: =IF(C21=3,0,IF(N21=1,0,D21-L21)) -> 0 | O21: =M21*10% -> 0 | Q21: =IF(C21=3,0,IF(N21=1,0,D21-O21-P21)) -> 0 | R21: =IF(OR(Q21<=0,),0,MIN(MAX(введение!$C$11,Q21),введение!$C$14)) -> 0 | S21: =ROUND(R21*введение!C$15,0) -> 0 | U21: =ROUND(T21*0.05,0) -> 0 | V21: =IF(D21=0,0,1) -> 0 | X21: =IF(C21=3,0,IF(D21<=введение!C$20*25,0,0)) -> 0 | Y21: =IF(C21=3,0,IF(N21=1,0,D21-W21-X21)) -> 0 | Z21: =IF(OR(Y21<=0,),0,MIN(MIN(введение!$C$17,Y21),введение!$C$17)) -> 0 | AA21: =Z21*введение!C$18 -> 0 | AB21: =Z21*введение!C$22 -> 0
A22: 9 | E22: =IF(C22=3,0,IF((D22-O22)>введение!C$11,введение!C$11,IF((D22-O22)<=введение!C$11,D22-O22,0))) -> 0 | F22: =IF(AB22>0,AB22,0) -> 0 | I22: =IF(C22=3,D22-H22,D22-H22-E22-O22-F22-G22) -> 0 | J22: =IF(C22=0,0,IF(C22>1,0,IF(D22<=введение!C$20*25,I22/100,I22/10))) -> 0 | K22: =IF(C22=0,0,IF(C22=1,0,IF(C22=3,I22/10,IF(C22=2,IF(D22<=введение!C$20*25,I22/100,I22/10))))) -> 0 | M22: =IF(C22=3,0,IF(N22=1,0,D22-L22)) -> 0 | O22: =M22*10% -> 0 | Q22: =IF(C22=3,0,IF(N22=1,0,D22-O22-P22)) -> 0 | R22: =IF(OR(Q22<=0,),0,MIN(MAX(введение!$C$11,Q22),введение!$C$14)) -> 0 | S22: =ROUND(R22*введение!C$15,0) -> 0 | U22: =ROUND(T22*0.05,0) -> 0 | V22: =IF(D22=0,0,1) -> 0 | X22: =IF(C22=3,0,IF(D22<=введение!C$20*25,0,0)) -> 0 | Y22: =IF(C22=3,0,IF(N22=1,0,D22-W22-X22)) -> 0 | Z22: =IF(OR(Y22<=0,),0,MIN(MIN(введение!$C$17,Y22),введение!$C$17)) -> 0 | AA22: =Z22*введение!C$18 -> 0 | AB22: =Z22*введение!C$22 -> 0
A23: 10 | E23: =IF(C23=3,0,IF((D23-O23)>введение!C$11,введение!C$11,IF((D23-O23)<=введение!C$11,D23-O23,0))) -> 0 | F23: =IF(AB23>0,AB23,0) -> 0 | I23: =IF(C23=3,D23-H23,D23-H23-E23-O23-F23-G23) -> 0 | J23: =IF(C23=0,0,IF(C23>1,0,IF(D23<=введение!C$20*25,I23/100,I23/10))) -> 0 | K23: =IF(C23=0,0,IF(C23=1,0,IF(C23=3,I23/10,IF(C23=2,IF(D23<=введение!C$20*25,I23/100,I23/10))))) -> 0 | M23: =IF(C23=3,0,IF(N23=1,0,D23-L23)) -> 0 | O23: =M23*10% -> 0 | Q23: =IF(C23=3,0,IF(N23=1,0,D23-O23-P23)) -> 0 | R23: =IF(OR(Q23<=0,),0,MIN(MAX(введение!$C$11,Q23),введение!$C$14)) -> 0 | S23: =ROUND(R23*введение!C$15,0) -> 0 | U23: =ROUND(T23*0.05,0) -> 0 | V23: =IF(D23=0,0,1) -> 0 | X23: =IF(C23=3,0,IF(D23<=введение!C$20*25,0,0)) -> 0 | Y23: =IF(C23=3,0,IF(N23=1,0,D23-W23-X23)) -> 0 | Z23: =IF(OR(Y23<=0,),0,MIN(MIN(введение!$C$17,Y23),введение!$C$17)) -> 0 | AA23: =Z23*введение!C$18 -> 0 | AB23: =Z23*введение!C$22 -> 0
A24: 11 | E24: =IF(C24=3,0,IF((D24-O24)>введение!C$11,введение!C$11,IF((D24-O24)<=введение!C$11,D24-O24,0))) -> 0 | F24: =IF(AB24>0,AB24,0) -> 0 | I24: =IF(C24=3,D24-H24,D24-H24-E24-O24-F24-G24) -> 0 | J24: =IF(C24=0,0,IF(C24>1,0,IF(D24<=введение!C$20*25,I24/100,I24/10))) -> 0 | K24: =IF(C24=0,0,IF(C24=1,0,IF(C24=3,I24/10,IF(C24=2,IF(D24<=введение!C$20*25,I24/100,I24/10))))) -> 0 | M24: =IF(C24=3,0,IF(N24=1,0,D24-L24)) -> 0 | O24: =M24*10% -> 0 | Q24: =IF(C24=3,0,IF(N24=1,0,D24-O24-P24)) -> 0 | R24: =IF(OR(Q24<=0,),0,MIN(MAX(введение!$C$11,Q24),введение!$C$14)) -> 0 | S24: =ROUND(R24*введение!C$15,0) -> 0 | U24: =ROUND(T24*0.05,0) -> 0 | V24: =IF(D24=0,0,1) -> 0 | X24: =IF(C24=3,0,IF(D24<=введение!C$20*25,0,0)) -> 0 | Y24: =IF(C24=3,0,IF(N24=1,0,D24-W24-X24)) -> 0 | Z24: =IF(OR(Y24<=0,),0,MIN(MIN(введение!$C$17,Y24),введение!$C$17)) -> 0 | AA24: =Z24*введение!C$18 -> 0 | AB24: =Z24*введение!C$22 -> 0
A25: 12 | E25: =IF(C25=3,0,IF((D25-O25)>введение!C$11,введение!C$11,IF((D25-O25)<=введение!C$11,D25-O25,0))) -> 0 | F25: =IF(AB25>0,AB25,0) -> 0 | I25: =IF(C25=3,D25-H25,D25-H25-E25-O25-F25-G25) -> 0 | J25: =IF(C25=0,0,IF(C25>1,0,IF(D25<=введение!C$20*25,I25/100,I25/10))) -> 0 | K25: =IF(C25=0,0,IF(C25=1,0,IF(C25=3,I25/10,IF(C25=2,IF(D25<=введение!C$20*25,I25/100,I25/10))))) -> 0 | M25: =IF(C25=3,0,IF(N25=1,0,D25-L25)) -> 0 | O25: =M25*10% -> 0 | Q25: =IF(C25=3,0,IF(N25=1,0,D25-O25-P25)) -> 0 | R25: =IF(OR(Q25<=0,),0,MIN(MAX(введение!$C$11,Q25),введение!$C$14)) -> 0 | S25: =ROUND(R25*введение!C$15,0) -> 0 | U25: =ROUND(T25*0.05,0) -> 0 | V25: =IF(D25=0,0,1) -> 0 | X25: =IF(C25=3,0,IF(D25<=введение!C$20*25,0,0)) -> 0 | Y25: =IF(C25=3,0,IF(N25=1,0,D25-W25-X25)) -> 0 | Z25: =IF(OR(Y25<=0,),0,MIN(MIN(введение!$C$17,Y25),введение!$C$17)) -> 0 | AA25: =Z25*введение!C$18 -> 0 | AB25: =Z25*введение!C$22 -> 0
A26: Итого: | D26: =SUM(D14:D25) -> 270000 | E26: =SUM(E14:E25) -> 85000 | F26: =SUM(F14:F25) -> 1900 | G26: =SUM(G14:G25) -> 0 | H26: =SUM(H14:H25) -> 0 | I26: =SUM(I14:I25) -> 164100 | J26: =SUM(J14:J25) -> 5540 | K26: =SUM(K14:K25) -> 10870 | ... AB26: =SUM(AB14:AB25) -> 1900 | AC26: =IF(D26>0,D26/V26,0) -> 90000
A28: (Ф.И.О., подпись руководителя (налогоплательщика), печать)
A31: (Ф.И.О., подпись главного бухгалтера )
A34: (Ф.И.О., подпись лица, ответственного за составление налогового регистра)
A37: (Дата составления налогового регистра)

Sheet № 2.4 Начис. доходы работ
S2: Форма 910.00
A5: Наименование налогоплательщика
A7: 1 | B7: РНН
A8: 2 | B8: ИИН (БИН) | D8: ='№ 910 Декларация '!D8 -> 0
A9: 3 | B9: Налоговый период: месяц Год | D9: =IF('№ 910 Декларация '!L12=1,"апрель","октябрь") -> октябрь | E9: ='№ 910 Декларация '!O12 -> 2020
A11: Налоговый регистр: "Начисленные доходы работникам для целей налогообложения в четвертом месяце полугодия"
A13: № п/п | B13: Ф.И.О. работника | C13: Признак резиденства: гражданин РК - 1; иностранный гражданин резидент - 2; иностранный гражданин нерезидент - 3 | D13: начисленный доход | E13: примененный вычет | F13: вычет взносов ОСМС | G13: прочие вычеты | H13: Доходы, не облагаемые ИПН | I13: Доходы, облагаемые ИПН | J13: Индивидуальный подоходный налог с доходов граждан РК | K13: Индивидуальный подоходный налог с доходов иностранцев и лиц без гражданства | L13: Доходы, не облагаемые ОПВ | M13: Доход для исчисления обязательных пенсионных взносов | N13: Пенсионер (если да, то нужно поставить 1) | O13: Обязательные пенсионные взносы | P13: Доходы не облагаемые СО | Q13: Предварительный расчет объекта для исчисления СО | R13: Доход для исчисления социальных очтислений | S13: Обязательные социальные отчисления | T13: Доход для исчисления обязательных профессиональных пенсионных взносов | U13: Обязательные профессиональные пенсионные взносы | V13: Численность работников | W13: Доходы не принимаемые для исчисления ОСМС | X13: Корректировка дохода 90% | Y13: Предварительный расчет объекта для исчисления ОСМС | Z13: Доходы принимаемые для исчисления ОСМС | AA13: Сумма отчислений на обязательное социальное медицинское страхование, к уплате | AB13: Сумма взносов на обязательное социальное медицинское страхование, к уплате | AC13: Среднемесячная заработная плата на одного работника
A14: 1 | B14: РК | C14: 1 | D14: 110000 | E14: =IF(C14=3,0,IF((D14-O14)>введение!C$11,введение!C$11,IF((D14-O14)<=введение!C$11,D14-O14,0))) -> 42500 | F14: =IF(AB14>0,AB14,0) -> 1100 | I14: =IF(C14=3,D14-H14,D14-H14-E14-O14-F14-G14) -> 55400 | J14: =IF(C14=0,0,IF(C14>1,0,IF(D14<=введение!C$20*25,I14/100,I14/10))) -> 5540 | K14: =IF(C14=0,0,IF(C14=1,0,IF(C14=3,I14/10,IF(C14=2,IF(D14<=введение!C$20*25,I14/100,I14/10))))) -> 0 | M14: =IF(C14=3,0,IF(N14=1,0,D14-L14)) -> 110000 | O14: =M14*10% -> 11000 | Q14: =IF(C14=3,0,IF(N14=1,0,D14-O14-P14)) -> 99000 | R14: =IF(OR(Q14<=0,),0,MIN(MAX(введение!$C$11,Q14),введение!$C$14)) -> 99000 | S14: =ROUND(R14*введение!C$15,0) -> 3465 | U14: =ROUND(T14*0.05,0) -> 0 | V14: =IF(D14=0,0,1) -> 1 | X14: =IF(C14=3,0,IF(D14<=введение!C$20*25,0,0)) -> 0 | Y14: =IF(C14=3,0,IF(N14=1,0,D14-W14-X14)) -> 110000 | Z14: =IF(OR(Y14<=0,),0,MIN(MIN(введение!$C$17,Y14),введение!$C$17)) -> 110000 | AA14: =Z14*введение!C$18 -> 2200 | AB14: =Z14*введение!C$22 -> 1100
A15: 2 | B15: РФ | C15: 2 | D15: 80000 | E15: =IF(C15=3,0,IF((D15-O15)>введение!C$11,введение!C$11,IF((D15-O15)<=введение!C$11,D15-O15,0))) -> 42500 | F15: =IF(AB15>0,AB15,0) -> 800 | I15: =IF(C15=3,D15-H15,D15-H15-E15-O15-F15-G15) -> 28700 | J15: =IF(C15=0,0,IF(C15>1,0,IF(D15<=введение!C$20*25,I15/100,I15/10))) -> 0 | K15: =IF(C15=0,0,IF(C15=1,0,IF(C15=3,I15/10,IF(C15=2,IF(D15<=введение!C$20*25,I15/100,I15/10))))) -> 2870 | M15: =IF(C15=3,0,IF(N15=1,0,D15-L15)) -> 80000 | O15: =M15*10% -> 8000 | Q15: =IF(C15=3,0,IF(N15=1,0,D15-O15-P15)) -> 72000 | R15: =IF(OR(Q15<=0,),0,MIN(MAX(введение!$C$11,Q15),введение!$C$14)) -> 72000 | S15: =ROUND(R15*введение!C$15,0) -> 2520 | U15: =ROUND(T15*0.05,0) -> 0 | V15: =IF(D15=0,0,1) -> 1 | X15: =IF(C15=3,0,IF(D15<=введение!C$20*25,0,0)) -> 0 | Y15: =IF(C15=3,0,IF(N15=1,0,D15-W15-X15)) -> 80000 | Z15: =IF(OR(Y15<=0,),0,MIN(MIN(введение!$C$17,Y15),введение!$C$17)) -> 80000 | AA15: =Z15*введение!C$18 -> 1600 | AB15: =Z15*введение!C$22 -> 800
A16: 3 | B16: Тур | C16: 3 | D16: 80000 | E16: =IF(C16=3,0,IF((D16-O16)>введение!C$11,введение!C$11,IF((D16-O16)<=введение!C$11,D16-O16,0))) -> 0 | F16: =IF(AB16>0,AB16,0) -> 0 | I16: =IF(C16=3,D16-H16,D16-H16-E16-O16-F16-G16) -> 80000 | J16: =IF(C16=0,0,IF(C16>1,0,IF(D16<=введение!C$20*25,I16/100,I16/10))) -> 0 | K16: =IF(C16=0,0,IF(C16=1,0,IF(C16=3,I16/10,IF(C16=2,IF(D16<=введение!C$20*25,I16/100,I16/10))))) -> 8000 | M16: =IF(C16=3,0,IF(N16=1,0,D16-L16)) -> 0 | O16: =M16*10% -> 0 | Q16: =IF(C16=3,0,IF(N16=1,0,D16-O16-P16)) -> 0 | R16: =IF(OR(Q16<=0,),0,MIN(MAX(введение!$C$11,Q16),введение!$C$14)) -> 0 | S16: =ROUND(R16*введение!C$15,0) -> 0 | U16: =ROUND(T16*0.05,0) -> 0 | V16: =IF(D16=0,0,1) -> 1 | X16: =IF(C16=3,0,IF(D16<=введение!C$20*25,0,0)) -> 0 | Y16: =IF(C16=3,0,IF(N16=1,0,D16-W16-X16)) -> 0 | Z16: =IF(OR(Y16<=0,),0,MIN(MIN(введение!$C$17,Y16),введение!$C$17)) -> 0 | AA16: =Z16*введение!C$18 -> 0 | AB16: =Z16*введение!C$22 -> 0
A17: 4 | E17: =IF(C17=3,0,IF((D17-O17)>введение!C$11,введение!C$11,IF((D17-O17)<=введение!C$11,D17-O17,0))) -> 0 | F17: =IF(AB17>0,AB17,0) -> 0 | I17: =IF(C17=3,D17-H17,D17-H17-E17-O17-F17-G17) -> 0 | J17: =IF(C17=0,0,IF(C17>1,0,IF(D17<=введение!C$20*25,I17/100,I17/10))) -> 0 | K17: =IF(C17=0,0,IF(C17=1,0,IF(C17=3,I17/10,IF(C17=2,IF(D17<=введение!C$20*25,I17/100,I17/10))))) -> 0 | M17: =IF(C17=3,0,IF(N17=1,0,D17-L17)) -> 0 | O17: =M17*10% -> 0 | Q17: =IF(C17=3,0,IF(N17=1,0,D17-O17-P17)) -> 0 | R17: =IF(OR(Q17<=0,),0,MIN(MAX(введение!$C$11,Q17),введение!$C$14)) -> 0 | S17: =ROUND(R17*введение!C$15,0) -> 0 | U17: =ROUND(T17*0.05,0) -> 0 | V17: =IF(D17=0,0,1) -> 0 | X17: =IF(C17=3,0,IF(D17<=введение!C$20*25,0,0)) -> 0 | Y17: =IF(C17=3,0,IF(N17=1,0,D17-W17-X17)) -> 0 | Z17: =IF(OR(Y17<=0,),0,MIN(MIN(введение!$C$17,Y17),введение!$C$17)) -> 0 | AA17: =Z17*введение!C$18 -> 0 | AB17: =Z17*введение!C$22 -> 0
A18: 5 | E18: =IF(C18=3,0,IF((D18-O18)>введение!C$11,введение!C$11,IF((D18-O18)<=введение!C$11,D18-O18,0))) -> 0 | F18: =IF(AB18>0,AB18,0) -> 0 | I18: =IF(C18=3,D18-H18,D18-H18-E18-O18-F18-G18) -> 0 | J18: =IF(C18=0,0,IF(C18>1,0,IF(D18<=введение!C$20*25,I18/100,I18/10))) -> 0 | K18: =IF(C18=0,0,IF(C18=1,0,IF(C18=3,I18/10,IF(C18=2,IF(D18<=введение!C$20*25,I18/100,I18/10))))) -> 0 | M18: =IF(C18=3,0,IF(N18=1,0,D18-L18)) -> 0 | O18: =M18*10% -> 0 | Q18: =IF(C18=3,0,IF(N18=1,0,D18-O18-P18)) -> 0 | R18: =IF(OR(Q18<=0,),0,MIN(MAX(введение!$C$11,Q18),введение!$C$14)) -> 0 | S18: =ROUND(R18*введение!C$15,0) -> 0 | U18: =ROUND(T18*0.05,0) -> 0 | V18: =IF(D18=0,0,1) -> 0 | X18: =IF(C18=3,0,IF(D18<=введение!C$20*25,0,0)) -> 0 | Y18: =IF(C18=3,0,IF(N18=1,0,D18-W18-X18)) -> 0 | Z18: =IF(OR(Y18<=0,),0,MIN(MIN(введение!$C$17,Y18),введение!$C$17)) -> 0 | AA18: =Z18*введение!C$18 -> 0 | AB18: =Z18*введение!C$22 -> 0
A19: 6 | E19: =IF(C19=3,0,IF((D19-O19)>введение!C$11,введение!C$11,IF((D19-O19)<=введение!C$11,D19-O19,0))) -> 0 | F19: =IF(AB19>0,AB19,0) -> 0 | I19: =IF(C19=3,D19-H19,D19-H19-E19-O19-F19-G19) -> 0 | J19: =IF(C19=0,0,IF(C19>1,0,IF(D19<=введение!C$20*25,I19/100,I19/10))) -> 0 | K19: =IF(C19=0,0,IF(C19=1,0,IF(C19=3,I19/10,IF(C19=2,IF(D19<=введение!C$20*25,I19/100,I19/10))))) -> 0 | M19: =IF(C19=3,0,IF(N19=1,0,D19-L19)) -> 0 | O19: =M19*10% -> 0 | Q19: =IF(C19=3,0,IF(N19=1,0,D19-O19-P19)) -> 0 | R19: =IF(OR(Q19<=0,),0,MIN(MAX(введение!$C$11,Q19),введение!$C$14)) -> 0 | S19: =ROUND(R19*введение!C$15,0) -> 0 | U19: =ROUND(T19*0.05,0) -> 0 | V19: =IF(D19=0,0,1) -> 0 | X19: =IF(C19=3,0,IF(D19<=введение!C$20*25,0,0)) -> 0 | Y19: =IF(C19=3,0,IF(N19=1,0,D19-W19-X19)) -> 0 | Z19: =IF(OR(Y19<=0,),0,MIN(MIN(введение!$C$17,Y19),введение!$C$17)) -> 0 | AA19: =Z19*введение!C$18 -> 0 | AB19: =Z19*введение!C$22 -> 0
A20: 7 | E20: =IF(C20=3,0,IF((D20-O20)>введение!C$11,введение!C$11,IF((D20-O20)<=введение!C$11,D20-O20,0))) -> 0 | F20: =IF(AB20>0,AB20,0) -> 0 | I20: =IF(C20=3,D20-H20,D20-H20-E20-O20-F20-G20) -> 0 | J20: =IF(C20=0,0,IF(C20>1,0,IF(D20<=введение!C$20*25,I20/100,I20/10))) -> 0 | K20: =IF(C20=0,0,IF(C20=1,0,IF(C20=3,I20/10,IF(C20=2,IF(D20<=введение!C$20*25,I20/100,I20/10))))) -> 0 | M20: =IF(C20=3,0,IF(N20=1,0,D20-L20)) -> 0 | O20: =M20*10% -> 0 | Q20: =IF(C20=3,0,IF(N20=1,0,D20-O20-P20)) -> 0 | R20: =IF(OR(Q20<=0,),0,MIN(MAX(введение!$C$11,Q20),введение!$C$14)) -> 0 | S20: =ROUND(R20*введение!C$15,0) -> 0 | U20: =ROUND(T20*0.05,0) -> 0 | V20: =IF(D20=0,0,1) -> 0 | X20: =IF(C20=3,0,IF(D20<=введение!C$20*25,0,0)) -> 0 | Y20: =IF(C20=3,0,IF(N20=1,0,D20-W20-X20)) -> 0 | Z20: =IF(OR(Y20<=0,),0,MIN(MIN(введение!$C$17,Y20),введение!$C$17)) -> 0 | AA20: =Z20*введение!C$18 -> 0 | AB20: =Z20*введение!C$22 -> 0
A21: 8 | E21: =IF(C21=3,0,IF((D21-O21)>введение!C$11,введение!C$11,IF((D21-O21)<=введение!C$11,D21-O21,0))) -> 0 | F21: =IF(AB21>0,AB21,0) -> 0 | I21: =IF(C21=3,D21-H21,D21-H21-E21-O21-F21-G21) -> 0 | J21: =IF(C21=0,0,IF(C21>1,0,IF(D21<=введение!C$20*25,I21/100,I21/10))) -> 0 | K21: =IF(C21=0,0,IF(C21=1,0,IF(C21=3,I21/10,IF(C21=2,IF(D21<=введение!C$20*25,I21/100,I21/10))))) -> 0 | M21: =IF(C21=3,0,IF(N21=1,0,D21-L21)) -> 0 | O21: =M21*10% -> 0 | Q21: =IF(C21=3,0,IF(N21=1,0,D21-O21-P21)) -> 0 | R21: =IF(OR(Q21<=0,),0,MIN(MAX(введение!$C$11,Q21),введение!$C$14)) -> 0 | S21: =ROUND(R21*введение!C$15,0) -> 0 | U21: =ROUND(T21*0.05,0) -> 0 | V21: =IF(D21=0,0,1) -> 0 | X21: =IF(C21=3,0,IF(D21<=введение!C$20*25,0,0)) -> 0 | Y21: =IF(C21=3,0,IF(N21=1,0,D21-W21-X21)) -> 0 | Z21: =IF(OR(Y21<=0,),0,MIN(MIN(введение!$C$17,Y21),введение!$C$17)) -> 0 | AA21: =Z21*введение!C$18 -> 0 | AB21: =Z21*введение!C$22 -> 0
A22: 9 | E22: =IF(C22=3,0,IF((D22-O22)>введение!C$11,введение!C$11,IF((D22-O22)<=введение!C$11,D22-O22,0))) -> 0 | F22: =IF(AB22>0,AB22,0) -> 0 | I22: =IF(C22=3,D22-H22,D22-H22-E22-O22-F22-G22) -> 0 | J22: =IF(C22=0,0,IF(C22>1,0,IF(D22<=введение!C$20*25,I22/100,I22/10))) -> 0 | K22: =IF(C22=0,0,IF(C22=1,0,IF(C22=3,I22/10,IF(C22=2,IF(D22<=введение!C$20*25,I22/100,I22/10))))) -> 0 | M22: =IF(C22=3,0,IF(N22=1,0,D22-L22)) -> 0 | O22: =M22*10% -> 0 | Q22: =IF(C22=3,0,IF(N22=1,0,D22-O22-P22)) -> 0 | R22: =IF(OR(Q22<=0,),0,MIN(MAX(введение!$C$11,Q22),введение!$C$14)) -> 0 | S22: =ROUND(R22*введение!C$15,0) -> 0 | U22: =ROUND(T22*0.05,0) -> 0 | V22: =IF(D22=0,0,1) -> 0 | X22: =IF(C22=3,0,IF(D22<=введение!C$20*25,0,0)) -> 0 | Y22: =IF(C22=3,0,IF(N22=1,0,D22-W22-X22)) -> 0 | Z22: =IF(OR(Y22<=0,),0,MIN(MIN(введение!$C$17,Y22),введение!$C$17)) -> 0 | AA22: =Z22*введение!C$18 -> 0 | AB22: =Z22*введение!C$22 -> 0
A23: 10 | E23: =IF(C23=3,0,IF((D23-O23)>введение!C$11,введение!C$11,IF((D23-O23)<=введение!C$11,D23-O23,0))) -> 0 | F23: =IF(AB23>0,AB23,0) -> 0 | I23: =IF(C23=3,D23-H23,D23-H23-E23-O23-F23-G23) -> 0 | J23: =IF(C23=0,0,IF(C23>1,0,IF(D23<=введение!C$20*25,I23/100,I23/10))) -> 0 | K23: =IF(C23=0,0,IF(C23=1,0,IF(C23=3,I23/10,IF(C23=2,IF(D23<=введение!C$20*25,I23/100,I23/10))))) -> 0 | M23: =IF(C23=3,0,IF(N23=1,0,D23-L23)) -> 0 | O23: =M23*10% -> 0 | Q23: =IF(C23=3,0,IF(N23=1,0,D23-O23-P23)) -> 0 | R23: =IF(OR(Q23<=0,),0,MIN(MAX(введение!$C$11,Q23),введение!$C$14)) -> 0 | S23: =ROUND(R23*введение!C$15,0) -> 0 | U23: =ROUND(T23*0.05,0) -> 0 | V23: =IF(D23=0,0,1) -> 0 | X23: =IF(C23=3,0,IF(D23<=введение!C$20*25,0,0)) -> 0 | Y23: =IF(C23=3,0,IF(N23=1,0,D23-W23-X23)) -> 0 | Z23: =IF(OR(Y23<=0,),0,MIN(MIN(введение!$C$17,Y23),введение!$C$17)) -> 0 | AA23: =Z23*введение!C$18 -> 0 | AB23: =Z23*введение!C$22 -> 0
